From mboxrd@z Thu Jan  1 00:00:00 1970
Return-Path: <test-report-bounces@dpdk.org>
Received: from mails.dpdk.org (mails.dpdk.org [217.70.189.124])
	by inbox.dpdk.org (Postfix) with ESMTP id 7D68145648
	for <public@inbox.dpdk.org>; Thu, 18 Jul 2024 17:20:57 +0200 (CEST)
Received: from mails.dpdk.org (localhost [127.0.0.1])
	by mails.dpdk.org (Postfix) with ESMTP id 7993040672;
	Thu, 18 Jul 2024 17:20:57 +0200 (CEST)
Received: from mail-il1-f227.google.com (mail-il1-f227.google.com
 [209.85.166.227])
 by mails.dpdk.org (Postfix) with ESMTP id AD668402BE
 for <test-report@dpdk.org>; Thu, 18 Jul 2024 17:20:56 +0200 (CEST)
Received: by mail-il1-f227.google.com with SMTP id
 e9e14a558f8ab-38257b4283dso4106505ab.2
 for <test-report@dpdk.org>; Thu, 18 Jul 2024 08:20:56 -0700 (PDT)
DKIM-Signature: v=1; a=rsa-sha256; c=relaxed/relaxed;
 d=iol.unh.edu; s=unh-iol; t=1721316056; x=1721920856; darn=dpdk.org;
 h=references:in-reply-to:cc:to:from:subject:message-id:date:from:to
 :cc:subject:date:message-id:reply-to;
 bh=UfED0ITiYIuKQsUTGdWSzIA90jFXkspnYLjg6EOqcds=;
 b=MAv3MscfYobk0LJyTGGIiLKAGqe67OW0wsnbk2fPvv4+qkfb8VJ+R70KEV+IOtx1Xv
 bxYKeCbKlsrXK6EVJLJtdyK5QCKMrCxo2stT+66VjeH3CKgBCBzGLyCBAET2UzcIXel7
 LdPkVAks/VL9+ZFbwPmRwL1lv6gs08cpIJI3I=
X-Google-DKIM-Signature: v=1; a=rsa-sha256; c=relaxed/relaxed;
 d=1e100.net; s=20230601; t=1721316056; x=1721920856;
 h=references:in-reply-to:cc:to:from:subject:message-id:date
 :x-gm-message-state:from:to:cc:subject:date:message-id:reply-to;
 bh=UfED0ITiYIuKQsUTGdWSzIA90jFXkspnYLjg6EOqcds=;
 b=wUpS9nNtn2hKEglp3S5AR0jU3njhIlrvLMHvWz6NRIgyaM7byRxro5dqve0rLyLci2
 LPqiR/OwZ6CO92CmKf46O8KfOfb+hM1YVndeSugTmucyBM/9wnVDM977p9jpGz/vfLk1
 ze4D6F0LSPND2ADXG3YHnP/otQ9s7ACHrdUuJ5GGZcSdBqWlzam/Y3dHAv9bsAAZ/+Tx
 LzTTfNeZoM7VaGqxUVK3h7mmE91zmKRH5BCqfEZVRTAg1xoPaTnh3/3q4XN3V9dC3fyh
 86bo55hpkcpnUnzOuFMq3oqMY9Ap/Iho2UROnikOrN3RBwf8g8FHIi54UjOV4ZnCfJth
 bNjg==
X-Gm-Message-State: AOJu0Yw2itZsy5gLx0n5EAsIbiha3y1f4IqRM2+GnlBJ6eYBhVe4NSkj
 +9P6RYQuVb8QYh2cno/DJIIPYSNmiV3Ih5kCp1qSugFxdD3nUj3ugbEadrLPjVctyWlfllc5igF
 uJIFVBAmcdISSvbGg3aXw4M1hsBZ2k7K+Dp3uRwKbJi4H11wYh4fTT1LN
X-Google-Smtp-Source: AGHT+IF5zJX75xcAXla5IG4M0ht7TX+bTwYTqLnuGHN1xRom5x9BntsD1nkDPTQnihfA8TqZO/thvDWQChvp
X-Received: by 2002:a05:6e02:1d8a:b0:396:d1c5:e70 with SMTP id
 e9e14a558f8ab-396d1c5106emr18745595ab.3.1721316056064; 
 Thu, 18 Jul 2024 08:20:56 -0700 (PDT)
Received: from postal.iol.unh.edu (postal.iol.unh.edu.
 [2606:4100:3880:1234::84]) by smtp-relay.gmail.com with ESMTPS id
 e9e14a558f8ab-3950cbe4bc9sm3195905ab.50.2024.07.18.08.20.55
 (version=TLS1_2 cipher=ECDHE-ECDSA-AES128-GCM-SHA256 bits=128/128);
 Thu, 18 Jul 2024 08:20:56 -0700 (PDT)
X-Relaying-Domain: iol.unh.edu
Date: Thu, 18 Jul 2024 08:20:56 -0700 (PDT)
Message-ID: <669932d8.050a0220.6674b.c02aSMTPIN_ADDED_MISSING@mx.google.com>
Received: from [172.21.0.7] (unknown [172.18.0.240])
 by postal.iol.unh.edu (Postfix) with ESMTP id ACE656052722;
 Thu, 18 Jul 2024 11:20:55 -0400 (EDT)
Subject: |PENDING| pw142503-142505 [PATCH] [v2,3/3] net/hns3: fix Rx packet w
From: dpdklab@iol.unh.edu
To: Test Report <test-report@dpdk.org>
Cc: dpdk-test-reports@iol.unh.edu
In-Reply-To: <20240718114806.577298-4-haijie1@huawei.com>
References: <20240718114806.577298-4-haijie1@huawei.com>
Content-Type: text/plain
X-BeenThere: test-report@dpdk.org
X-Mailman-Version: 2.1.29
Precedence: list
List-Id: automatic DPDK test reports <test-report.dpdk.org>
List-Unsubscribe: <https://mails.dpdk.org/options/test-report>,
 <mailto:test-report-request@dpdk.org?subject=unsubscribe>
List-Archive: <http://mails.dpdk.org/archives/test-report/>
List-Post: <mailto:test-report@dpdk.org>
List-Help: <mailto:test-report-request@dpdk.org?subject=help>
List-Subscribe: <https://mails.dpdk.org/listinfo/test-report>,
 <mailto:test-report-request@dpdk.org?subject=subscribe>
Errors-To: test-report-bounces@dpdk.org

Test-Label: iol-compile-amd64-testing
Test-Status: PENDING
http://dpdk.org/patch/142505

_Testing pending_

Submitter: Jie Hai <haijie1@huawei.com>
Date: Thursday, July 18 2024 11:48:05 
DPDK git baseline: Repo:dpdk
  Branch: master
  CommitID:3317515e9377c13e458e31a64f8987a9d1f2eaf6

142503-142505 --> testing pending

Upstream job id: Windows-Compile-DPDK-VS#2533

Test environment and result as below:

+---------------------+--------------------+----------------------+-------------------+
|     Environment     | dpdk_meson_compile | dpdk_mingw64_compile | dpdk_msvc_compile |
+=====================+====================+======================+===================+
| FreeBSD 13.3        | PASS               | SKIPPED              | SKIPPED           |
+---------------------+--------------------+----------------------+-------------------+
| Windows Server 2019 | PASS               | PEND                 | SKIPPED           |
+---------------------+--------------------+----------------------+-------------------+
| FreeBSD 14.1        | PASS               | SKIPPED              | SKIPPED           |
+---------------------+--------------------+----------------------+-------------------+
| Windows Server 2022 | PEND               | PASS                 | PASS              |
+---------------------+--------------------+----------------------+-------------------+


FreeBSD 13.3
	Kernel: 13.3-RELEASE-p1
	Compiler: clang 17.0.6

Windows Server 2019
	Kernel: 10.0.17763
	Compiler: clang 14.0 and gcc 8.1.0 (MinGW)

FreeBSD 14.1
	Kernel: 14.1
	Compiler: clang 18.1.5

Windows Server 2022
	Kernel: 10.0.20348.2031
	Compiler: clang 15.0.7, gcc 8.1.0 (MinGW), and MSVC VS 17.9

To view detailed results, visit:
https://lab.dpdk.org/results/dashboard/patchsets/30553/

UNH-IOL DPDK Community Lab

To manage your email subscriptions, visit: 
https://lab.dpdk.org/results/dashboard/preferences/subscriptions/