From mboxrd@z Thu Jan  1 00:00:00 1970
Return-Path: <test-report-bounces@dpdk.org>
Received: from mails.dpdk.org (mails.dpdk.org [217.70.189.124])
	by inbox.dpdk.org (Postfix) with ESMTP id CA05245646
	for <public@inbox.dpdk.org>; Thu, 18 Jul 2024 18:21:25 +0200 (CEST)
Received: from mails.dpdk.org (localhost [127.0.0.1])
	by mails.dpdk.org (Postfix) with ESMTP id C513B40E4F;
	Thu, 18 Jul 2024 18:21:25 +0200 (CEST)
Received: from mail-qt1-f225.google.com (mail-qt1-f225.google.com
 [209.85.160.225])
 by mails.dpdk.org (Postfix) with ESMTP id 8294840A79
 for <test-report@dpdk.org>; Thu, 18 Jul 2024 18:21:24 +0200 (CEST)
Received: by mail-qt1-f225.google.com with SMTP id
 d75a77b69052e-447dec80899so2397761cf.2
 for <test-report@dpdk.org>; Thu, 18 Jul 2024 09:21:24 -0700 (PDT)
DKIM-Signature: v=1; a=rsa-sha256; c=relaxed/relaxed;
 d=iol.unh.edu; s=unh-iol; t=1721319684; x=1721924484; darn=dpdk.org;
 h=references:in-reply-to:cc:to:from:subject:message-id:date:from:to
 :cc:subject:date:message-id:reply-to;
 bh=vUgGJ4c+k+B7yV9laQlY5/2iNVaWrni/Ho5InfqpFOI=;
 b=bopbMzyHla2xdxTCB3EiQybBormFkBlKUUbqw7AcVAvMOFi/2Y9A9yztEV7sQuh+it
 F2bO84m74zmaCFX+bLT5TOvnEdLJv+MteOv3qFO+ZmNnpSbVncLZu0eVv3XgMISd85If
 bDPdlo3abiRZ7lBABLtQ3bXu7cbb3UrWL7B9I=
X-Google-DKIM-Signature: v=1; a=rsa-sha256; c=relaxed/relaxed;
 d=1e100.net; s=20230601; t=1721319684; x=1721924484;
 h=references:in-reply-to:cc:to:from:subject:message-id:date
 :x-gm-message-state:from:to:cc:subject:date:message-id:reply-to;
 bh=vUgGJ4c+k+B7yV9laQlY5/2iNVaWrni/Ho5InfqpFOI=;
 b=uLJB/AoYrjRTw+pHHFdQuGvqHyHT5OpFxJfefsXSSXtfbehf8PCBDAO6uoHcg8fA+v
 X6xMb0hVkzRmdvE51KOSevT56Nch1HVcr0gV49rsyPq6OneVoBO0HsgblbKj/DngeH76
 gSPnPD6BsCtGpXjBlBmlkDnayODGY5aRn3IEmNqABtrAuDiWARwLV39AVkZI/PYb7rNX
 XUvavBtYs4vgKtP/p3wCdGHTt/rc2qEqjYRFFZ1fJ/VJ0wTYHwItXS4glK0j2POne5eL
 ujMYkAs/uYmUM3V6gKSTse5T+aWAvPiWGSwMLnfzpfWp88AFG6Aa141d6D7JmJjbStD5
 5KLA==
X-Gm-Message-State: AOJu0YweUP0QelBf3p5mb5z08AqgpevzmOTC8bQHlppJ3EmrX9RH+1Zs
 W8VEoCdGcWhfrGZOJJvcQQ0Bn7QNbdmGOhf/z3VphOOyjq5/26qnhStzee2W6kQrqlKBRwLq3F1
 LiuSr6qjtzzRthyPdXAhNsvJgt1soNbpkaZ+6m+zB
X-Google-Smtp-Source: AGHT+IGVSZqLRiagvw+vDOhtd6rc2rSroFSdbRF+c4qmBIxq/2BXXSpvZfcE9wS2iQWE/Eh7szHGptsy4QUb
X-Received: by 2002:a05:620a:1a9a:b0:79e:f82d:4d77 with SMTP id
 af79cd13be357-7a187526f7cmr570900485a.74.1721319683706; 
 Thu, 18 Jul 2024 09:21:23 -0700 (PDT)
Received: from postal.iol.unh.edu (postal.iol.unh.edu. [132.177.123.84])
 by smtp-relay.gmail.com with ESMTPS id
 d75a77b69052e-44f96a3972csm779191cf.12.2024.07.18.09.21.23
 (version=TLS1_2 cipher=ECDHE-ECDSA-AES128-GCM-SHA256 bits=128/128);
 Thu, 18 Jul 2024 09:21:23 -0700 (PDT)
X-Relaying-Domain: iol.unh.edu
Date: Thu, 18 Jul 2024 09:21:23 -0700 (PDT)
Message-ID: <66994103.050a0220.62881.2bdfSMTPIN_ADDED_MISSING@mx.google.com>
Received: from [172.21.0.6] (unknown [172.18.0.240])
 by postal.iol.unh.edu (Postfix) with ESMTP id 5DDE0605C351;
 Thu, 18 Jul 2024 12:21:23 -0400 (EDT)
Subject: |PENDING| pw142506-142509 [PATCH] [v2,4/4] doc: fix typo in l2fwd-cr
From: dpdklab@iol.unh.edu
To: Test Report <test-report@dpdk.org>
Cc: dpdk-test-reports@iol.unh.edu
In-Reply-To: <20240717154908.2281023-5-joel.kavanagh@intel.com>
References: <20240717154908.2281023-5-joel.kavanagh@intel.com>
Content-Type: text/plain
X-BeenThere: test-report@dpdk.org
X-Mailman-Version: 2.1.29
Precedence: list
List-Id: automatic DPDK test reports <test-report.dpdk.org>
List-Unsubscribe: <https://mails.dpdk.org/options/test-report>,
 <mailto:test-report-request@dpdk.org?subject=unsubscribe>
List-Archive: <http://mails.dpdk.org/archives/test-report/>
List-Post: <mailto:test-report@dpdk.org>
List-Help: <mailto:test-report-request@dpdk.org?subject=help>
List-Subscribe: <https://mails.dpdk.org/listinfo/test-report>,
 <mailto:test-report-request@dpdk.org?subject=subscribe>
Errors-To: test-report-bounces@dpdk.org

Test-Label: iol-abi-testing
Test-Status: PENDING
http://dpdk.org/patch/142509

_Testing pending_

Submitter: Joel Kavanagh <joel.kavanagh@intel.com>
Date: Wednesday, July 17 2024 15:49:08 
DPDK git baseline: Repo:dpdk
  Branch: master
  CommitID:fa8d2f7f28524a6c8defa3dcd94f5aa131aae084

142506-142509 --> testing pending

Upstream job id: Generic-DPDK-Compile-ABI#99359

Test environment and result as below:

+-------------------+----------+
|    Environment    | abi_test |
+===================+==========+
| CentOS Stream 8   | PASS     |
+-------------------+----------+
| CentOS Stream 9   | PASS     |
+-------------------+----------+
| Fedora 39 (Clang) | PASS     |
+-------------------+----------+
| Fedora 37         | PASS     |
+-------------------+----------+
| Debian 12         | PASS     |
+-------------------+----------+
| Fedora 38         | PASS     |
+-------------------+----------+
| Debian Bullseye   | PEND     |
+-------------------+----------+
| Fedora 38 (Clang) | PEND     |
+-------------------+----------+
| Fedora 40 (Clang) | PEND     |
+-------------------+----------+
| Fedora 39         | PEND     |
+-------------------+----------+
| Fedora 40         | PEND     |
+-------------------+----------+
| openSUSE Leap 15  | PEND     |
+-------------------+----------+
| Ubuntu 22.04      | PEND     |
+-------------------+----------+
| Ubuntu 24.04      | PEND     |
+-------------------+----------+
| RHEL8             | PEND     |
+-------------------+----------+
| RHEL9             | PEND     |
+-------------------+----------+


CentOS Stream 8
	Kernel: 5.4.0-167-generic
	Compiler: gcc 8.5.0 20210514

CentOS Stream 9
	Kernel: 5.4.0-167-generic
	Compiler: gcc 11.4.1 20230605

Fedora 39 (Clang)
	Kernel: Depends on container host
	Compiler: clang 17.0.6

Fedora 37
	Kernel: Depends on container host system
	Compiler: gcc 12.3.1

Debian 12
	Kernel: Container Host Kernel
	Compiler: gcc 12.2.0

Fedora 38
	Kernel: Depends on container host
	Compiler: gcc 13.2.1

Debian Bullseye
	Kernel: 5.4.0-167-generic
	Compiler: gcc 10.2.1-6

Fedora 38 (Clang)
	Kernel: Depends on container host
	Compiler: clang 16.0.6

Fedora 40 (Clang)
	Kernel: Depends on container host
	Compiler: clang 18.1.6

Fedora 39
	Kernel: Depends on container host
	Compiler: gcc 13.2.1

Fedora 40
	Kernel: Depends on container host
	Compiler: gcc 14.1.1

openSUSE Leap 15
	Kernel: 5.4.0-167-generic
	Compiler: gcc 7.5.0

Ubuntu 22.04
	Kernel: 5.4.0-167-generic
	Compiler: gcc 11.4.0

Ubuntu 24.04
	Kernel: 5.4.0-167-generic
	Compiler: gcc 13.2.0

RHEL8
	Kernel: 5.4.0-167-generic
	Compiler: gcc 8.5.0 20210514 (Red Hat 8.5.0-20)

RHEL9
	Kernel: Depends on container host
	Compiler: gcc 11.4.1

To view detailed results, visit:
https://lab.dpdk.org/results/dashboard/patchsets/30554/

UNH-IOL DPDK Community Lab

To manage your email subscriptions, visit: 
https://lab.dpdk.org/results/dashboard/preferences/subscriptions/