From mboxrd@z Thu Jan  1 00:00:00 1970
Return-Path: <test-report-bounces@dpdk.org>
Received: from mails.dpdk.org (mails.dpdk.org [217.70.189.124])
	by inbox.dpdk.org (Postfix) with ESMTP id 8298845646
	for <public@inbox.dpdk.org>; Thu, 18 Jul 2024 19:51:01 +0200 (CEST)
Received: from mails.dpdk.org (localhost [127.0.0.1])
	by mails.dpdk.org (Postfix) with ESMTP id 7EC734029B;
	Thu, 18 Jul 2024 19:51:01 +0200 (CEST)
Received: from mail-yw1-f225.google.com (mail-yw1-f225.google.com
 [209.85.128.225])
 by mails.dpdk.org (Postfix) with ESMTP id 9BA404028A
 for <test-report@dpdk.org>; Thu, 18 Jul 2024 19:50:59 +0200 (CEST)
Received: by mail-yw1-f225.google.com with SMTP id
 00721157ae682-6518f8bc182so9181767b3.0
 for <test-report@dpdk.org>; Thu, 18 Jul 2024 10:50:59 -0700 (PDT)
DKIM-Signature: v=1; a=rsa-sha256; c=relaxed/relaxed;
 d=iol.unh.edu; s=unh-iol; t=1721325059; x=1721929859; darn=dpdk.org;
 h=references:in-reply-to:cc:to:from:subject:message-id:date:from:to
 :cc:subject:date:message-id:reply-to;
 bh=toUmA/3UrpOvBz1G81ecWBel5jOinpjpkAQmSDHyNd0=;
 b=TP0PEI7JbXfwFTWrZ6MAkN5D4+eVRouZ36GpEk8h7TkLKnVdBcBuDs4HJ0gyUWruzV
 V4EVcHRWZA71efx8VJ4STYrED+STWo8oqAyYQNW2SfO2YyngWBAViYViK7FIXp2kJ50V
 duEiKVrUtwafatlqXG0kDuKLfUoJXOcHZjYcE=
X-Google-DKIM-Signature: v=1; a=rsa-sha256; c=relaxed/relaxed;
 d=1e100.net; s=20230601; t=1721325059; x=1721929859;
 h=references:in-reply-to:cc:to:from:subject:message-id:date
 :x-gm-message-state:from:to:cc:subject:date:message-id:reply-to;
 bh=toUmA/3UrpOvBz1G81ecWBel5jOinpjpkAQmSDHyNd0=;
 b=Eli9DorfGGMCWHrRMSrFzTMGCMqNzftEGX/wkQ21A8Egk5NbaSoD31qljpEsl6lzwA
 UvFK5or+/c4xjirdx7ZGj5pdJMXdQEZ1CI4xrefMrZdJYDEctqu+ka6YmUQTHA1aPT8j
 pJIiePfbxBDyK0JKE0XpvZBMVVnPx+SrvLbpm9a/6qW5jmhyZN/4H9Tm2+6gtNefxexc
 YcXDaCKXn2+OAGw1Zved6MWreJmXotH0VUcoZHYlAD007l6VSLEvkcAaaf02G316svCO
 mUrQAgBKl/tOD5lDtfjNWuy+CN493+UhCYT5ieOdFmy42pZ89ZHcCqdtljG/Gi7cqzD0
 jWfA==
X-Gm-Message-State: AOJu0YziMhpTAGkpLHW2Z89iZUl5TFqqL2T0NCkg8GedlCnNUGJ6awYh
 qnJbLUTSycP/2idrBRoXQCfaUYvUvXVAz765czSrkstxmoJUSB6IHaiK9BipLVBD+yVSAhItivL
 oMrPq4rv2W4JdzXLkVdW6M0lYJv0cjKlzcW5mGCgsbTQbW2hECJvQAIS9
X-Google-Smtp-Source: AGHT+IEYwQ3ACH0CkHDo8IRm7Xt6cykxRyaPIjLK/rhLODPLCzOVhmn8/6QNvZAAK8u19XWEcNi5ue8RmtOJ
X-Received: by 2002:a05:690c:6607:b0:65f:7c41:30b2 with SMTP id
 00721157ae682-6660de99badmr27825437b3.3.1721325058950; 
 Thu, 18 Jul 2024 10:50:58 -0700 (PDT)
Received: from postal.iol.unh.edu (postal.iol.unh.edu.
 [2606:4100:3880:1234::84]) by smtp-relay.gmail.com with ESMTPS id
 00721157ae682-66602d436f3sm1911617b3.48.2024.07.18.10.50.58
 (version=TLS1_2 cipher=ECDHE-ECDSA-AES128-GCM-SHA256 bits=128/128);
 Thu, 18 Jul 2024 10:50:58 -0700 (PDT)
X-Relaying-Domain: iol.unh.edu
Date: Thu, 18 Jul 2024 10:50:58 -0700 (PDT)
Message-ID: <66995602.810a0220.282aa2.811aSMTPIN_ADDED_MISSING@mx.google.com>
Received: from [172.17.0.3] (unknown [172.18.0.217])
 by postal.iol.unh.edu (Postfix) with ESMTP id 68D56605C351;
 Thu, 18 Jul 2024 13:50:58 -0400 (EDT)
Subject: |PENDING| pw142506-142509 [PATCH] [v2,4/4] doc: fix typo in l2fwd-cr
From: dpdklab@iol.unh.edu
To: Test Report <test-report@dpdk.org>
Cc: dpdk-test-reports@iol.unh.edu
In-Reply-To: <20240717154908.2281023-5-joel.kavanagh@intel.com>
References: <20240717154908.2281023-5-joel.kavanagh@intel.com>
Content-Type: text/plain
X-BeenThere: test-report@dpdk.org
X-Mailman-Version: 2.1.29
Precedence: list
List-Id: automatic DPDK test reports <test-report.dpdk.org>
List-Unsubscribe: <https://mails.dpdk.org/options/test-report>,
 <mailto:test-report-request@dpdk.org?subject=unsubscribe>
List-Archive: <http://mails.dpdk.org/archives/test-report/>
List-Post: <mailto:test-report@dpdk.org>
List-Help: <mailto:test-report-request@dpdk.org?subject=help>
List-Subscribe: <https://mails.dpdk.org/listinfo/test-report>,
 <mailto:test-report-request@dpdk.org?subject=subscribe>
Errors-To: test-report-bounces@dpdk.org

Test-Label: iol-compile-arm64-testing
Test-Status: PENDING
http://dpdk.org/patch/142509

_Testing pending_

Submitter: Joel Kavanagh <joel.kavanagh@intel.com>
Date: Wednesday, July 17 2024 15:49:08 
DPDK git baseline: Repo:dpdk
  Branch: master
  CommitID:fa8d2f7f28524a6c8defa3dcd94f5aa131aae084

142506-142509 --> testing pending

Upstream job id: Generic-DPDK-Compile-Meson#276171

Test environment and result as below:

+------------------------------------+--------------------+
|            Environment             | dpdk_meson_compile |
+====================================+====================+
| RHEL9 (ARM)                        | PASS               |
+------------------------------------+--------------------+
| Ubuntu 20.04 ARM GCC Cross Compile | PEND               |
+------------------------------------+--------------------+
| Debian 12 with MUSDK               | PASS               |
+------------------------------------+--------------------+
| Fedora 37 (ARM)                    | PASS               |
+------------------------------------+--------------------+
| Fedora 38 (ARM)                    | PASS               |
+------------------------------------+--------------------+
| Fedora 38 (ARM Clang)              | PEND               |
+------------------------------------+--------------------+
| Fedora 39 (ARM)                    | PASS               |
+------------------------------------+--------------------+
| Ubuntu 20.04 ARM SVE               | PASS               |
+------------------------------------+--------------------+
| Fedora 39 (ARM Clang)              | PEND               |
+------------------------------------+--------------------+
| Fedora 40 (ARM)                    | PASS               |
+------------------------------------+--------------------+
| Fedora 40 (ARM Clang)              | PEND               |
+------------------------------------+--------------------+
| Ubuntu 20.04 (ARM)                 | PASS               |
+------------------------------------+--------------------+
| Ubuntu 22.04 (ARM)                 | PASS               |
+------------------------------------+--------------------+
| Ubuntu 24.04 (ARM)                 | PEND               |
+------------------------------------+--------------------+
| CentOS Stream 9 (ARM)              | PEND               |
+------------------------------------+--------------------+
| Debian 11 (Buster) (ARM)           | PEND               |
+------------------------------------+--------------------+
| Debian 12 (arm)                    | PEND               |
+------------------------------------+--------------------+


RHEL9 (ARM)
	Kernel: Depends on container host
	Compiler: gcc 11.4.1

Ubuntu 20.04 ARM GCC Cross Compile
	Kernel: 5.4.0-167-generic
	Compiler: aarch64-linux-gnu-gcc (Ubuntu 9.4.0-1ubuntu1~20.04.2) 9.4.0

Debian 12 with MUSDK
	Kernel: Container Host Kernel
	Compiler: gcc 12.2.0

Fedora 37 (ARM)
	Kernel: Depends on container host
	Compiler: gcc 12.3.1

Fedora 38 (ARM)
	Kernel: Depends on container host
	Compiler: gcc 13.2.1

Fedora 38 (ARM Clang)
	Kernel: Depends on container host
	Compiler: clang 16.0.6

Fedora 39 (ARM)
	Kernel: Depends on container host
	Compiler: gcc 13.2.1

Ubuntu 20.04 ARM SVE
	Kernel: 5.4.0-167-generic
	Compiler: gcc (Ubuntu 10.5.0-1ubuntu1~20.04) 10.5.0

Fedora 39 (ARM Clang)
	Kernel: Depends on container host
	Compiler: clang 17.0.6

Fedora 40 (ARM)
	Kernel: Depends on container host
	Compiler: gcc 14.1.1

Fedora 40 (ARM Clang)
	Kernel: Depends on container host
	Compiler: clang 18.1.6

Ubuntu 20.04 (ARM)
	Kernel: Container Host Kernel
	Compiler: gcc 9.4.0

Ubuntu 22.04 (ARM)
	Kernel: Container Host Kernel
	Compiler: gcc 11.4.0

Ubuntu 24.04 (ARM)
	Kernel: 5.4.0-167-generic
	Compiler: gcc 13.2.0

CentOS Stream 9 (ARM)
	Kernel: Container Host Kernel
	Compiler: gcc 11.4.1

Debian 11 (Buster) (ARM)
	Kernel: Container Host Kernel
	Compiler: gcc 10.2.1

Debian 12 (arm)
	Kernel: Container Host Kernel
	Compiler: gcc 12.2.0

To view detailed results, visit:
https://lab.dpdk.org/results/dashboard/patchsets/30554/

UNH-IOL DPDK Community Lab

To manage your email subscriptions, visit: 
https://lab.dpdk.org/results/dashboard/preferences/subscriptions/