From mboxrd@z Thu Jan  1 00:00:00 1970
Return-Path: <test-report-bounces@dpdk.org>
Received: from mails.dpdk.org (mails.dpdk.org [217.70.189.124])
	by inbox.dpdk.org (Postfix) with ESMTP id 0BE7F45655
	for <public@inbox.dpdk.org>; Fri, 19 Jul 2024 10:23:41 +0200 (CEST)
Received: from mails.dpdk.org (localhost [127.0.0.1])
	by mails.dpdk.org (Postfix) with ESMTP id ADD8F402EC;
	Fri, 19 Jul 2024 10:23:40 +0200 (CEST)
Received: from mail-ua1-f99.google.com (mail-ua1-f99.google.com
 [209.85.222.99]) by mails.dpdk.org (Postfix) with ESMTP id 6B32340267
 for <test-report@dpdk.org>; Fri, 19 Jul 2024 08:54:02 +0200 (CEST)
Received: by mail-ua1-f99.google.com with SMTP id
 a1e0cc1a2514c-8231d67a168so363546241.0
 for <test-report@dpdk.org>; Thu, 18 Jul 2024 23:54:02 -0700 (PDT)
DKIM-Signature: v=1; a=rsa-sha256; c=relaxed/relaxed;
 d=iol.unh.edu; s=unh-iol; t=1721372042; x=1721976842; darn=dpdk.org;
 h=references:in-reply-to:cc:to:from:subject:message-id:date:from:to
 :cc:subject:date:message-id:reply-to;
 bh=QUYWlazK2j0iF310NaInvWqx+1S6zmyAKxVx6qP8kYU=;
 b=S49LoGp4S1pUY7S8A5gP9lA6TP+jBa0piOv343Oecnv1uzaZQK3Cl7OLeAfkID7dMY
 N6NoZTjpezzzt35Yf0mvj21xYZ53UEM07eYejwUs9Nd5aKGRtqCenjzGR0wrhQ39Kyzk
 7OC62jDUo5IU3LdO0hzR8edo2NjyTbf3ubT7w=
X-Google-DKIM-Signature: v=1; a=rsa-sha256; c=relaxed/relaxed;
 d=1e100.net; s=20230601; t=1721372042; x=1721976842;
 h=references:in-reply-to:cc:to:from:subject:message-id:date
 :x-gm-message-state:from:to:cc:subject:date:message-id:reply-to;
 bh=QUYWlazK2j0iF310NaInvWqx+1S6zmyAKxVx6qP8kYU=;
 b=NKNfRt/5ugYbsFtz73V2SyGtEGH4VS+lek5g0mXXvDq6eXy6GbDhMvMzypgkPGHHS2
 Elhw0d+GkE/jD6PPIB5X+DL6JxZsR3oix23w8u0pjunwaBcfTTc5qE3PO94YbrCykZhs
 o/aT8j/XgvgYCTxkyLxtBqmzye2xXrQy7i8MCTWhm1RHi2P5TXXKq2zvNEsKi2w2UeIp
 iFn6RZVmxG3feYCrWQRZtgmY9Hx1bmz3GHUXVZ8wFw/w7zOF7pvlF2OvHd3pjc2oM/P/
 yVBSscudEy5p8VsWP/EniePDKTeqvOTEv9vG6DcEw0awIRZyMIkacQUIRQEbjnpGyZky
 laWg==
X-Gm-Message-State: AOJu0Yz9/nRiI3nB/UOVfQ8QJCjMFt+oOdC9hrCjQzAIfioy3ByIpPK4
 f626hHM5NGoJA3cC9dXp9AHx+MdCneslabF8YpQ4IElBNMDnPtel0UGxs3bVqcDYs/Ui3FC7Po8
 Uf+hf3rA4aAd84ZRrjBpmVyBRNjmG/nUD8REjaCKa
X-Google-Smtp-Source: AGHT+IFq/P/1CUUYCGrCOme7VpYBDWD0SfHuK1qYp7eSi66jLEOAhyAfg4bMrOc79m4dfaAgcVDgX/6GFlaI
X-Received: by 2002:a05:6102:8010:b0:48f:db40:99e9 with SMTP id
 ada2fe7eead31-491595cfa8emr8999267137.0.1721372040988; 
 Thu, 18 Jul 2024 23:54:00 -0700 (PDT)
Received: from postal.iol.unh.edu (postal.iol.unh.edu. [132.177.123.84])
 by smtp-relay.gmail.com with ESMTPS id
 a1e0cc1a2514c-826de24e23fsm16320241.9.2024.07.18.23.54.00
 (version=TLS1_2 cipher=ECDHE-ECDSA-AES128-GCM-SHA256 bits=128/128);
 Thu, 18 Jul 2024 23:54:00 -0700 (PDT)
X-Relaying-Domain: iol.unh.edu
Date: Thu, 18 Jul 2024 23:54:00 -0700 (PDT)
Message-ID: <669a0d88.050a0220.22a33.0bc1SMTPIN_ADDED_MISSING@mx.google.com>
Received: from [172.21.0.7] (unknown [172.18.0.240])
 by postal.iol.unh.edu (Postfix) with ESMTP id A0104605C351;
 Fri, 19 Jul 2024 02:54:00 -0400 (EDT)
Subject: |SUCCESS| pw142522 [PATCH] net/gve: Update Rx/Tx functions for RTE_P
From: dpdklab@iol.unh.edu
To: Test Report <test-report@dpdk.org>
Cc: dpdk-test-reports@iol.unh.edu
In-Reply-To: <1721363814-2387892-1-git-send-email-tathagat.dpdk@gmail.com>
References: <1721363814-2387892-1-git-send-email-tathagat.dpdk@gmail.com>
Content-Type: text/plain
X-BeenThere: test-report@dpdk.org
X-Mailman-Version: 2.1.29
Precedence: list
List-Id: automatic DPDK test reports <test-report.dpdk.org>
List-Unsubscribe: <https://mails.dpdk.org/options/test-report>,
 <mailto:test-report-request@dpdk.org?subject=unsubscribe>
List-Archive: <http://mails.dpdk.org/archives/test-report/>
List-Post: <mailto:test-report@dpdk.org>
List-Help: <mailto:test-report-request@dpdk.org?subject=help>
List-Subscribe: <https://mails.dpdk.org/listinfo/test-report>,
 <mailto:test-report-request@dpdk.org?subject=subscribe>
Errors-To: test-report-bounces@dpdk.org

Test-Label: iol-compile-amd64-testing
Test-Status: SUCCESS
http://dpdk.org/patch/142522

_Testing PASS_

Submitter: priyadarshitathagat <tathagat.dpdk@gmail.com>
Date: Friday, July 19 2024 04:36:54 
DPDK git baseline: Repo:dpdk
  Branch: master
  CommitID:d32d6c8e31923c3a1eeebe7da6ded89332830576

142522 --> testing pass

Upstream job id: Windows-Compile-DPDK-VS#2538

Test environment and result as below:

+---------------------+--------------------+----------------------+-------------------+
|     Environment     | dpdk_meson_compile | dpdk_mingw64_compile | dpdk_msvc_compile |
+=====================+====================+======================+===================+
| Windows Server 2019 | PASS               | PASS                 | SKIPPED           |
+---------------------+--------------------+----------------------+-------------------+
| Windows Server 2022 | PASS               | PASS                 | PASS              |
+---------------------+--------------------+----------------------+-------------------+
| FreeBSD 13.3        | PASS               | SKIPPED              | SKIPPED           |
+---------------------+--------------------+----------------------+-------------------+
| FreeBSD 14.1        | PASS               | SKIPPED              | SKIPPED           |
+---------------------+--------------------+----------------------+-------------------+


Windows Server 2019
	Kernel: 10.0.17763
	Compiler: clang 14.0 and gcc 8.1.0 (MinGW)

Windows Server 2022
	Kernel: 10.0.20348.2031
	Compiler: clang 15.0.7, gcc 8.1.0 (MinGW), and MSVC VS 17.9

FreeBSD 13.3
	Kernel: 13.3-RELEASE-p1
	Compiler: clang 17.0.6

FreeBSD 14.1
	Kernel: 14.1
	Compiler: clang 18.1.5

To view detailed results, visit:
https://lab.dpdk.org/results/dashboard/patchsets/30561/

UNH-IOL DPDK Community Lab

To manage your email subscriptions, visit: 
https://lab.dpdk.org/results/dashboard/preferences/subscriptions/