From mboxrd@z Thu Jan  1 00:00:00 1970
Return-Path: <test-report-bounces@dpdk.org>
Received: from mails.dpdk.org (mails.dpdk.org [217.70.189.124])
	by inbox.dpdk.org (Postfix) with ESMTP id F36B04564D
	for <public@inbox.dpdk.org>; Fri, 19 Jul 2024 11:15:29 +0200 (CEST)
Received: from mails.dpdk.org (localhost [127.0.0.1])
	by mails.dpdk.org (Postfix) with ESMTP id 4F61942686;
	Fri, 19 Jul 2024 11:15:29 +0200 (CEST)
Received: from mail-qv1-f98.google.com (mail-qv1-f98.google.com
 [209.85.219.98]) by mails.dpdk.org (Postfix) with ESMTP id 400D040DDE
 for <test-report@dpdk.org>; Fri, 19 Jul 2024 10:30:00 +0200 (CEST)
Received: by mail-qv1-f98.google.com with SMTP id
 6a1803df08f44-6b77402d778so11099636d6.2
 for <test-report@dpdk.org>; Fri, 19 Jul 2024 01:30:00 -0700 (PDT)
DKIM-Signature: v=1; a=rsa-sha256; c=relaxed/relaxed;
 d=iol.unh.edu; s=unh-iol; t=1721377799; x=1721982599; darn=dpdk.org;
 h=references:in-reply-to:cc:to:from:subject:message-id:date:from:to
 :cc:subject:date:message-id:reply-to;
 bh=/99IqCG1ORQZb4l1SvKFOHSomI/XOkJqpIEO7olAnQw=;
 b=YS9T/Ceh4iC0xR35CmMGvS2kHa303QMH4Kyg8pDktPUfF/WE+aGOQdCqCkAnrWTYE8
 h0xuPAS34yfHrmtgNs6k2QVHAef/SXyagXNW+0k7B6EQgM+Q9QQIUjmmXZWjEHUZaX6Q
 Zf/PXzFV+Tkvi+5wv/byENcJrLtDHLr54XxFs=
X-Google-DKIM-Signature: v=1; a=rsa-sha256; c=relaxed/relaxed;
 d=1e100.net; s=20230601; t=1721377799; x=1721982599;
 h=references:in-reply-to:cc:to:from:subject:message-id:date
 :x-gm-message-state:from:to:cc:subject:date:message-id:reply-to;
 bh=/99IqCG1ORQZb4l1SvKFOHSomI/XOkJqpIEO7olAnQw=;
 b=tbbj68WsLD9vayqOdPU8axfE4EaGZtU4XPR8Q++84XLWd/VpcF34gXpcC7Q2rEFOLw
 Qk7xKCqAS9QeVKUJEG4KujaIUw31MfjWs63OI37UrAaV0geU6Tpkb7BI7ekEoDU5/3w9
 B1jX2iqX6vCAZdVXq0b97jA3xKu8NI5ilkkYyYWMMhl6Yvf0xtqKhan3ZRv8efnP+ia+
 DRHJeFGELvMPrkB7bERYFUKIshLhtpYcedLkC4qDoDia4Ot9idw6jJog5bJqvlY/3OI7
 2/HMOF/r2CtVEJANTAqUfRWB3+3OfC5nw4QMASr3UXWYDy2YCMpTGzUbvP67BgJgfktE
 C3RA==
X-Gm-Message-State: AOJu0YzVXTz7702mfpNR6HuJkrm7Crj1L878wROUl/sFWKiKVvP/SGmJ
 aMgr8CAJDa+yIfiAOf4p9dSoQMuJdZ76WliMROo8oFgao2jkEqZqTQ2k5mN5HryG2FZAf70WazQ
 BiE95pWZC/4ScJeRprVWbIT+rkSCl8YxXnSiLXmR0
X-Google-Smtp-Source: AGHT+IEdE9vTYDZva2er+tGP+0WgTB6PDluw1e8B8g4BP0F0AWBKlfU3K8grTqQkSL0d8bsK6Qm9Lbd/dg5j
X-Received: by 2002:ad4:5cc2:0:b0:6b5:46f1:6b00 with SMTP id
 6a1803df08f44-6b78e2be2a2mr93135346d6.58.1721377799560; 
 Fri, 19 Jul 2024 01:29:59 -0700 (PDT)
Received: from postal.iol.unh.edu (postal.iol.unh.edu. [132.177.123.84])
 by smtp-relay.gmail.com with ESMTPS id
 6a1803df08f44-6b7ac9bbefasm447346d6.63.2024.07.19.01.29.59
 (version=TLS1_2 cipher=ECDHE-ECDSA-AES128-GCM-SHA256 bits=128/128);
 Fri, 19 Jul 2024 01:29:59 -0700 (PDT)
X-Relaying-Domain: iol.unh.edu
Date: Fri, 19 Jul 2024 01:29:59 -0700 (PDT)
Message-ID: <669a2407.050a0220.1cbe50.2989SMTPIN_ADDED_MISSING@mx.google.com>
Received: from [172.21.0.7] (unknown [172.18.0.240])
 by postal.iol.unh.edu (Postfix) with ESMTP id 4825960524C8;
 Fri, 19 Jul 2024 04:29:59 -0400 (EDT)
Subject: |SUCCESS| pw142522 [PATCH] net/gve: Update Rx/Tx functions for RTE_P
From: dpdklab@iol.unh.edu
To: Test Report <test-report@dpdk.org>
Cc: dpdk-test-reports@iol.unh.edu
In-Reply-To: <1721363814-2387892-1-git-send-email-tathagat.dpdk@gmail.com>
References: <1721363814-2387892-1-git-send-email-tathagat.dpdk@gmail.com>
Content-Type: text/plain
X-BeenThere: test-report@dpdk.org
X-Mailman-Version: 2.1.29
Precedence: list
List-Id: automatic DPDK test reports <test-report.dpdk.org>
List-Unsubscribe: <https://mails.dpdk.org/options/test-report>,
 <mailto:test-report-request@dpdk.org?subject=unsubscribe>
List-Archive: <http://mails.dpdk.org/archives/test-report/>
List-Post: <mailto:test-report@dpdk.org>
List-Help: <mailto:test-report-request@dpdk.org?subject=help>
List-Subscribe: <https://mails.dpdk.org/listinfo/test-report>,
 <mailto:test-report-request@dpdk.org?subject=subscribe>
Errors-To: test-report-bounces@dpdk.org

Test-Label: iol-abi-testing
Test-Status: SUCCESS
http://dpdk.org/patch/142522

_Testing PASS_

Submitter: priyadarshitathagat <tathagat.dpdk@gmail.com>
Date: Friday, July 19 2024 04:36:54 
DPDK git baseline: Repo:dpdk
  Branch: master
  CommitID:d32d6c8e31923c3a1eeebe7da6ded89332830576

142522 --> testing pass

Upstream job id: Generic-DPDK-Compile-ABI#99399

Test environment and result as below:

+-------------------+----------+
|    Environment    | abi_test |
+===================+==========+
| CentOS Stream 8   | PASS     |
+-------------------+----------+
| Debian Bullseye   | PASS     |
+-------------------+----------+
| CentOS Stream 9   | PASS     |
+-------------------+----------+
| Debian 12         | PASS     |
+-------------------+----------+
| Fedora 37         | PASS     |
+-------------------+----------+
| Fedora 39         | PASS     |
+-------------------+----------+
| Fedora 38         | PASS     |
+-------------------+----------+
| Fedora 39 (Clang) | PASS     |
+-------------------+----------+
| Fedora 38 (Clang) | PASS     |
+-------------------+----------+
| Fedora 40 (Clang) | PASS     |
+-------------------+----------+
| Fedora 40         | PASS     |
+-------------------+----------+
| Ubuntu 22.04      | PASS     |
+-------------------+----------+
| RHEL8             | PASS     |
+-------------------+----------+
| RHEL9             | PASS     |
+-------------------+----------+
| Ubuntu 24.04      | PASS     |
+-------------------+----------+
| openSUSE Leap 15  | PASS     |
+-------------------+----------+


CentOS Stream 8
	Kernel: 5.4.0-167-generic
	Compiler: gcc 8.5.0 20210514

Debian Bullseye
	Kernel: 5.4.0-167-generic
	Compiler: gcc 10.2.1-6

CentOS Stream 9
	Kernel: 5.4.0-167-generic
	Compiler: gcc 11.4.1 20230605

Debian 12
	Kernel: Container Host Kernel
	Compiler: gcc 12.2.0

Fedora 37
	Kernel: Depends on container host system
	Compiler: gcc 12.3.1

Fedora 39
	Kernel: Depends on container host
	Compiler: gcc 13.2.1

Fedora 38
	Kernel: Depends on container host
	Compiler: gcc 13.2.1

Fedora 39 (Clang)
	Kernel: Depends on container host
	Compiler: clang 17.0.6

Fedora 38 (Clang)
	Kernel: Depends on container host
	Compiler: clang 16.0.6

Fedora 40 (Clang)
	Kernel: Depends on container host
	Compiler: clang 18.1.6

Fedora 40
	Kernel: Depends on container host
	Compiler: gcc 14.1.1

Ubuntu 22.04
	Kernel: 5.4.0-167-generic
	Compiler: gcc 11.4.0

RHEL8
	Kernel: 5.4.0-167-generic
	Compiler: gcc 8.5.0 20210514 (Red Hat 8.5.0-20)

RHEL9
	Kernel: Depends on container host
	Compiler: gcc 11.4.1

Ubuntu 24.04
	Kernel: 5.4.0-167-generic
	Compiler: gcc 13.2.0

openSUSE Leap 15
	Kernel: 5.4.0-167-generic
	Compiler: gcc 7.5.0

To view detailed results, visit:
https://lab.dpdk.org/results/dashboard/patchsets/30561/

UNH-IOL DPDK Community Lab

To manage your email subscriptions, visit: 
https://lab.dpdk.org/results/dashboard/preferences/subscriptions/