From mboxrd@z Thu Jan  1 00:00:00 1970
Return-Path: <test-report-bounces@dpdk.org>
Received: from mails.dpdk.org (mails.dpdk.org [217.70.189.124])
	by inbox.dpdk.org (Postfix) with ESMTP id 6AFFC45655
	for <public@inbox.dpdk.org>; Fri, 19 Jul 2024 10:58:48 +0200 (CEST)
Received: from mails.dpdk.org (localhost [127.0.0.1])
	by mails.dpdk.org (Postfix) with ESMTP id CDBE540FDE;
	Fri, 19 Jul 2024 10:58:47 +0200 (CEST)
Received: from mail-yb1-f226.google.com (mail-yb1-f226.google.com
 [209.85.219.226])
 by mails.dpdk.org (Postfix) with ESMTP id 09F4B402B8
 for <test-report@dpdk.org>; Fri, 19 Jul 2024 10:46:20 +0200 (CEST)
Received: by mail-yb1-f226.google.com with SMTP id
 3f1490d57ef6-e04196b7603so1685137276.0
 for <test-report@dpdk.org>; Fri, 19 Jul 2024 01:46:19 -0700 (PDT)
DKIM-Signature: v=1; a=rsa-sha256; c=relaxed/relaxed;
 d=iol.unh.edu; s=unh-iol; t=1721378779; x=1721983579; darn=dpdk.org;
 h=references:in-reply-to:cc:to:from:subject:message-id:date:from:to
 :cc:subject:date:message-id:reply-to;
 bh=G3/KvKTGDApXhR3uvHenPcMcKQvpBJtHmI7ZqTyaepk=;
 b=jTjKnW1QRIuPZRbQ8QqVxjlE6EfTvJeAn1QdASs2fVe5ugmcy0fTwhmmtG6kyz0buW
 9fyY21gagW1tFp036s0Bzsl97ygvPNT+jyk8w4J35cem+ntZJ0YoFHcKy0tOfq+pd7FB
 MkhbyOTYlueC2CqACcxx2cGfCcMvGqlnQm5Cs=
X-Google-DKIM-Signature: v=1; a=rsa-sha256; c=relaxed/relaxed;
 d=1e100.net; s=20230601; t=1721378779; x=1721983579;
 h=references:in-reply-to:cc:to:from:subject:message-id:date
 :x-gm-message-state:from:to:cc:subject:date:message-id:reply-to;
 bh=G3/KvKTGDApXhR3uvHenPcMcKQvpBJtHmI7ZqTyaepk=;
 b=sBiLz4XNEfLBm42Ud8nME5isMYqZ0aY94bPjHvzz8W8WaToaoEOL/chbTyxLEUjV5g
 jJkKbRTXbwQgWfyCH/g/QiLpscAsGzztX+EEdOaeYlJ2tHzLEkqLv23s1veS2n8hFK0+
 bpt+ksboE7DSYJdeNCuHj7rQsFnlApUXL/GWPTvoxInS3X8pzHwzPT2MNmJFy7oP0aEg
 oyPc6peK1HmJnrZM6wL4NAqo0iRn4N1dWxozIIhAldnM4fqIXT5Ngxp6FfZXa74n/PzM
 uUII8/azNzKD/mWjpqwR/EsX9vOmY3jdSMnQcaNvuHdRxDoUfKLATxRnfB23QjNGa0AS
 nsVg==
X-Gm-Message-State: AOJu0YzyjX7FnElR69vN2KpBJ1Guzy3Lc5PHTCv41IgDMDQ1jFRLXXvC
 qfZLR5+czv8d8v0sJezZ1035/NssSxy9Q8qP7L0RIsRFA0Db99rkV6XDWdqWuXbJclohPvxNFv2
 TXR1WLqb9DX6ct47wZRsuxM2KQKNgMwCQxGeWppNt
X-Google-Smtp-Source: AGHT+IEagL9MUH6ECowptnPZJaSQcQ4mALsrBSkqj0lhKl2KTsZMD649ugyxirwpfL+9UOIc+a74PX9nte7L
X-Received: by 2002:a05:6902:188c:b0:e08:6981:a2e7 with SMTP id
 3f1490d57ef6-e086981a5bcmr143122276.5.1721378779419; 
 Fri, 19 Jul 2024 01:46:19 -0700 (PDT)
Received: from postal.iol.unh.edu (postal.iol.unh.edu. [132.177.123.84])
 by smtp-relay.gmail.com with ESMTPS id
 3f1490d57ef6-e08608fbf7dsm42362276.15.2024.07.19.01.46.19
 (version=TLS1_2 cipher=ECDHE-ECDSA-AES128-GCM-SHA256 bits=128/128);
 Fri, 19 Jul 2024 01:46:19 -0700 (PDT)
X-Relaying-Domain: iol.unh.edu
Date: Fri, 19 Jul 2024 01:46:19 -0700 (PDT)
Message-ID: <669a27db.050a0220.28e3da.25c7SMTPIN_ADDED_MISSING@mx.google.com>
Received: from [172.21.0.7] (unknown [172.18.0.240])
 by postal.iol.unh.edu (Postfix) with ESMTP id 1423860524C8;
 Fri, 19 Jul 2024 04:46:19 -0400 (EDT)
Subject: |PENDING| pw142519 [PATCH] net/netvsc: use rte_eth_dev_set_mtu to se
From: dpdklab@iol.unh.edu
To: Test Report <test-report@dpdk.org>
Cc: dpdk-test-reports@iol.unh.edu
In-Reply-To: <1721331316-8821-1-git-send-email-longli@linuxonhyperv.com>
References: <1721331316-8821-1-git-send-email-longli@linuxonhyperv.com>
Content-Type: text/plain
X-BeenThere: test-report@dpdk.org
X-Mailman-Version: 2.1.29
Precedence: list
List-Id: automatic DPDK test reports <test-report.dpdk.org>
List-Unsubscribe: <https://mails.dpdk.org/options/test-report>,
 <mailto:test-report-request@dpdk.org?subject=unsubscribe>
List-Archive: <http://mails.dpdk.org/archives/test-report/>
List-Post: <mailto:test-report@dpdk.org>
List-Help: <mailto:test-report-request@dpdk.org?subject=help>
List-Subscribe: <https://mails.dpdk.org/listinfo/test-report>,
 <mailto:test-report-request@dpdk.org?subject=subscribe>
Errors-To: test-report-bounces@dpdk.org

Test-Label: iol-abi-testing
Test-Status: PENDING
http://dpdk.org/patch/142519

_Testing pending_

Submitter: Long Li <longli@linuxonhyperv.com>
Date: Thursday, July 18 2024 19:35:16 
DPDK git baseline: Repo:dpdk
  Branch: master
  CommitID:d32d6c8e31923c3a1eeebe7da6ded89332830576

142519 --> testing pending

Upstream job id: Generic-DPDK-Compile-ABI#99424

Test environment and result as below:

+-------------------+----------+
|    Environment    | abi_test |
+===================+==========+
| CentOS Stream 9   | PASS     |
+-------------------+----------+
| Debian Bullseye   | PASS     |
+-------------------+----------+
| CentOS Stream 8   | PEND     |
+-------------------+----------+
| Debian 12         | PEND     |
+-------------------+----------+
| Ubuntu 24.04      | PEND     |
+-------------------+----------+
| Fedora 39         | PEND     |
+-------------------+----------+
| RHEL9             | PEND     |
+-------------------+----------+
| Fedora 39 (Clang) | PEND     |
+-------------------+----------+
| Fedora 40         | PEND     |
+-------------------+----------+
| openSUSE Leap 15  | PEND     |
+-------------------+----------+
| Fedora 37         | PASS     |
+-------------------+----------+
| RHEL8             | PEND     |
+-------------------+----------+
| Fedora 38         | PEND     |
+-------------------+----------+
| Fedora 40 (Clang) | PEND     |
+-------------------+----------+
| Fedora 38 (Clang) | PEND     |
+-------------------+----------+
| Ubuntu 22.04      | PEND     |
+-------------------+----------+


CentOS Stream 9
	Kernel: 5.4.0-167-generic
	Compiler: gcc 11.4.1 20230605

Debian Bullseye
	Kernel: 5.4.0-167-generic
	Compiler: gcc 10.2.1-6

CentOS Stream 8
	Kernel: 5.4.0-167-generic
	Compiler: gcc 8.5.0 20210514

Debian 12
	Kernel: Container Host Kernel
	Compiler: gcc 12.2.0

Ubuntu 24.04
	Kernel: 5.4.0-167-generic
	Compiler: gcc 13.2.0

Fedora 39
	Kernel: Depends on container host
	Compiler: gcc 13.2.1

RHEL9
	Kernel: Depends on container host
	Compiler: gcc 11.4.1

Fedora 39 (Clang)
	Kernel: Depends on container host
	Compiler: clang 17.0.6

Fedora 40
	Kernel: Depends on container host
	Compiler: gcc 14.1.1

openSUSE Leap 15
	Kernel: 5.4.0-167-generic
	Compiler: gcc 7.5.0

Fedora 37
	Kernel: Depends on container host system
	Compiler: gcc 12.3.1

RHEL8
	Kernel: 5.4.0-167-generic
	Compiler: gcc 8.5.0 20210514 (Red Hat 8.5.0-20)

Fedora 38
	Kernel: Depends on container host
	Compiler: gcc 13.2.1

Fedora 40 (Clang)
	Kernel: Depends on container host
	Compiler: clang 18.1.6

Fedora 38 (Clang)
	Kernel: Depends on container host
	Compiler: clang 16.0.6

Ubuntu 22.04
	Kernel: 5.4.0-167-generic
	Compiler: gcc 11.4.0

To view detailed results, visit:
https://lab.dpdk.org/results/dashboard/patchsets/30559/

UNH-IOL DPDK Community Lab

To manage your email subscriptions, visit: 
https://lab.dpdk.org/results/dashboard/preferences/subscriptions/