From mboxrd@z Thu Jan  1 00:00:00 1970
Return-Path: <test-report-bounces@dpdk.org>
Received: from mails.dpdk.org (mails.dpdk.org [217.70.189.124])
	by inbox.dpdk.org (Postfix) with ESMTP id DAA3F4564D
	for <public@inbox.dpdk.org>; Fri, 19 Jul 2024 11:46:57 +0200 (CEST)
Received: from mails.dpdk.org (localhost [127.0.0.1])
	by mails.dpdk.org (Postfix) with ESMTP id D7D6A40E3A;
	Fri, 19 Jul 2024 11:46:57 +0200 (CEST)
Received: from mail-yw1-f225.google.com (mail-yw1-f225.google.com
 [209.85.128.225])
 by mails.dpdk.org (Postfix) with ESMTP id 198C540655
 for <test-report@dpdk.org>; Fri, 19 Jul 2024 11:46:57 +0200 (CEST)
Received: by mail-yw1-f225.google.com with SMTP id
 00721157ae682-6687f2f0986so15562797b3.0
 for <test-report@dpdk.org>; Fri, 19 Jul 2024 02:46:57 -0700 (PDT)
DKIM-Signature: v=1; a=rsa-sha256; c=relaxed/relaxed;
 d=iol.unh.edu; s=unh-iol; t=1721382416; x=1721987216; darn=dpdk.org;
 h=references:in-reply-to:cc:to:from:subject:message-id:date:from:to
 :cc:subject:date:message-id:reply-to;
 bh=+0hG8O/ysPZJrqEOThg4Koz7sbDSww4kgNAIidbV1FM=;
 b=dbx6fbVQOPlsVfnc+Rz6Ezu5LF9udqdAsfcn6JZxUnSoZ4zn7z/5F6gOysHEkKVzIu
 T25WMPawyxsHZR0/vBcNji0M5bDZkZUMbDkoOaRzxUEAryd0yYycNrAZpog9+upTU0rd
 havJq2C6fIMdtN0/IP/J7AO9lp0SuccWu2VS8=
X-Google-DKIM-Signature: v=1; a=rsa-sha256; c=relaxed/relaxed;
 d=1e100.net; s=20230601; t=1721382416; x=1721987216;
 h=references:in-reply-to:cc:to:from:subject:message-id:date
 :x-gm-message-state:from:to:cc:subject:date:message-id:reply-to;
 bh=+0hG8O/ysPZJrqEOThg4Koz7sbDSww4kgNAIidbV1FM=;
 b=ar+Ldq9ADvam0RPxMpbsnulLjxAcxGzKEbgFat4KKiNxCsQduk+4DGLF+ojCc6ci4Q
 soLc4cZruUKR1EURNZSvpEWxPLOXIsUJiq5n4wR780QUsS93asHhr+2cQ/33QSabGo7V
 DRwAnubX/xZ0eyFe96Ir6bPOlaZBGFGXX490gefTuPLndkZnZaYq9TxOBfljzeqL13hm
 PZ/XHoPpC8uiPoRkUq6OGP+G/GgXE7RLWQYqcEAH+ff/oqqwedbMY1wBQ/sUIzzGJ5gm
 SaPnyDTEp8DOIdOZ441au1SD5tBbL5jqy3FdVXF8mfJrt7gh3pL2sZ47Q2ey18hudeSi
 dNrA==
X-Gm-Message-State: AOJu0YxqmRnMamzNj9BPv95u0/AumMXF9Obe9SA0A5mgkUfoY49n9cuF
 kMnlGMlvLlK82J5D6hM84Ynfi7QrsAVmEc58S4iRCw7usb8xbIf8ApTpvIzKAWcVtosKqcAvbz7
 3cefPZkAWwzrdCUWrWdPLo4RvLDkO5XnRE/y68FsF
X-Google-Smtp-Source: AGHT+IEMywUfaMk+zrPSRAdPqhUjvnKEDjGHu6Cu1/eiBTffp55GskjGp0IqSRFliQMvnDmq3Sqtr5GMei70
X-Received: by 2002:a81:cb05:0:b0:65f:8218:8ace with SMTP id
 00721157ae682-66603af4e28mr65215017b3.39.1721382416365; 
 Fri, 19 Jul 2024 02:46:56 -0700 (PDT)
Received: from postal.iol.unh.edu (postal.iol.unh.edu. [132.177.123.84])
 by smtp-relay.gmail.com with ESMTPS id
 00721157ae682-669543b2845sm464637b3.78.2024.07.19.02.46.56
 (version=TLS1_2 cipher=ECDHE-ECDSA-AES128-GCM-SHA256 bits=128/128);
 Fri, 19 Jul 2024 02:46:56 -0700 (PDT)
X-Relaying-Domain: iol.unh.edu
Date: Fri, 19 Jul 2024 02:46:56 -0700 (PDT)
Message-ID: <669a3610.810a0220.264d89.255cSMTPIN_ADDED_MISSING@mx.google.com>
Received: from [172.21.0.6] (unknown [172.18.0.240])
 by postal.iol.unh.edu (Postfix) with ESMTP id 0733A60524C8;
 Fri, 19 Jul 2024 05:46:56 -0400 (EDT)
Subject: |PENDING| pw142522 [PATCH] net/gve: Update Rx/Tx functions for RTE_P
From: dpdklab@iol.unh.edu
To: Test Report <test-report@dpdk.org>
Cc: dpdk-test-reports@iol.unh.edu
In-Reply-To: <1721363814-2387892-1-git-send-email-tathagat.dpdk@gmail.com>
References: <1721363814-2387892-1-git-send-email-tathagat.dpdk@gmail.com>
Content-Type: text/plain
X-BeenThere: test-report@dpdk.org
X-Mailman-Version: 2.1.29
Precedence: list
List-Id: automatic DPDK test reports <test-report.dpdk.org>
List-Unsubscribe: <https://mails.dpdk.org/options/test-report>,
 <mailto:test-report-request@dpdk.org?subject=unsubscribe>
List-Archive: <http://mails.dpdk.org/archives/test-report/>
List-Post: <mailto:test-report@dpdk.org>
List-Help: <mailto:test-report-request@dpdk.org?subject=help>
List-Subscribe: <https://mails.dpdk.org/listinfo/test-report>,
 <mailto:test-report-request@dpdk.org?subject=subscribe>
Errors-To: test-report-bounces@dpdk.org

Test-Label: iol-unit-amd64-testing
Test-Status: PENDING
http://dpdk.org/patch/142522

_Testing pending_

Submitter: priyadarshitathagat <tathagat.dpdk@gmail.com>
Date: Friday, July 19 2024 04:36:54 
DPDK git baseline: Repo:dpdk
  Branch: master
  CommitID:d32d6c8e31923c3a1eeebe7da6ded89332830576

142522 --> testing pending

Upstream job id: Generic-Unit-Test-DPDK#241660

Test environment and result as below:

+---------------------+----------------+
|     Environment     | dpdk_unit_test |
+=====================+================+
| Windows Server 2019 | PASS           |
+---------------------+----------------+
| Windows Server 2022 | PASS           |
+---------------------+----------------+
| CentOS Stream 8     | PASS           |
+---------------------+----------------+
| Debian 12           | PASS           |
+---------------------+----------------+
| CentOS Stream 9     | PASS           |
+---------------------+----------------+
| Debian Bullseye     | PASS           |
+---------------------+----------------+
| Fedora 37           | PASS           |
+---------------------+----------------+
| Fedora 38           | PASS           |
+---------------------+----------------+
| Fedora 38 (Clang)   | PASS           |
+---------------------+----------------+
| Fedora 39           | PASS           |
+---------------------+----------------+
| Fedora 39 (Clang)   | PASS           |
+---------------------+----------------+
| Fedora 40 (Clang)   | PASS           |
+---------------------+----------------+
| openSUSE Leap 15    | PASS           |
+---------------------+----------------+
| RHEL8               | PASS           |
+---------------------+----------------+
| RHEL9               | PASS           |
+---------------------+----------------+
| Ubuntu 20.04        | PASS           |
+---------------------+----------------+
| Ubuntu 24.04        | PASS           |
+---------------------+----------------+
| Fedora 40           | PASS           |
+---------------------+----------------+
| Ubuntu 22.04        | PEND           |
+---------------------+----------------+


Windows Server 2019
	Kernel: 10.0.17763
	Compiler: clang 14.0 and gcc 8.1.0 (MinGW)

Windows Server 2022
	Kernel: 10.0.20348.2031
	Compiler: clang 15.0.7, gcc 8.1.0 (MinGW), and MSVC VS 17.9

CentOS Stream 8
	Kernel: 5.4.0-167-generic
	Compiler: gcc 8.5.0 20210514

Debian 12
	Kernel: Container Host Kernel
	Compiler: gcc 12.2.0

CentOS Stream 9
	Kernel: 5.4.0-167-generic
	Compiler: gcc 11.4.1 20230605

Debian Bullseye
	Kernel: 5.4.0-167-generic
	Compiler: gcc 10.2.1-6

Fedora 37
	Kernel: Depends on container host system
	Compiler: gcc 12.3.1

Fedora 38
	Kernel: Depends on container host
	Compiler: gcc 13.2.1

Fedora 38 (Clang)
	Kernel: Depends on container host
	Compiler: clang 16.0.6

Fedora 39
	Kernel: Depends on container host
	Compiler: gcc 13.2.1

Fedora 39 (Clang)
	Kernel: Depends on container host
	Compiler: clang 17.0.6

Fedora 40 (Clang)
	Kernel: Depends on container host
	Compiler: clang 18.1.6

openSUSE Leap 15
	Kernel: 5.4.0-167-generic
	Compiler: gcc 7.5.0

RHEL8
	Kernel: 5.4.0-167-generic
	Compiler: gcc 8.5.0 20210514 (Red Hat 8.5.0-20)

RHEL9
	Kernel: Depends on container host
	Compiler: gcc 11.4.1

Ubuntu 20.04
	Kernel: 5.4.0-167-generic
	Compiler: gcc 9.4.0-1ubuntu1~20.04.1

Ubuntu 24.04
	Kernel: 5.4.0-167-generic
	Compiler: gcc 13.2.0

Fedora 40
	Kernel: Depends on container host
	Compiler: gcc 14.1.1

Ubuntu 22.04
	Kernel: 5.4.0-167-generic
	Compiler: gcc 11.4.0

To view detailed results, visit:
https://lab.dpdk.org/results/dashboard/patchsets/30561/

UNH-IOL DPDK Community Lab

To manage your email subscriptions, visit: 
https://lab.dpdk.org/results/dashboard/preferences/subscriptions/