From mboxrd@z Thu Jan  1 00:00:00 1970
Return-Path: <test-report-bounces@dpdk.org>
Received: from mails.dpdk.org (mails.dpdk.org [217.70.189.124])
	by inbox.dpdk.org (Postfix) with ESMTP id 3FD164564F
	for <public@inbox.dpdk.org>; Fri, 19 Jul 2024 12:01:38 +0200 (CEST)
Received: from mails.dpdk.org (localhost [127.0.0.1])
	by mails.dpdk.org (Postfix) with ESMTP id 3A63742E02;
	Fri, 19 Jul 2024 12:01:38 +0200 (CEST)
Received: from mail-yb1-f226.google.com (mail-yb1-f226.google.com
 [209.85.219.226])
 by mails.dpdk.org (Postfix) with ESMTP id 6C86E40E3A
 for <test-report@dpdk.org>; Fri, 19 Jul 2024 12:01:35 +0200 (CEST)
Received: by mail-yb1-f226.google.com with SMTP id
 3f1490d57ef6-e0365588ab8so1879961276.1
 for <test-report@dpdk.org>; Fri, 19 Jul 2024 03:01:35 -0700 (PDT)
DKIM-Signature: v=1; a=rsa-sha256; c=relaxed/relaxed;
 d=iol.unh.edu; s=unh-iol; t=1721383295; x=1721988095; darn=dpdk.org;
 h=references:in-reply-to:cc:to:from:subject:message-id:date:from:to
 :cc:subject:date:message-id:reply-to;
 bh=KIdcn+kUhQgumVrQ8MTNcxPdpAYiEEoq7GQccyZZJug=;
 b=fmJkLE8e2MV8cBY6l/JleVukbW5MoXlVoH7CQgNZLur2vg77reBBY/EaouXLxB4CXd
 U7svB4lxVXSKDJRBSguIJwU+C6KAvOxHtrbs+chte8YvTXQ8nLvjM8vC3q/cp72CHTJT
 uA149+fsc/kgfmkpapYLch8yXkEKYzVkltXG4=
X-Google-DKIM-Signature: v=1; a=rsa-sha256; c=relaxed/relaxed;
 d=1e100.net; s=20230601; t=1721383295; x=1721988095;
 h=references:in-reply-to:cc:to:from:subject:message-id:date
 :x-gm-message-state:from:to:cc:subject:date:message-id:reply-to;
 bh=KIdcn+kUhQgumVrQ8MTNcxPdpAYiEEoq7GQccyZZJug=;
 b=vddsuz+zCIao7aDKIRthORrSyfrfSZIkSVJHDkO9a8Um3gE4E3frEemdqICoc+N3PN
 iZcUJAPNprV6tMgLp7lZusHwy9TZw0/P55OOGyBtG+8IGzTKaeBZq8Y7ZjF1xLhuGpvx
 R+oH7YCy69O99Y4RLefZa05S4w/PR/0RPqMSI95MnC9xKVxirrnbGcdFPGjzZRV+HwHg
 7bxhLUOkKLTKGlH48t+8tWea8qGZccjucEazpOriciwshOnU0V0sp3L/mK1qia6NjOnA
 U6mBwn8EPBaQ76MClbPndhc395jiZm92HksF63dtUOSKxvBfuunIOXX2D8n2BqpRbXMJ
 lmyg==
X-Gm-Message-State: AOJu0YzNhMFXXnZQLq17cJYBiUO/5R/mLNgTqXhEczNPLrNz1/zf6Gf1
 VLp3/us+w+9XUlUQuvcLBqOmhjub/4sO1I+78s9GfT/sOx5p/YSIL9ZkzeFKP/BEygopQjW9MfF
 iY88HOiiZG+5W2m0CNF5hWJTvdbL0vaWasHGTbuLi
X-Google-Smtp-Source: AGHT+IHZBND8jNQnh7n8YnEPgHQSNP5YvUfCuovkbfe0lof2nVMeEvEV/J9N3jKr+koID0H2yHowdfrWxcWg
X-Received: by 2002:a05:6902:1b83:b0:e05:a85b:b9c1 with SMTP id
 3f1490d57ef6-e0640d6e040mr5629293276.18.1721383294726; 
 Fri, 19 Jul 2024 03:01:34 -0700 (PDT)
Received: from postal.iol.unh.edu (postal.iol.unh.edu. [132.177.123.84])
 by smtp-relay.gmail.com with ESMTPS id
 6a1803df08f44-6b7acae3a85sm537546d6.74.2024.07.19.03.01.34
 (version=TLS1_2 cipher=ECDHE-ECDSA-AES128-GCM-SHA256 bits=128/128);
 Fri, 19 Jul 2024 03:01:34 -0700 (PDT)
X-Relaying-Domain: iol.unh.edu
Date: Fri, 19 Jul 2024 03:01:34 -0700 (PDT)
Message-ID: <669a397e.050a0220.83a33.33aeSMTPIN_ADDED_MISSING@mx.google.com>
Received: from [172.21.0.7] (unknown [172.18.0.240])
 by postal.iol.unh.edu (Postfix) with ESMTP id 6C91360524C8;
 Fri, 19 Jul 2024 06:01:34 -0400 (EDT)
Subject: |PENDING| pw142519 [PATCH] net/netvsc: use rte_eth_dev_set_mtu to se
From: dpdklab@iol.unh.edu
To: Test Report <test-report@dpdk.org>
Cc: dpdk-test-reports@iol.unh.edu
In-Reply-To: <1721331316-8821-1-git-send-email-longli@linuxonhyperv.com>
References: <1721331316-8821-1-git-send-email-longli@linuxonhyperv.com>
Content-Type: text/plain
X-BeenThere: test-report@dpdk.org
X-Mailman-Version: 2.1.29
Precedence: list
List-Id: automatic DPDK test reports <test-report.dpdk.org>
List-Unsubscribe: <https://mails.dpdk.org/options/test-report>,
 <mailto:test-report-request@dpdk.org?subject=unsubscribe>
List-Archive: <http://mails.dpdk.org/archives/test-report/>
List-Post: <mailto:test-report@dpdk.org>
List-Help: <mailto:test-report-request@dpdk.org?subject=help>
List-Subscribe: <https://mails.dpdk.org/listinfo/test-report>,
 <mailto:test-report-request@dpdk.org?subject=subscribe>
Errors-To: test-report-bounces@dpdk.org

Test-Label: iol-unit-arm64-testing
Test-Status: PENDING
http://dpdk.org/patch/142519

_Testing pending_

Submitter: Long Li <longli@linuxonhyperv.com>
Date: Thursday, July 18 2024 19:35:16 
DPDK git baseline: Repo:dpdk
  Branch: master
  CommitID:d32d6c8e31923c3a1eeebe7da6ded89332830576

142519 --> testing pending

Upstream job id: Generic-Unit-Test-DPDK#241722

Test environment and result as below:

+--------------------------+----------------+
|       Environment        | dpdk_unit_test |
+==========================+================+
| CentOS Stream 9 (ARM)    | PASS           |
+--------------------------+----------------+
| Debian 12 (arm)          | PASS           |
+--------------------------+----------------+
| Debian 11 (Buster) (ARM) | PASS           |
+--------------------------+----------------+
| Fedora 37 (ARM)          | PASS           |
+--------------------------+----------------+
| Fedora 38 (ARM)          | PASS           |
+--------------------------+----------------+
| Fedora 38 (ARM Clang)    | PEND           |
+--------------------------+----------------+
| Fedora 39 (ARM)          | PASS           |
+--------------------------+----------------+
| Fedora 39 (ARM Clang)    | PEND           |
+--------------------------+----------------+
| Fedora 40 (ARM Clang)    | PEND           |
+--------------------------+----------------+
| Fedora 40 (ARM)          | PEND           |
+--------------------------+----------------+
| RHEL9 (ARM)              | PEND           |
+--------------------------+----------------+
| Ubuntu 20.04 (ARM)       | PEND           |
+--------------------------+----------------+
| Ubuntu 22.04 (ARM)       | PEND           |
+--------------------------+----------------+


CentOS Stream 9 (ARM)
	Kernel: Container Host Kernel
	Compiler: gcc 11.4.1

Debian 12 (arm)
	Kernel: Container Host Kernel
	Compiler: gcc 12.2.0

Debian 11 (Buster) (ARM)
	Kernel: Container Host Kernel
	Compiler: gcc 10.2.1

Fedora 37 (ARM)
	Kernel: Depends on container host
	Compiler: gcc 12.3.1

Fedora 38 (ARM)
	Kernel: Depends on container host
	Compiler: gcc 13.2.1

Fedora 38 (ARM Clang)
	Kernel: Depends on container host
	Compiler: clang 16.0.6

Fedora 39 (ARM)
	Kernel: Depends on container host
	Compiler: gcc 13.2.1

Fedora 39 (ARM Clang)
	Kernel: Depends on container host
	Compiler: clang 17.0.6

Fedora 40 (ARM Clang)
	Kernel: Depends on container host
	Compiler: clang 18.1.6

Fedora 40 (ARM)
	Kernel: Depends on container host
	Compiler: gcc 14.1.1

RHEL9 (ARM)
	Kernel: Depends on container host
	Compiler: gcc 11.4.1

Ubuntu 20.04 (ARM)
	Kernel: Container Host Kernel
	Compiler: gcc 9.4.0

Ubuntu 22.04 (ARM)
	Kernel: Container Host Kernel
	Compiler: gcc 11.4.0

To view detailed results, visit:
https://lab.dpdk.org/results/dashboard/patchsets/30559/

UNH-IOL DPDK Community Lab

To manage your email subscriptions, visit: 
https://lab.dpdk.org/results/dashboard/preferences/subscriptions/