From mboxrd@z Thu Jan  1 00:00:00 1970
Return-Path: <test-report-bounces@dpdk.org>
Received: from mails.dpdk.org (mails.dpdk.org [217.70.189.124])
	by inbox.dpdk.org (Postfix) with ESMTP id A6FA94564F
	for <public@inbox.dpdk.org>; Fri, 19 Jul 2024 12:16:56 +0200 (CEST)
Received: from mails.dpdk.org (localhost [127.0.0.1])
	by mails.dpdk.org (Postfix) with ESMTP id A1A3542E8C;
	Fri, 19 Jul 2024 12:16:56 +0200 (CEST)
Received: from mail-pf1-f228.google.com (mail-pf1-f228.google.com
 [209.85.210.228])
 by mails.dpdk.org (Postfix) with ESMTP id AAFFC42E7B
 for <test-report@dpdk.org>; Fri, 19 Jul 2024 12:16:55 +0200 (CEST)
Received: by mail-pf1-f228.google.com with SMTP id
 d2e1a72fcca58-70d01e4f7fcso191020b3a.1
 for <test-report@dpdk.org>; Fri, 19 Jul 2024 03:16:55 -0700 (PDT)
DKIM-Signature: v=1; a=rsa-sha256; c=relaxed/relaxed;
 d=iol.unh.edu; s=unh-iol; t=1721384215; x=1721989015; darn=dpdk.org;
 h=references:in-reply-to:cc:to:from:subject:message-id:date:from:to
 :cc:subject:date:message-id:reply-to;
 bh=v3xWw/rdq2qPBQ9aZki0Ib2cz5+KsABMAj1zBbNUcJg=;
 b=jn0+EhccqRvHXCW33Q96tcoZF53bCjUWE5hiJ2REKqxYTaoy3ub7UOsT6PZRjMCfuQ
 lxokfNwkHz6Ybtxa55BVjPJ82K8QrAqQ6DVHkAOpf5I7tybFAbS87sEyfKP0ou6sbP3t
 jk7vJQDMAEJZgu/81SqJFyDXnvuNHDXNxIvIQ=
X-Google-DKIM-Signature: v=1; a=rsa-sha256; c=relaxed/relaxed;
 d=1e100.net; s=20230601; t=1721384215; x=1721989015;
 h=references:in-reply-to:cc:to:from:subject:message-id:date
 :x-gm-message-state:from:to:cc:subject:date:message-id:reply-to;
 bh=v3xWw/rdq2qPBQ9aZki0Ib2cz5+KsABMAj1zBbNUcJg=;
 b=CFJyywajJIVDau9mJIZfDcjl4CIlXBgRZHv98kgfWLXpHyY2403Pj5n3l3vT+zkBbL
 p4ZzI6KcfZ5Le0FL93xOIz2hmAqBdS5RObbtYWkYV2OZVdD9g3aNkCgaotHMIz3RE7EO
 +OVj1INOPvYTlLT2uII+89c2ZMf5rgyCQKRsvXmwOtypcrVegCGjQEOgwlTYChQ7keV8
 XKXC7rGRIa79bKCUuG4qvz2V26/M7RvtVJ8uxstvBqIqD+n1VjQiKq6AnxzcMitDVk6V
 LGV2qKwoMRBZAsVchKCUpmHRQPSqqCxgCTDiROaA45C3mdrJLXXw8t0QBUC8sMlTKJo8
 ToMQ==
X-Gm-Message-State: AOJu0YySm2bz53OnZ5hCaQ9jC9VQesuuXjdw/U2MWMrrNXUy0SrF67/9
 rT/GwBz9UuErPo18ceYB64nPKSZbNzGWMrnIDbHmiMOMakswqk/VxV5E75hra+WX1ssGP4f8EPi
 9rG+okB4XMGQMWkX/4i5wYi084NDm1lkCTDoSPqp5
X-Google-Smtp-Source: AGHT+IGqjUvzYmg46f/bMsEQkqY1taIMzlqG9wAOGW2fqd6tAp2YlbE1HsIpaYeI1Nc35rwmFV0ZRjVmeYez
X-Received: by 2002:a05:6a00:c92:b0:70b:122c:856 with SMTP id
 d2e1a72fcca58-70ce4f3f0c4mr7477740b3a.31.1721384214730; 
 Fri, 19 Jul 2024 03:16:54 -0700 (PDT)
Received: from postal.iol.unh.edu (postal.iol.unh.edu. [132.177.123.84])
 by smtp-relay.gmail.com with ESMTPS id
 d2e1a72fcca58-70cff59e829sm73143b3a.21.2024.07.19.03.16.54
 (version=TLS1_2 cipher=ECDHE-ECDSA-AES128-GCM-SHA256 bits=128/128);
 Fri, 19 Jul 2024 03:16:54 -0700 (PDT)
X-Relaying-Domain: iol.unh.edu
Date: Fri, 19 Jul 2024 03:16:54 -0700 (PDT)
Message-ID: <669a3d16.050a0220.8856e.46e7SMTPIN_ADDED_MISSING@mx.google.com>
Received: from [172.21.0.6] (unknown [172.18.0.240])
 by postal.iol.unh.edu (Postfix) with ESMTP id E88B860524C8;
 Fri, 19 Jul 2024 06:16:53 -0400 (EDT)
Subject: |PENDING| pw142519 [PATCH] net/netvsc: use rte_eth_dev_set_mtu to se
From: dpdklab@iol.unh.edu
To: Test Report <test-report@dpdk.org>
Cc: dpdk-test-reports@iol.unh.edu
In-Reply-To: <1721331316-8821-1-git-send-email-longli@linuxonhyperv.com>
References: <1721331316-8821-1-git-send-email-longli@linuxonhyperv.com>
Content-Type: text/plain
X-BeenThere: test-report@dpdk.org
X-Mailman-Version: 2.1.29
Precedence: list
List-Id: automatic DPDK test reports <test-report.dpdk.org>
List-Unsubscribe: <https://mails.dpdk.org/options/test-report>,
 <mailto:test-report-request@dpdk.org?subject=unsubscribe>
List-Archive: <http://mails.dpdk.org/archives/test-report/>
List-Post: <mailto:test-report@dpdk.org>
List-Help: <mailto:test-report-request@dpdk.org?subject=help>
List-Subscribe: <https://mails.dpdk.org/listinfo/test-report>,
 <mailto:test-report-request@dpdk.org?subject=subscribe>
Errors-To: test-report-bounces@dpdk.org

Test-Label: iol-unit-arm64-testing
Test-Status: PENDING
http://dpdk.org/patch/142519

_Testing pending_

Submitter: Long Li <longli@linuxonhyperv.com>
Date: Thursday, July 18 2024 19:35:16 
DPDK git baseline: Repo:dpdk
  Branch: master
  CommitID:d32d6c8e31923c3a1eeebe7da6ded89332830576

142519 --> testing pending

Upstream job id: Generic-Unit-Test-DPDK#241732

Test environment and result as below:

+-----------------------------+----------------+--------------+------------------------------+---------------------------+
|         Environment         | dpdk_unit_test | lpm_autotest | cryptodev_sw_snow3g_autotest | cryptodev_sw_zuc_autotest |
+=============================+================+==============+==============================+===========================+
| CentOS Stream 9 (ARM)       | PASS           | SKIPPED      | SKIPPED                      | SKIPPED                   |
+-----------------------------+----------------+--------------+------------------------------+---------------------------+
| Debian 12 (arm)             | PASS           | SKIPPED      | PEND                         | PEND                      |
+-----------------------------+----------------+--------------+------------------------------+---------------------------+
| Debian 11 (Buster) (ARM)    | PASS           | SKIPPED      | SKIPPED                      | SKIPPED                   |
+-----------------------------+----------------+--------------+------------------------------+---------------------------+
| Fedora 37 (ARM)             | PASS           | SKIPPED      | SKIPPED                      | SKIPPED                   |
+-----------------------------+----------------+--------------+------------------------------+---------------------------+
| Fedora 38 (ARM)             | PASS           | SKIPPED      | SKIPPED                      | SKIPPED                   |
+-----------------------------+----------------+--------------+------------------------------+---------------------------+
| Fedora 38 (ARM Clang)       | PEND           | SKIPPED      | SKIPPED                      | SKIPPED                   |
+-----------------------------+----------------+--------------+------------------------------+---------------------------+
| Fedora 39 (ARM)             | PASS           | SKIPPED      | SKIPPED                      | SKIPPED                   |
+-----------------------------+----------------+--------------+------------------------------+---------------------------+
| Fedora 39 (ARM Clang)       | PEND           | SKIPPED      | SKIPPED                      | SKIPPED                   |
+-----------------------------+----------------+--------------+------------------------------+---------------------------+
| Fedora 40 (ARM Clang)       | PEND           | SKIPPED      | SKIPPED                      | SKIPPED                   |
+-----------------------------+----------------+--------------+------------------------------+---------------------------+
| Fedora 40 (ARM)             | PASS           | SKIPPED      | SKIPPED                      | SKIPPED                   |
+-----------------------------+----------------+--------------+------------------------------+---------------------------+
| RHEL9 (ARM)                 | PASS           | SKIPPED      | SKIPPED                      | SKIPPED                   |
+-----------------------------+----------------+--------------+------------------------------+---------------------------+
| Ubuntu 20.04 (ARM)          | PEND           | SKIPPED      | SKIPPED                      | SKIPPED                   |
+-----------------------------+----------------+--------------+------------------------------+---------------------------+
| Ubuntu 22.04 (ARM)          | PEND           | SKIPPED      | SKIPPED                      | SKIPPED                   |
+-----------------------------+----------------+--------------+------------------------------+---------------------------+
| Ubuntu 24.04 (ARM)          | PEND           | SKIPPED      | SKIPPED                      | SKIPPED                   |
+-----------------------------+----------------+--------------+------------------------------+---------------------------+
| 32-bit Ubuntu 20.04.4 (ARM) | PEND           | SKIPPED      | SKIPPED                      | SKIPPED                   |
+-----------------------------+----------------+--------------+------------------------------+---------------------------+
| Ubuntu 20.04 ARM SVE        | SKIPPED        | PEND         | SKIPPED                      | SKIPPED                   |
+-----------------------------+----------------+--------------+------------------------------+---------------------------+


CentOS Stream 9 (ARM)
	Kernel: Container Host Kernel
	Compiler: gcc 11.4.1

Debian 12 (arm)
	Kernel: Container Host Kernel
	Compiler: gcc 12.2.0

Debian 11 (Buster) (ARM)
	Kernel: Container Host Kernel
	Compiler: gcc 10.2.1

Fedora 37 (ARM)
	Kernel: Depends on container host
	Compiler: gcc 12.3.1

Fedora 38 (ARM)
	Kernel: Depends on container host
	Compiler: gcc 13.2.1

Fedora 38 (ARM Clang)
	Kernel: Depends on container host
	Compiler: clang 16.0.6

Fedora 39 (ARM)
	Kernel: Depends on container host
	Compiler: gcc 13.2.1

Fedora 39 (ARM Clang)
	Kernel: Depends on container host
	Compiler: clang 17.0.6

Fedora 40 (ARM Clang)
	Kernel: Depends on container host
	Compiler: clang 18.1.6

Fedora 40 (ARM)
	Kernel: Depends on container host
	Compiler: gcc 14.1.1

RHEL9 (ARM)
	Kernel: Depends on container host
	Compiler: gcc 11.4.1

Ubuntu 20.04 (ARM)
	Kernel: Container Host Kernel
	Compiler: gcc 9.4.0

Ubuntu 22.04 (ARM)
	Kernel: Container Host Kernel
	Compiler: gcc 11.4.0

Ubuntu 24.04 (ARM)
	Kernel: 5.4.0-167-generic
	Compiler: gcc 13.2.0

32-bit Ubuntu 20.04.4 (ARM)
	Kernel: 5.4.0-155-generic aarch64
	Compiler: gcc 9.4

Ubuntu 20.04 ARM SVE
	Kernel: 5.4.0-167-generic
	Compiler: gcc (Ubuntu 10.5.0-1ubuntu1~20.04) 10.5.0

To view detailed results, visit:
https://lab.dpdk.org/results/dashboard/patchsets/30559/

UNH-IOL DPDK Community Lab

To manage your email subscriptions, visit: 
https://lab.dpdk.org/results/dashboard/preferences/subscriptions/