From mboxrd@z Thu Jan  1 00:00:00 1970
Return-Path: <test-report-bounces@dpdk.org>
Received: from mails.dpdk.org (mails.dpdk.org [217.70.189.124])
	by inbox.dpdk.org (Postfix) with ESMTP id 6D3D24564F
	for <public@inbox.dpdk.org>; Fri, 19 Jul 2024 12:41:18 +0200 (CEST)
Received: from mails.dpdk.org (localhost [127.0.0.1])
	by mails.dpdk.org (Postfix) with ESMTP id 67E2742E8C;
	Fri, 19 Jul 2024 12:41:18 +0200 (CEST)
Received: from mail-qv1-f99.google.com (mail-qv1-f99.google.com
 [209.85.219.99]) by mails.dpdk.org (Postfix) with ESMTP id BD08C42E7B
 for <test-report@dpdk.org>; Fri, 19 Jul 2024 12:41:17 +0200 (CEST)
Received: by mail-qv1-f99.google.com with SMTP id
 6a1803df08f44-6b61bb5f6c0so5794076d6.2
 for <test-report@dpdk.org>; Fri, 19 Jul 2024 03:41:17 -0700 (PDT)
DKIM-Signature: v=1; a=rsa-sha256; c=relaxed/relaxed;
 d=iol.unh.edu; s=unh-iol; t=1721385677; x=1721990477; darn=dpdk.org;
 h=references:in-reply-to:cc:to:from:subject:message-id:date:from:to
 :cc:subject:date:message-id:reply-to;
 bh=5YblQNbaKU+318LKfmkzRaVXyCmehNQcbWR/rUGH8YI=;
 b=ZR0WIHBrafbRGsdpW8PXVHLdLxKnQO/1Gvf4quP5Sh994oQx8mPlGYtIJblXHIjF8P
 082aHd+uU3LmVgJPPZsKM6Y4tQFwsSVskqffO31RsKKWd94Qa1ATSjphavB/61fzQbd0
 cCw7xUL9jhCSOYLxqATEMLfs/8l14D2b+G+6c=
X-Google-DKIM-Signature: v=1; a=rsa-sha256; c=relaxed/relaxed;
 d=1e100.net; s=20230601; t=1721385677; x=1721990477;
 h=references:in-reply-to:cc:to:from:subject:message-id:date
 :x-gm-message-state:from:to:cc:subject:date:message-id:reply-to;
 bh=5YblQNbaKU+318LKfmkzRaVXyCmehNQcbWR/rUGH8YI=;
 b=wrg15fFnwTUOA9fwTyWE40TZDww/iGT6fHj3qVsJ4KF2aJQlwzEKDZeYpVbJ0sLWSa
 mltIf6+GDmJ3zBNj7UmKNSWKoyatuOgDARNb0tiYSu9K8agM6heENaGGCK+G4gO3hQ1O
 b16szJqF0SKDwXoMBZKHqwDuj+Kevngd5qgHv4juPdkC9ZdgrDLbTN+kuG68Q9QrUPkZ
 RuwGTWFDPnk8FBY6uqfopmGAZgTsi3Ymk7fizj6bMBr+CxOBKFa02D03oCznCNC42LTf
 +LMwJeeQ3BWLPYkPG+KOl4/otRyx/YwNgZNA3vPiLCNCmZrEtPgqHKOJ9xbu9s2G5ry0
 QNkA==
X-Gm-Message-State: AOJu0YwDaHdEK7k5F3SZhUwSSWcuZbAjIQ5atjP36xP99nbedn5H7zag
 tmyLw8kwskDGy/SuwKZMXHYY58CjrQ+7mOwagBVVffjKbBF18OCzVKIc9PpAlPuF4T4QvAV+mNL
 13mLUpbkVneNxEY7gAd8nN78DRpRcc5UNHDRGMdjMJKy6cIUz/TspzFjx
X-Google-Smtp-Source: AGHT+IF7WqVknSi+NlVMBcA5NihjlMi8UZ9714A2hcBLrCclUX6ANvKqpQbo/O//R1acbhmQz00zNZXvz7l1
X-Received: by 2002:a05:6214:d65:b0:6b2:d335:e914 with SMTP id
 6a1803df08f44-6b79c7cd178mr62316636d6.52.1721385677113; 
 Fri, 19 Jul 2024 03:41:17 -0700 (PDT)
Received: from postal.iol.unh.edu (postal.iol.unh.edu.
 [2606:4100:3880:1234::84]) by smtp-relay.gmail.com with ESMTPS id
 6a1803df08f44-6b7ac9c394asm528246d6.69.2024.07.19.03.41.17
 (version=TLS1_2 cipher=ECDHE-ECDSA-AES128-GCM-SHA256 bits=128/128);
 Fri, 19 Jul 2024 03:41:17 -0700 (PDT)
X-Relaying-Domain: iol.unh.edu
Date: Fri, 19 Jul 2024 03:41:17 -0700 (PDT)
Message-ID: <669a42cd.050a0220.71afe.3234SMTPIN_ADDED_MISSING@mx.google.com>
Received: from [172.21.0.6] (unknown [172.18.0.240])
 by postal.iol.unh.edu (Postfix) with ESMTP id 9948160524C8;
 Fri, 19 Jul 2024 06:41:16 -0400 (EDT)
Subject: |PENDING| pw142519 [PATCH] net/netvsc: use rte_eth_dev_set_mtu to se
From: dpdklab@iol.unh.edu
To: Test Report <test-report@dpdk.org>
Cc: dpdk-test-reports@iol.unh.edu
In-Reply-To: <1721331316-8821-1-git-send-email-longli@linuxonhyperv.com>
References: <1721331316-8821-1-git-send-email-longli@linuxonhyperv.com>
Content-Type: text/plain
X-BeenThere: test-report@dpdk.org
X-Mailman-Version: 2.1.29
Precedence: list
List-Id: automatic DPDK test reports <test-report.dpdk.org>
List-Unsubscribe: <https://mails.dpdk.org/options/test-report>,
 <mailto:test-report-request@dpdk.org?subject=unsubscribe>
List-Archive: <http://mails.dpdk.org/archives/test-report/>
List-Post: <mailto:test-report@dpdk.org>
List-Help: <mailto:test-report-request@dpdk.org?subject=help>
List-Subscribe: <https://mails.dpdk.org/listinfo/test-report>,
 <mailto:test-report-request@dpdk.org?subject=subscribe>
Errors-To: test-report-bounces@dpdk.org

Test-Label: iol-compile-arm64-testing
Test-Status: PENDING
http://dpdk.org/patch/142519

_Testing pending_

Submitter: Long Li <longli@linuxonhyperv.com>
Date: Thursday, July 18 2024 19:35:16 
DPDK git baseline: Repo:dpdk
  Branch: master
  CommitID:d32d6c8e31923c3a1eeebe7da6ded89332830576

142519 --> testing pending

Upstream job id: Generic-DPDK-Compile-Meson#276467

Test environment and result as below:

+----------------------------------------+--------------------+
|              Environment               | dpdk_meson_compile |
+========================================+====================+
| RHEL9 (ARM)                            | PASS               |
+----------------------------------------+--------------------+
| Ubuntu 20.04 ARM GCC Cross Compile     | PEND               |
+----------------------------------------+--------------------+
| Debian 12 with MUSDK                   | PASS               |
+----------------------------------------+--------------------+
| Ubuntu 20.04 ARM SVE                   | PASS               |
+----------------------------------------+--------------------+
| Fedora 39 (ARM Clang)                  | PEND               |
+----------------------------------------+--------------------+
| Fedora 37 (ARM)                        | PASS               |
+----------------------------------------+--------------------+
| Fedora 39 (ARM)                        | PASS               |
+----------------------------------------+--------------------+
| Fedora 38 (ARM)                        | PASS               |
+----------------------------------------+--------------------+
| Fedora 38 (ARM Clang)                  | PEND               |
+----------------------------------------+--------------------+
| Fedora 40 (ARM)                        | PASS               |
+----------------------------------------+--------------------+
| Ubuntu 20.04 (ARM)                     | PASS               |
+----------------------------------------+--------------------+
| Ubuntu 22.04 (ARM)                     | PASS               |
+----------------------------------------+--------------------+
| Fedora 40 (ARM Clang)                  | PASS               |
+----------------------------------------+--------------------+
| Ubuntu 24.04 (ARM)                     | PASS               |
+----------------------------------------+--------------------+
| CentOS Stream 9 (ARM)                  | PASS               |
+----------------------------------------+--------------------+
| Debian 12 (arm)                        | PASS               |
+----------------------------------------+--------------------+
| Debian 11 (Buster) (ARM)               | PASS               |
+----------------------------------------+--------------------+
| Ubuntu 20.04 ARM Clang Cross Compile   | PEND               |
+----------------------------------------+--------------------+
| Ubuntu 20.04 aarch32 GCC Cross Compile | PASS               |
+----------------------------------------+--------------------+


RHEL9 (ARM)
	Kernel: Depends on container host
	Compiler: gcc 11.4.1

Ubuntu 20.04 ARM GCC Cross Compile
	Kernel: 5.4.0-167-generic
	Compiler: aarch64-linux-gnu-gcc (Ubuntu 9.4.0-1ubuntu1~20.04.2) 9.4.0

Debian 12 with MUSDK
	Kernel: Container Host Kernel
	Compiler: gcc 12.2.0

Ubuntu 20.04 ARM SVE
	Kernel: 5.4.0-167-generic
	Compiler: gcc (Ubuntu 10.5.0-1ubuntu1~20.04) 10.5.0

Fedora 39 (ARM Clang)
	Kernel: Depends on container host
	Compiler: clang 17.0.6

Fedora 37 (ARM)
	Kernel: Depends on container host
	Compiler: gcc 12.3.1

Fedora 39 (ARM)
	Kernel: Depends on container host
	Compiler: gcc 13.2.1

Fedora 38 (ARM)
	Kernel: Depends on container host
	Compiler: gcc 13.2.1

Fedora 38 (ARM Clang)
	Kernel: Depends on container host
	Compiler: clang 16.0.6

Fedora 40 (ARM)
	Kernel: Depends on container host
	Compiler: gcc 14.1.1

Ubuntu 20.04 (ARM)
	Kernel: Container Host Kernel
	Compiler: gcc 9.4.0

Ubuntu 22.04 (ARM)
	Kernel: Container Host Kernel
	Compiler: gcc 11.4.0

Fedora 40 (ARM Clang)
	Kernel: Depends on container host
	Compiler: clang 18.1.6

Ubuntu 24.04 (ARM)
	Kernel: 5.4.0-167-generic
	Compiler: gcc 13.2.0

CentOS Stream 9 (ARM)
	Kernel: Container Host Kernel
	Compiler: gcc 11.4.1

Debian 12 (arm)
	Kernel: Container Host Kernel
	Compiler: gcc 12.2.0

Debian 11 (Buster) (ARM)
	Kernel: Container Host Kernel
	Compiler: gcc 10.2.1

Ubuntu 20.04 ARM Clang Cross Compile
	Kernel: 5.4.0-72-generic
	Compiler: clang 10.0.0-4ubuntu1

Ubuntu 20.04 aarch32 GCC Cross Compile
	Kernel: 5.4.0-167-generic
	Compiler: gcc 9.4.0

To view detailed results, visit:
https://lab.dpdk.org/results/dashboard/patchsets/30559/

UNH-IOL DPDK Community Lab

To manage your email subscriptions, visit: 
https://lab.dpdk.org/results/dashboard/preferences/subscriptions/