From mboxrd@z Thu Jan  1 00:00:00 1970
Return-Path: <test-report-bounces@dpdk.org>
Received: from mails.dpdk.org (mails.dpdk.org [217.70.189.124])
	by inbox.dpdk.org (Postfix) with ESMTP id 0870E4564F
	for <public@inbox.dpdk.org>; Fri, 19 Jul 2024 13:25:42 +0200 (CEST)
Received: from mails.dpdk.org (localhost [127.0.0.1])
	by mails.dpdk.org (Postfix) with ESMTP id 0522940E31;
	Fri, 19 Jul 2024 13:25:42 +0200 (CEST)
Received: from mail-qv1-f99.google.com (mail-qv1-f99.google.com
 [209.85.219.99]) by mails.dpdk.org (Postfix) with ESMTP id E732A40285
 for <test-report@dpdk.org>; Fri, 19 Jul 2024 13:25:38 +0200 (CEST)
Received: by mail-qv1-f99.google.com with SMTP id
 6a1803df08f44-6b5f46191b5so9880846d6.3
 for <test-report@dpdk.org>; Fri, 19 Jul 2024 04:25:38 -0700 (PDT)
DKIM-Signature: v=1; a=rsa-sha256; c=relaxed/relaxed;
 d=iol.unh.edu; s=unh-iol; t=1721388338; x=1721993138; darn=dpdk.org;
 h=references:in-reply-to:cc:to:from:subject:message-id:date:from:to
 :cc:subject:date:message-id:reply-to;
 bh=co4Pow8aa7U8lQubGWYQCpwL03QTY+ldSLa05lE3X4I=;
 b=ceFo7uUlebtFdWfBbIDwvCZgnCQza7Hr9ezt4NdamzylFp2cGXKCXycT8/Bnl8ljXs
 KBmZE2nh+0wWnmoWn4xYhWA5N15BoF8TChuX68qoe6muzEHG3ohenZnNQLy4lCAh6yyv
 lAr23NBwBkZoePjjKzryRJCJe/GVhY8EwYcyI=
X-Google-DKIM-Signature: v=1; a=rsa-sha256; c=relaxed/relaxed;
 d=1e100.net; s=20230601; t=1721388338; x=1721993138;
 h=references:in-reply-to:cc:to:from:subject:message-id:date
 :x-gm-message-state:from:to:cc:subject:date:message-id:reply-to;
 bh=co4Pow8aa7U8lQubGWYQCpwL03QTY+ldSLa05lE3X4I=;
 b=K22a9USWS7K3eVg8kRHb741WFiTP/1tVxV6pkAcMjRz8+d0SPiX+vEQp6Af0+H2Ya/
 yTb5R8hZghWwuoVtClTayJURlZI3F260WvS4x7sljjLy34iZtmo5ypIeuRghmAGP5kWA
 TRhO7TtZbCBRHHuXbrHO3qRZZgObLLY2gjK85lohgRppxcCtLjNHP4En3dnw9RE+dpuN
 +O032MhHSYWOD8yJEz9dzSq6RV3/rEUj4Av74/8653E2PPZDgeRUXBGGPKvUF1umpwvk
 If/PPlrpKBgY58BcEb+18BwsJIVY77JD1idsoAEbnkTzn3RPz056XD+JR8HfnmoLPESq
 VnpQ==
X-Gm-Message-State: AOJu0Yw+maUIwiLmJ/UQK/MFny1L7v1Mo0ko5qKSK/35tYYtCxdizXsf
 ewfDnuGYXWlKMAFt69NeDQuzQfRJFmJNWt9VOxadQEoCvtm/PoOedd706J/FKQ1HKeUvoh7aCW/
 kR3RUBj81dgxk075/CWY49g3RB0whMfV7HegcEpt0
X-Google-Smtp-Source: AGHT+IEC8FzrhlRDbUkom3XhBRYJMS6T078MXd+yzN8al02EgoF6zcShzAt4zBbEznI+hVznlc66rrslsUpm
X-Received: by 2002:ad4:5cc6:0:b0:6b7:a248:3961 with SMTP id
 6a1803df08f44-6b7a248404amr47133626d6.41.1721388338294; 
 Fri, 19 Jul 2024 04:25:38 -0700 (PDT)
Received: from postal.iol.unh.edu (postal.iol.unh.edu. [132.177.123.84])
 by smtp-relay.gmail.com with ESMTPS id
 6a1803df08f44-6b7ac788e86sm564246d6.8.2024.07.19.04.25.38
 (version=TLS1_2 cipher=ECDHE-ECDSA-AES128-GCM-SHA256 bits=128/128);
 Fri, 19 Jul 2024 04:25:38 -0700 (PDT)
X-Relaying-Domain: iol.unh.edu
Date: Fri, 19 Jul 2024 04:25:38 -0700 (PDT)
Message-ID: <669a4d32.050a0220.2e5e30.3a06SMTPIN_ADDED_MISSING@mx.google.com>
Received: from [172.21.0.7] (unknown [172.18.0.240])
 by postal.iol.unh.edu (Postfix) with ESMTP id 05DE560524C8;
 Fri, 19 Jul 2024 07:25:38 -0400 (EDT)
Subject: |SUCCESS| pw142519 [PATCH] net/netvsc: use rte_eth_dev_set_mtu to se
From: dpdklab@iol.unh.edu
To: Test Report <test-report@dpdk.org>
Cc: dpdk-test-reports@iol.unh.edu
In-Reply-To: <1721331316-8821-1-git-send-email-longli@linuxonhyperv.com>
References: <1721331316-8821-1-git-send-email-longli@linuxonhyperv.com>
Content-Type: text/plain
X-BeenThere: test-report@dpdk.org
X-Mailman-Version: 2.1.29
Precedence: list
List-Id: automatic DPDK test reports <test-report.dpdk.org>
List-Unsubscribe: <https://mails.dpdk.org/options/test-report>,
 <mailto:test-report-request@dpdk.org?subject=unsubscribe>
List-Archive: <http://mails.dpdk.org/archives/test-report/>
List-Post: <mailto:test-report@dpdk.org>
List-Help: <mailto:test-report-request@dpdk.org?subject=help>
List-Subscribe: <https://mails.dpdk.org/listinfo/test-report>,
 <mailto:test-report-request@dpdk.org?subject=subscribe>
Errors-To: test-report-bounces@dpdk.org

Test-Label: iol-compile-arm64-testing
Test-Status: SUCCESS
http://dpdk.org/patch/142519

_Testing PASS_

Submitter: Long Li <longli@linuxonhyperv.com>
Date: Thursday, July 18 2024 19:35:16 
DPDK git baseline: Repo:dpdk
  Branch: master
  CommitID:d32d6c8e31923c3a1eeebe7da6ded89332830576

142519 --> testing pass

Upstream job id: Generic-DPDK-Compile-Meson#276450

Test environment and result as below:

+----------------------------------------+--------------------+
|              Environment               | dpdk_meson_compile |
+========================================+====================+
| RHEL9 (ARM)                            | PASS               |
+----------------------------------------+--------------------+
| Ubuntu 20.04 ARM GCC Cross Compile     | PASS               |
+----------------------------------------+--------------------+
| Debian 12 with MUSDK                   | PASS               |
+----------------------------------------+--------------------+
| Ubuntu 20.04 ARM SVE                   | PASS               |
+----------------------------------------+--------------------+
| Fedora 39 (ARM Clang)                  | PASS               |
+----------------------------------------+--------------------+
| Fedora 37 (ARM)                        | PASS               |
+----------------------------------------+--------------------+
| Fedora 39 (ARM)                        | PASS               |
+----------------------------------------+--------------------+
| Fedora 38 (ARM)                        | PASS               |
+----------------------------------------+--------------------+
| Fedora 38 (ARM Clang)                  | PASS               |
+----------------------------------------+--------------------+
| Fedora 40 (ARM)                        | PASS               |
+----------------------------------------+--------------------+
| Ubuntu 20.04 (ARM)                     | PASS               |
+----------------------------------------+--------------------+
| Ubuntu 22.04 (ARM)                     | PASS               |
+----------------------------------------+--------------------+
| Fedora 40 (ARM Clang)                  | PASS               |
+----------------------------------------+--------------------+
| Ubuntu 24.04 (ARM)                     | PASS               |
+----------------------------------------+--------------------+
| CentOS Stream 9 (ARM)                  | PASS               |
+----------------------------------------+--------------------+
| Debian 12 (arm)                        | PASS               |
+----------------------------------------+--------------------+
| Debian 11 (Buster) (ARM)               | PASS               |
+----------------------------------------+--------------------+
| Ubuntu 20.04 ARM Clang Cross Compile   | PASS               |
+----------------------------------------+--------------------+
| Ubuntu 20.04 aarch32 GCC Cross Compile | PASS               |
+----------------------------------------+--------------------+


RHEL9 (ARM)
	Kernel: Depends on container host
	Compiler: gcc 11.4.1

Ubuntu 20.04 ARM GCC Cross Compile
	Kernel: 5.4.0-167-generic
	Compiler: aarch64-linux-gnu-gcc (Ubuntu 9.4.0-1ubuntu1~20.04.2) 9.4.0

Debian 12 with MUSDK
	Kernel: Container Host Kernel
	Compiler: gcc 12.2.0

Ubuntu 20.04 ARM SVE
	Kernel: 5.4.0-167-generic
	Compiler: gcc (Ubuntu 10.5.0-1ubuntu1~20.04) 10.5.0

Fedora 39 (ARM Clang)
	Kernel: Depends on container host
	Compiler: clang 17.0.6

Fedora 37 (ARM)
	Kernel: Depends on container host
	Compiler: gcc 12.3.1

Fedora 39 (ARM)
	Kernel: Depends on container host
	Compiler: gcc 13.2.1

Fedora 38 (ARM)
	Kernel: Depends on container host
	Compiler: gcc 13.2.1

Fedora 38 (ARM Clang)
	Kernel: Depends on container host
	Compiler: clang 16.0.6

Fedora 40 (ARM)
	Kernel: Depends on container host
	Compiler: gcc 14.1.1

Ubuntu 20.04 (ARM)
	Kernel: Container Host Kernel
	Compiler: gcc 9.4.0

Ubuntu 22.04 (ARM)
	Kernel: Container Host Kernel
	Compiler: gcc 11.4.0

Fedora 40 (ARM Clang)
	Kernel: Depends on container host
	Compiler: clang 18.1.6

Ubuntu 24.04 (ARM)
	Kernel: 5.4.0-167-generic
	Compiler: gcc 13.2.0

CentOS Stream 9 (ARM)
	Kernel: Container Host Kernel
	Compiler: gcc 11.4.1

Debian 12 (arm)
	Kernel: Container Host Kernel
	Compiler: gcc 12.2.0

Debian 11 (Buster) (ARM)
	Kernel: Container Host Kernel
	Compiler: gcc 10.2.1

Ubuntu 20.04 ARM Clang Cross Compile
	Kernel: 5.4.0-72-generic
	Compiler: clang 10.0.0-4ubuntu1

Ubuntu 20.04 aarch32 GCC Cross Compile
	Kernel: 5.4.0-167-generic
	Compiler: gcc 9.4.0

To view detailed results, visit:
https://lab.dpdk.org/results/dashboard/patchsets/30559/

UNH-IOL DPDK Community Lab

To manage your email subscriptions, visit: 
https://lab.dpdk.org/results/dashboard/preferences/subscriptions/