From mboxrd@z Thu Jan  1 00:00:00 1970
Return-Path: <test-report-bounces@dpdk.org>
Received: from mails.dpdk.org (mails.dpdk.org [217.70.189.124])
	by inbox.dpdk.org (Postfix) with ESMTP id 1CCF84564F
	for <public@inbox.dpdk.org>; Fri, 19 Jul 2024 13:44:35 +0200 (CEST)
Received: from mails.dpdk.org (localhost [127.0.0.1])
	by mails.dpdk.org (Postfix) with ESMTP id 13E62402D2;
	Fri, 19 Jul 2024 13:44:35 +0200 (CEST)
Received: from mail-io1-f100.google.com (mail-io1-f100.google.com
 [209.85.166.100])
 by mails.dpdk.org (Postfix) with ESMTP id 1F08640285
 for <test-report@dpdk.org>; Fri, 19 Jul 2024 13:44:34 +0200 (CEST)
Received: by mail-io1-f100.google.com with SMTP id
 ca18e2360f4ac-8076ef91d8eso68073739f.1
 for <test-report@dpdk.org>; Fri, 19 Jul 2024 04:44:34 -0700 (PDT)
DKIM-Signature: v=1; a=rsa-sha256; c=relaxed/relaxed;
 d=iol.unh.edu; s=unh-iol; t=1721389473; x=1721994273; darn=dpdk.org;
 h=references:in-reply-to:cc:to:from:subject:message-id:date:from:to
 :cc:subject:date:message-id:reply-to;
 bh=V3F+1MyCuBpdRJpZyFqTN1cSwpPKScWKqw0G9l/0qsw=;
 b=WqffcBuFUu/eUpWCrxfVh0WTGWDr5VVPC5JLOU5I0MGYY7nMoq6K0Fdi+1O/tKNEu5
 0q/yJpk4/DDOPTQn+khSJ6aOGSR+SrQC5NcwA7utBruHmAMh6Qcvvc2VDzxf8k+qwojM
 y3SQTnn9oQg4OJ+e+LlJcOOaVZirfO7TJxjDM=
X-Google-DKIM-Signature: v=1; a=rsa-sha256; c=relaxed/relaxed;
 d=1e100.net; s=20230601; t=1721389473; x=1721994273;
 h=references:in-reply-to:cc:to:from:subject:message-id:date
 :x-gm-message-state:from:to:cc:subject:date:message-id:reply-to;
 bh=V3F+1MyCuBpdRJpZyFqTN1cSwpPKScWKqw0G9l/0qsw=;
 b=GvUAe0lQoRampaTgJ30w+PZvZ1kB5KSyDSccn19c85ZDK6WMJ4Oikj+4l5HjtvSqXK
 qlRIXvkgASgwaaux8wLVcibgW87+LP1cs+cZ7Go4+8z0vmeyOHSuqKabHVoEBjh5Qr7e
 iqaglfMwhFGQZe4Wv71VfORv1WwbZbZSdxoOdQPcrHPO1h+bOeukCFusXO/MKKHx38Qj
 4f68JVbp7vIQLRquipEAp4tXwNj+fH3SoC1OWN+hV683eUqMMnOKciZuS+eYKu2Uj/2J
 1SaEL5vV5zCW4BisN/w/hTOhOmA16CGDAVOGnWl0dQP3fXYdIfpUUcdssMgkNmkzZyQy
 NGoA==
X-Gm-Message-State: AOJu0Yyj9Yhgn3aGWWtP9+xJvlfWX2d6ioPoRGB9CIZQffqW1oFpfYtB
 BIF0J/0yIy8Gc9DFd9EduvVwemT1ojw/WSZdlzXpXnA/L+1LI8Ug76y0DCdv65au+XAlSAfP0xk
 13gdWt/+yneXeAk9cUrKIkliwr7pONtm0rvBf4lOO/6rYi7EDHSl+Hori
X-Google-Smtp-Source: AGHT+IGW8JaoIPfVkoUnQ0iPM0T7teFrdZrjOLWKXvvAhNF0EXDevDg4YkbC7US+Noksgs4L9yiQUM6fhR9Z
X-Received: by 2002:a05:6e02:1387:b0:375:ac51:9c6c with SMTP id
 e9e14a558f8ab-39556e5129amr104871295ab.19.1721389473495; 
 Fri, 19 Jul 2024 04:44:33 -0700 (PDT)
Received: from postal.iol.unh.edu (postal.iol.unh.edu.
 [2606:4100:3880:1234::84]) by smtp-relay.gmail.com with ESMTPS id
 e9e14a558f8ab-397f5a40966sm614335ab.41.2024.07.19.04.44.33
 (version=TLS1_2 cipher=ECDHE-ECDSA-AES128-GCM-SHA256 bits=128/128);
 Fri, 19 Jul 2024 04:44:33 -0700 (PDT)
X-Relaying-Domain: iol.unh.edu
Date: Fri, 19 Jul 2024 04:44:33 -0700 (PDT)
Message-ID: <669a51a1.050a0220.3cc432.3cdfSMTPIN_ADDED_MISSING@mx.google.com>
Received: from [172.21.0.7] (unknown [172.18.0.240])
 by postal.iol.unh.edu (Postfix) with ESMTP id 05BB660524C8;
 Fri, 19 Jul 2024 07:44:33 -0400 (EDT)
Subject: |PENDING| pw142513-142516 [PATCH] [4/4] test: run timer secondary te
From: dpdklab@iol.unh.edu
To: Test Report <test-report@dpdk.org>
Cc: dpdk-test-reports@iol.unh.edu
In-Reply-To: <20240718191049.84865-5-stephen@networkplumber.org>
References: <20240718191049.84865-5-stephen@networkplumber.org>
Content-Type: text/plain
X-BeenThere: test-report@dpdk.org
X-Mailman-Version: 2.1.29
Precedence: list
List-Id: automatic DPDK test reports <test-report.dpdk.org>
List-Unsubscribe: <https://mails.dpdk.org/options/test-report>,
 <mailto:test-report-request@dpdk.org?subject=unsubscribe>
List-Archive: <http://mails.dpdk.org/archives/test-report/>
List-Post: <mailto:test-report@dpdk.org>
List-Help: <mailto:test-report-request@dpdk.org?subject=help>
List-Subscribe: <https://mails.dpdk.org/listinfo/test-report>,
 <mailto:test-report-request@dpdk.org?subject=subscribe>
Errors-To: test-report-bounces@dpdk.org

Test-Label: iol-unit-arm64-testing
Test-Status: PENDING
http://dpdk.org/patch/142516

_Testing pending_

Submitter: Stephen Hemminger <stephen@networkplumber.org>
Date: Thursday, July 18 2024 19:07:15 
DPDK git baseline: Repo:dpdk
  Branch: master
  CommitID:fa8d2f7f28524a6c8defa3dcd94f5aa131aae084

142513-142516 --> testing pending

Upstream job id: Generic-Unit-Test-DPDK#241797

Test environment and result as below:

+-----------------------------+--------------+---------------------------+----------------+------------------------------+
|         Environment         | lpm_autotest | cryptodev_sw_zuc_autotest | dpdk_unit_test | cryptodev_sw_snow3g_autotest |
+=============================+==============+===========================+================+==============================+
| Ubuntu 20.04 ARM SVE        | PEND         | SKIPPED                   | SKIPPED        | SKIPPED                      |
+-----------------------------+--------------+---------------------------+----------------+------------------------------+
| Debian 12 (arm)             | SKIPPED      | PASS                      | PASS           | PASS                         |
+-----------------------------+--------------+---------------------------+----------------+------------------------------+
| 32-bit Ubuntu 20.04.4 (ARM) | SKIPPED      | SKIPPED                   | PASS           | SKIPPED                      |
+-----------------------------+--------------+---------------------------+----------------+------------------------------+
| CentOS Stream 9 (ARM)       | SKIPPED      | SKIPPED                   | PASS           | SKIPPED                      |
+-----------------------------+--------------+---------------------------+----------------+------------------------------+
| Debian 11 (Buster) (ARM)    | SKIPPED      | SKIPPED                   | PASS           | SKIPPED                      |
+-----------------------------+--------------+---------------------------+----------------+------------------------------+
| Fedora 37 (ARM)             | SKIPPED      | SKIPPED                   | PASS           | SKIPPED                      |
+-----------------------------+--------------+---------------------------+----------------+------------------------------+
| Fedora 38 (ARM)             | SKIPPED      | SKIPPED                   | PASS           | SKIPPED                      |
+-----------------------------+--------------+---------------------------+----------------+------------------------------+
| Fedora 39 (ARM)             | SKIPPED      | SKIPPED                   | PASS           | SKIPPED                      |
+-----------------------------+--------------+---------------------------+----------------+------------------------------+
| Fedora 38 (ARM Clang)       | SKIPPED      | SKIPPED                   | PEND           | SKIPPED                      |
+-----------------------------+--------------+---------------------------+----------------+------------------------------+
| Fedora 39 (ARM Clang)       | SKIPPED      | SKIPPED                   | PEND           | SKIPPED                      |
+-----------------------------+--------------+---------------------------+----------------+------------------------------+
| Fedora 40 (ARM)             | SKIPPED      | SKIPPED                   | PASS           | SKIPPED                      |
+-----------------------------+--------------+---------------------------+----------------+------------------------------+
| Fedora 40 (ARM Clang)       | SKIPPED      | SKIPPED                   | PEND           | SKIPPED                      |
+-----------------------------+--------------+---------------------------+----------------+------------------------------+
| RHEL9 (ARM)                 | SKIPPED      | SKIPPED                   | PEND           | SKIPPED                      |
+-----------------------------+--------------+---------------------------+----------------+------------------------------+
| Ubuntu 20.04 (ARM)          | SKIPPED      | SKIPPED                   | PEND           | SKIPPED                      |
+-----------------------------+--------------+---------------------------+----------------+------------------------------+
| Ubuntu 22.04 (ARM)          | SKIPPED      | SKIPPED                   | PEND           | SKIPPED                      |
+-----------------------------+--------------+---------------------------+----------------+------------------------------+
| Ubuntu 24.04 (ARM)          | SKIPPED      | SKIPPED                   | PEND           | SKIPPED                      |
+-----------------------------+--------------+---------------------------+----------------+------------------------------+


Ubuntu 20.04 ARM SVE
	Kernel: 5.4.0-167-generic
	Compiler: gcc (Ubuntu 10.5.0-1ubuntu1~20.04) 10.5.0

Debian 12 (arm)
	Kernel: Container Host Kernel
	Compiler: gcc 12.2.0

32-bit Ubuntu 20.04.4 (ARM)
	Kernel: 5.4.0-155-generic aarch64
	Compiler: gcc 9.4

CentOS Stream 9 (ARM)
	Kernel: Container Host Kernel
	Compiler: gcc 11.4.1

Debian 11 (Buster) (ARM)
	Kernel: Container Host Kernel
	Compiler: gcc 10.2.1

Fedora 37 (ARM)
	Kernel: Depends on container host
	Compiler: gcc 12.3.1

Fedora 38 (ARM)
	Kernel: Depends on container host
	Compiler: gcc 13.2.1

Fedora 39 (ARM)
	Kernel: Depends on container host
	Compiler: gcc 13.2.1

Fedora 38 (ARM Clang)
	Kernel: Depends on container host
	Compiler: clang 16.0.6

Fedora 39 (ARM Clang)
	Kernel: Depends on container host
	Compiler: clang 17.0.6

Fedora 40 (ARM)
	Kernel: Depends on container host
	Compiler: gcc 14.1.1

Fedora 40 (ARM Clang)
	Kernel: Depends on container host
	Compiler: clang 18.1.6

RHEL9 (ARM)
	Kernel: Depends on container host
	Compiler: gcc 11.4.1

Ubuntu 20.04 (ARM)
	Kernel: Container Host Kernel
	Compiler: gcc 9.4.0

Ubuntu 22.04 (ARM)
	Kernel: Container Host Kernel
	Compiler: gcc 11.4.0

Ubuntu 24.04 (ARM)
	Kernel: 5.4.0-167-generic
	Compiler: gcc 13.2.0

To view detailed results, visit:
https://lab.dpdk.org/results/dashboard/patchsets/30558/

UNH-IOL DPDK Community Lab

To manage your email subscriptions, visit: 
https://lab.dpdk.org/results/dashboard/preferences/subscriptions/