From mboxrd@z Thu Jan  1 00:00:00 1970
Return-Path: <test-report-bounces@dpdk.org>
Received: from mails.dpdk.org (mails.dpdk.org [217.70.189.124])
	by inbox.dpdk.org (Postfix) with ESMTP id A2F9D45655
	for <public@inbox.dpdk.org>; Fri, 19 Jul 2024 14:09:44 +0200 (CEST)
Received: from mails.dpdk.org (localhost [127.0.0.1])
	by mails.dpdk.org (Postfix) with ESMTP id 9E0DB402D2;
	Fri, 19 Jul 2024 14:09:44 +0200 (CEST)
Received: from mail-io1-f99.google.com (mail-io1-f99.google.com
 [209.85.166.99]) by mails.dpdk.org (Postfix) with ESMTP id 14B0240285
 for <test-report@dpdk.org>; Fri, 19 Jul 2024 14:09:30 +0200 (CEST)
Received: by mail-io1-f99.google.com with SMTP id
 ca18e2360f4ac-7f684af6af1so78553339f.2
 for <test-report@dpdk.org>; Fri, 19 Jul 2024 05:09:30 -0700 (PDT)
DKIM-Signature: v=1; a=rsa-sha256; c=relaxed/relaxed;
 d=iol.unh.edu; s=unh-iol; t=1721390969; x=1721995769; darn=dpdk.org;
 h=references:in-reply-to:cc:to:from:subject:message-id:date:from:to
 :cc:subject:date:message-id:reply-to;
 bh=DFGyHpxHe0gn6toJX3NnlQHxBWP9IlQ6h5RvGHnSWtM=;
 b=PvXm/Vowzt4U3a4ZErs/HxwdfE9PT4falcmbEkCWTtiPG+OKv5msGVuvx1jBKNjt1x
 6JYWlKHIXzd1p6/hT+M6/sJzAxeAI3zam5i5jmQ4APaRnjRCQDQjVyo1rpPV27gxWLMi
 28L+TE/J0XAr05wY1poa5ZSjqpsPrJIqTD5zg=
X-Google-DKIM-Signature: v=1; a=rsa-sha256; c=relaxed/relaxed;
 d=1e100.net; s=20230601; t=1721390969; x=1721995769;
 h=references:in-reply-to:cc:to:from:subject:message-id:date
 :x-gm-message-state:from:to:cc:subject:date:message-id:reply-to;
 bh=DFGyHpxHe0gn6toJX3NnlQHxBWP9IlQ6h5RvGHnSWtM=;
 b=WN4a6XCSj9zM9XA9zf+TT22LRu8GoxNwMuEBtT+4/Q95/az20TVlOrJPXVAg3zOqiR
 aWfbiaJ08qEwTpTMV3LeL3k4sN0zZIDdbVWsNvk6t5ljTeBjNIWo4NNQNp2HHsHUOQMI
 WMYbAg1QsKszO9KW7d6Jvs7SJueSdObJyngHvT21zW9x0dcKSfHtbNxahLnK3XE4kGWa
 GwZTzKpU0VexOnMT31EDhu/6jeZlppgMgFcmd9jX2Owwe3QHx60Uj5Y02oC2LkhcQpC/
 R1xl+3oehlsUHfS0PGsBHDc+vcKtXCDWHe+u+FGpG7xsoHbLoTxP0H0Ftbmp2nuAtHrL
 lObA==
X-Gm-Message-State: AOJu0YzN4TzxcAfGXlN2SwSrQUSZhtIouH+KIu3Kk0iushYbp0X3HpvB
 7DeeL8lRCx/S/6MG4sm8Egn+2lIlNwZyUynm1RgBjoG/e2F3NiCTZQe3O5+edD/JrrxZd0LNLBy
 9UWgCqmUWkqvFEVv7ltS0CZ1Qplr++7Ssa29QtIyd
X-Google-Smtp-Source: AGHT+IEd5OK3ZhNqPgdAoPO9H5292W+XdmEOrbdchjNA3YtBJTJfgKgos+RDCJeBtSGGYjucTrtk+zoyZwJr
X-Received: by 2002:a05:6602:2ccf:b0:7f9:c953:c754 with SMTP id
 ca18e2360f4ac-8171003ff91mr999615239f.3.1721390969462; 
 Fri, 19 Jul 2024 05:09:29 -0700 (PDT)
Received: from postal.iol.unh.edu (postal.iol.unh.edu. [132.177.123.84])
 by smtp-relay.gmail.com with ESMTPS id
 8926c6da1cb9f-4c2343076a8sm50436173.19.2024.07.19.05.09.29
 (version=TLS1_2 cipher=ECDHE-ECDSA-AES128-GCM-SHA256 bits=128/128);
 Fri, 19 Jul 2024 05:09:29 -0700 (PDT)
X-Relaying-Domain: iol.unh.edu
Date: Fri, 19 Jul 2024 05:09:29 -0700 (PDT)
Message-ID: <669a5779.050a0220.5f51b.2e45SMTPIN_ADDED_MISSING@mx.google.com>
Received: from [172.21.0.8] (unknown [172.18.0.240])
 by postal.iol.unh.edu (Postfix) with ESMTP id 1E53260524C8;
 Fri, 19 Jul 2024 08:09:29 -0400 (EDT)
Subject: |PENDING| pw142513-142516 [PATCH] [4/4] test: run timer secondary te
From: dpdklab@iol.unh.edu
To: Test Report <test-report@dpdk.org>
Cc: dpdk-test-reports@iol.unh.edu
In-Reply-To: <20240718191049.84865-5-stephen@networkplumber.org>
References: <20240718191049.84865-5-stephen@networkplumber.org>
Content-Type: text/plain
X-BeenThere: test-report@dpdk.org
X-Mailman-Version: 2.1.29
Precedence: list
List-Id: automatic DPDK test reports <test-report.dpdk.org>
List-Unsubscribe: <https://mails.dpdk.org/options/test-report>,
 <mailto:test-report-request@dpdk.org?subject=unsubscribe>
List-Archive: <http://mails.dpdk.org/archives/test-report/>
List-Post: <mailto:test-report@dpdk.org>
List-Help: <mailto:test-report-request@dpdk.org?subject=help>
List-Subscribe: <https://mails.dpdk.org/listinfo/test-report>,
 <mailto:test-report-request@dpdk.org?subject=subscribe>
Errors-To: test-report-bounces@dpdk.org

Test-Label: iol-unit-arm64-testing
Test-Status: PENDING
http://dpdk.org/patch/142516

_Testing pending_

Submitter: Stephen Hemminger <stephen@networkplumber.org>
Date: Thursday, July 18 2024 19:07:15 
DPDK git baseline: Repo:dpdk
  Branch: master
  CommitID:fa8d2f7f28524a6c8defa3dcd94f5aa131aae084

142513-142516 --> testing pending

Upstream job id: Generic-Unit-Test-DPDK#241807

Test environment and result as below:

+-----------------------------+--------------+---------------------------+----------------+------------------------------+
|         Environment         | lpm_autotest | cryptodev_sw_zuc_autotest | dpdk_unit_test | cryptodev_sw_snow3g_autotest |
+=============================+==============+===========================+================+==============================+
| Ubuntu 20.04 ARM SVE        | PEND         | SKIPPED                   | SKIPPED        | SKIPPED                      |
+-----------------------------+--------------+---------------------------+----------------+------------------------------+
| Debian 12 (arm)             | SKIPPED      | PASS                      | PASS           | PASS                         |
+-----------------------------+--------------+---------------------------+----------------+------------------------------+
| 32-bit Ubuntu 20.04.4 (ARM) | SKIPPED      | SKIPPED                   | PASS           | SKIPPED                      |
+-----------------------------+--------------+---------------------------+----------------+------------------------------+
| CentOS Stream 9 (ARM)       | SKIPPED      | SKIPPED                   | PASS           | SKIPPED                      |
+-----------------------------+--------------+---------------------------+----------------+------------------------------+
| Debian 11 (Buster) (ARM)    | SKIPPED      | SKIPPED                   | PASS           | SKIPPED                      |
+-----------------------------+--------------+---------------------------+----------------+------------------------------+
| Fedora 37 (ARM)             | SKIPPED      | SKIPPED                   | PASS           | SKIPPED                      |
+-----------------------------+--------------+---------------------------+----------------+------------------------------+
| Fedora 38 (ARM)             | SKIPPED      | SKIPPED                   | PASS           | SKIPPED                      |
+-----------------------------+--------------+---------------------------+----------------+------------------------------+
| Fedora 39 (ARM)             | SKIPPED      | SKIPPED                   | PASS           | SKIPPED                      |
+-----------------------------+--------------+---------------------------+----------------+------------------------------+
| Fedora 38 (ARM Clang)       | SKIPPED      | SKIPPED                   | PASS           | SKIPPED                      |
+-----------------------------+--------------+---------------------------+----------------+------------------------------+
| Fedora 39 (ARM Clang)       | SKIPPED      | SKIPPED                   | PASS           | SKIPPED                      |
+-----------------------------+--------------+---------------------------+----------------+------------------------------+
| Fedora 40 (ARM)             | SKIPPED      | SKIPPED                   | PASS           | SKIPPED                      |
+-----------------------------+--------------+---------------------------+----------------+------------------------------+
| Fedora 40 (ARM Clang)       | SKIPPED      | SKIPPED                   | PASS           | SKIPPED                      |
+-----------------------------+--------------+---------------------------+----------------+------------------------------+
| RHEL9 (ARM)                 | SKIPPED      | SKIPPED                   | PASS           | SKIPPED                      |
+-----------------------------+--------------+---------------------------+----------------+------------------------------+
| Ubuntu 20.04 (ARM)          | SKIPPED      | SKIPPED                   | PASS           | SKIPPED                      |
+-----------------------------+--------------+---------------------------+----------------+------------------------------+
| Ubuntu 22.04 (ARM)          | SKIPPED      | SKIPPED                   | PASS           | SKIPPED                      |
+-----------------------------+--------------+---------------------------+----------------+------------------------------+
| Ubuntu 24.04 (ARM)          | SKIPPED      | SKIPPED                   | PASS           | SKIPPED                      |
+-----------------------------+--------------+---------------------------+----------------+------------------------------+


Ubuntu 20.04 ARM SVE
	Kernel: 5.4.0-167-generic
	Compiler: gcc (Ubuntu 10.5.0-1ubuntu1~20.04) 10.5.0

Debian 12 (arm)
	Kernel: Container Host Kernel
	Compiler: gcc 12.2.0

32-bit Ubuntu 20.04.4 (ARM)
	Kernel: 5.4.0-155-generic aarch64
	Compiler: gcc 9.4

CentOS Stream 9 (ARM)
	Kernel: Container Host Kernel
	Compiler: gcc 11.4.1

Debian 11 (Buster) (ARM)
	Kernel: Container Host Kernel
	Compiler: gcc 10.2.1

Fedora 37 (ARM)
	Kernel: Depends on container host
	Compiler: gcc 12.3.1

Fedora 38 (ARM)
	Kernel: Depends on container host
	Compiler: gcc 13.2.1

Fedora 39 (ARM)
	Kernel: Depends on container host
	Compiler: gcc 13.2.1

Fedora 38 (ARM Clang)
	Kernel: Depends on container host
	Compiler: clang 16.0.6

Fedora 39 (ARM Clang)
	Kernel: Depends on container host
	Compiler: clang 17.0.6

Fedora 40 (ARM)
	Kernel: Depends on container host
	Compiler: gcc 14.1.1

Fedora 40 (ARM Clang)
	Kernel: Depends on container host
	Compiler: clang 18.1.6

RHEL9 (ARM)
	Kernel: Depends on container host
	Compiler: gcc 11.4.1

Ubuntu 20.04 (ARM)
	Kernel: Container Host Kernel
	Compiler: gcc 9.4.0

Ubuntu 22.04 (ARM)
	Kernel: Container Host Kernel
	Compiler: gcc 11.4.0

Ubuntu 24.04 (ARM)
	Kernel: 5.4.0-167-generic
	Compiler: gcc 13.2.0

To view detailed results, visit:
https://lab.dpdk.org/results/dashboard/patchsets/30558/

UNH-IOL DPDK Community Lab

To manage your email subscriptions, visit: 
https://lab.dpdk.org/results/dashboard/preferences/subscriptions/