From mboxrd@z Thu Jan  1 00:00:00 1970
Return-Path: <test-report-bounces@dpdk.org>
Received: from mails.dpdk.org (mails.dpdk.org [217.70.189.124])
	by inbox.dpdk.org (Postfix) with ESMTP id 413AD45655
	for <public@inbox.dpdk.org>; Fri, 19 Jul 2024 14:38:01 +0200 (CEST)
Received: from mails.dpdk.org (localhost [127.0.0.1])
	by mails.dpdk.org (Postfix) with ESMTP id 3EFEF402D2;
	Fri, 19 Jul 2024 14:38:01 +0200 (CEST)
Received: from mail-yw1-f228.google.com (mail-yw1-f228.google.com
 [209.85.128.228])
 by mails.dpdk.org (Postfix) with ESMTP id 498BB40285
 for <test-report@dpdk.org>; Fri, 19 Jul 2024 14:37:59 +0200 (CEST)
Received: by mail-yw1-f228.google.com with SMTP id
 00721157ae682-64b417e1511so18814247b3.3
 for <test-report@dpdk.org>; Fri, 19 Jul 2024 05:37:59 -0700 (PDT)
DKIM-Signature: v=1; a=rsa-sha256; c=relaxed/relaxed;
 d=iol.unh.edu; s=unh-iol; t=1721392678; x=1721997478; darn=dpdk.org;
 h=references:in-reply-to:cc:to:from:subject:message-id:date:from:to
 :cc:subject:date:message-id:reply-to;
 bh=KUzXyRyazm6eVUGRP/0O2MSV9yHIBPNaimrLHQ1gGXo=;
 b=WdSMNlyoyocpbbSuZLBNOMt1UNoBGv4EiXEEp9l9w1Qsm2caJlAaxdxtVp5O2GPCFI
 mbpjMuBwMO7dKQBKH67xp5Zg2EDcLXNKdTJzIvYigJy/mrAHN+H8BD2kLfV08CmIvrvG
 3QGoKueSyPNqpmzeH+qMyAnptn9FsX0k4CTy4=
X-Google-DKIM-Signature: v=1; a=rsa-sha256; c=relaxed/relaxed;
 d=1e100.net; s=20230601; t=1721392678; x=1721997478;
 h=references:in-reply-to:cc:to:from:subject:message-id:date
 :x-gm-message-state:from:to:cc:subject:date:message-id:reply-to;
 bh=KUzXyRyazm6eVUGRP/0O2MSV9yHIBPNaimrLHQ1gGXo=;
 b=ZDnlhIyw8mL2KLITKgEwZU243kCDy8OLjLvDcoO9bPEKPE3DgfT3WNEDScce+h6VyH
 8ySMAEtsLndpC+uPQ2v0iOArKJnm2qP5ot9pjzAvdKI0Igrvgrrmes6/cTfqvBV2Pa3P
 vUqdqHQ7Li+V3wthXVoNlTK9fcvGwh+HVFzSeuZPx0JcoiWF/NCrYQdnJyIL0Ob5c+Fi
 spVMSMLiDeGs0/bV88TnxqFpP7GnasHVOmPPMfS0G+zcdyFXgQhjk48vQhPbf0Exkjm5
 TgN15j42tuF7+ghI7c5yKeX1F+G0fvFGYwWt7baTv4ZsHYdDK9Gpj456LQSMqWRiP3Fl
 t/7A==
X-Gm-Message-State: AOJu0YyuKkC6rEtejGSLTNQ0kuTWEBvdU43d6tfO6fMpX8SyW94+SMfl
 5ym0txDixvjQ6jp0f+j2Nudl+2OK7ISh1UGiBBxJ0bSLjGF/l+Z4dxAO6PP1ViMRkKXZ3hIo8vC
 MLwyv9q8/mTk+oN0hxRSdi3sgZT+BeJkJFwZcIa5W27TrxZkoWwoD4FZQ
X-Google-Smtp-Source: AGHT+IE2m+U89LQklv5cVEjQm93TXEzlk43gU/6cvmDRy1xUJMjw8QFf7cTMPefFuXZ2upNGrgZNoRKJ0+a0
X-Received: by 2002:a81:4311:0:b0:64b:2cf2:391c with SMTP id
 00721157ae682-66601fb57demr63334257b3.18.1721392678606; 
 Fri, 19 Jul 2024 05:37:58 -0700 (PDT)
Received: from postal.iol.unh.edu (postal.iol.unh.edu.
 [2606:4100:3880:1234::84]) by smtp-relay.gmail.com with ESMTPS id
 00721157ae682-66951b884c1sm572507b3.10.2024.07.19.05.37.58
 (version=TLS1_2 cipher=ECDHE-ECDSA-AES128-GCM-SHA256 bits=128/128);
 Fri, 19 Jul 2024 05:37:58 -0700 (PDT)
X-Relaying-Domain: iol.unh.edu
Date: Fri, 19 Jul 2024 05:37:58 -0700 (PDT)
Message-ID: <669a5e26.810a0220.36c3e.3443SMTPIN_ADDED_MISSING@mx.google.com>
Received: from [172.21.0.8] (unknown [172.18.0.240])
 by postal.iol.unh.edu (Postfix) with ESMTP id 11F2E60524C8;
 Fri, 19 Jul 2024 08:37:58 -0400 (EDT)
Subject: |PENDING| pw142517-142521 [PATCH] [v3,3/3] dts: mac filter test suit
From: dpdklab@iol.unh.edu
To: Test Report <test-report@dpdk.org>
Cc: dpdk-test-reports@iol.unh.edu
In-Reply-To: <20240718194028.2849-1-npratte@iol.unh.edu>
References: <20240718194028.2849-1-npratte@iol.unh.edu>
Content-Type: text/plain
X-BeenThere: test-report@dpdk.org
X-Mailman-Version: 2.1.29
Precedence: list
List-Id: automatic DPDK test reports <test-report.dpdk.org>
List-Unsubscribe: <https://mails.dpdk.org/options/test-report>,
 <mailto:test-report-request@dpdk.org?subject=unsubscribe>
List-Archive: <http://mails.dpdk.org/archives/test-report/>
List-Post: <mailto:test-report@dpdk.org>
List-Help: <mailto:test-report-request@dpdk.org?subject=help>
List-Subscribe: <https://mails.dpdk.org/listinfo/test-report>,
 <mailto:test-report-request@dpdk.org?subject=subscribe>
Errors-To: test-report-bounces@dpdk.org

Test-Label: iol-abi-testing
Test-Status: PENDING
http://dpdk.org/patch/142521

_Testing pending_

Submitter: Nicholas Pratte <npratte@iol.unh.edu>
Date: Thursday, July 18 2024 19:40:28 
DPDK git baseline: Repo:dpdk
  Branch: master
  CommitID:fa8d2f7f28524a6c8defa3dcd94f5aa131aae084

142517-142521 --> testing pending

Upstream job id: Generic-DPDK-Compile-ABI#99464

Test environment and result as below:

+-------------------+----------+
|    Environment    | abi_test |
+===================+==========+
| CentOS Stream 8   | PASS     |
+-------------------+----------+
| CentOS Stream 9   | PASS     |
+-------------------+----------+
| Fedora 37         | PASS     |
+-------------------+----------+
| Debian Bullseye   | PASS     |
+-------------------+----------+
| Fedora 38 (Clang) | PASS     |
+-------------------+----------+
| Debian 12         | PASS     |
+-------------------+----------+
| Fedora 38         | PASS     |
+-------------------+----------+
| Fedora 40 (Clang) | PASS     |
+-------------------+----------+
| Fedora 39 (Clang) | PASS     |
+-------------------+----------+
| openSUSE Leap 15  | PASS     |
+-------------------+----------+
| Fedora 40         | PASS     |
+-------------------+----------+
| RHEL8             | PASS     |
+-------------------+----------+
| RHEL9             | PASS     |
+-------------------+----------+
| Ubuntu 22.04      | PASS     |
+-------------------+----------+
| Ubuntu 24.04      | PASS     |
+-------------------+----------+
| Fedora 39         | PEND     |
+-------------------+----------+


CentOS Stream 8
	Kernel: 5.4.0-167-generic
	Compiler: gcc 8.5.0 20210514

CentOS Stream 9
	Kernel: 5.4.0-167-generic
	Compiler: gcc 11.4.1 20230605

Fedora 37
	Kernel: Depends on container host system
	Compiler: gcc 12.3.1

Debian Bullseye
	Kernel: 5.4.0-167-generic
	Compiler: gcc 10.2.1-6

Fedora 38 (Clang)
	Kernel: Depends on container host
	Compiler: clang 16.0.6

Debian 12
	Kernel: Container Host Kernel
	Compiler: gcc 12.2.0

Fedora 38
	Kernel: Depends on container host
	Compiler: gcc 13.2.1

Fedora 40 (Clang)
	Kernel: Depends on container host
	Compiler: clang 18.1.6

Fedora 39 (Clang)
	Kernel: Depends on container host
	Compiler: clang 17.0.6

openSUSE Leap 15
	Kernel: 5.4.0-167-generic
	Compiler: gcc 7.5.0

Fedora 40
	Kernel: Depends on container host
	Compiler: gcc 14.1.1

RHEL8
	Kernel: 5.4.0-167-generic
	Compiler: gcc 8.5.0 20210514 (Red Hat 8.5.0-20)

RHEL9
	Kernel: Depends on container host
	Compiler: gcc 11.4.1

Ubuntu 22.04
	Kernel: 5.4.0-167-generic
	Compiler: gcc 11.4.0

Ubuntu 24.04
	Kernel: 5.4.0-167-generic
	Compiler: gcc 13.2.0

Fedora 39
	Kernel: Depends on container host
	Compiler: gcc 13.2.1

To view detailed results, visit:
https://lab.dpdk.org/results/dashboard/patchsets/30557/

UNH-IOL DPDK Community Lab

To manage your email subscriptions, visit: 
https://lab.dpdk.org/results/dashboard/preferences/subscriptions/