From mboxrd@z Thu Jan  1 00:00:00 1970
Return-Path: <test-report-bounces@dpdk.org>
Received: from mails.dpdk.org (mails.dpdk.org [217.70.189.124])
	by inbox.dpdk.org (Postfix) with ESMTP id 7109E45655
	for <public@inbox.dpdk.org>; Fri, 19 Jul 2024 15:11:21 +0200 (CEST)
Received: from mails.dpdk.org (localhost [127.0.0.1])
	by mails.dpdk.org (Postfix) with ESMTP id 6A99540E0F;
	Fri, 19 Jul 2024 15:11:21 +0200 (CEST)
Received: from mail-qk1-f227.google.com (mail-qk1-f227.google.com
 [209.85.222.227])
 by mails.dpdk.org (Postfix) with ESMTP id 0E4B340DD5
 for <test-report@dpdk.org>; Fri, 19 Jul 2024 15:11:20 +0200 (CEST)
Received: by mail-qk1-f227.google.com with SMTP id
 af79cd13be357-79f17d6be18so84915185a.2
 for <test-report@dpdk.org>; Fri, 19 Jul 2024 06:11:20 -0700 (PDT)
DKIM-Signature: v=1; a=rsa-sha256; c=relaxed/relaxed;
 d=iol.unh.edu; s=unh-iol; t=1721394679; x=1721999479; darn=dpdk.org;
 h=references:in-reply-to:cc:to:from:subject:message-id:date:from:to
 :cc:subject:date:message-id:reply-to;
 bh=az9G2JJdy6FQhr1UeLAsqGIR1dMglUFz7KI6xiyxd7E=;
 b=jIqyKAx7gMWcxBzCMrjvL1VGhRZWRhEZVrqoqKOc88uKbavWhU8kKn0ge5rCVqGPSO
 3UWUGj1Hyy6kwVGQNEKsHcCzhrbT7wQIsC47avP9oLd8h/39k7AR3NGy4wKyq+OVUk2E
 jQ/Df1DAHM8uV4gwWvqoi/EKwMPhra+x+tOc8=
X-Google-DKIM-Signature: v=1; a=rsa-sha256; c=relaxed/relaxed;
 d=1e100.net; s=20230601; t=1721394679; x=1721999479;
 h=references:in-reply-to:cc:to:from:subject:message-id:date
 :x-gm-message-state:from:to:cc:subject:date:message-id:reply-to;
 bh=az9G2JJdy6FQhr1UeLAsqGIR1dMglUFz7KI6xiyxd7E=;
 b=ZnNcv0qge2VYmcQVwJa2yIw/mLLFgDKxI6h4iK4+LmptcwuQjZS4cWdzjn0j3QUgXo
 5mhc7U6tu/jU1oRoCnpjyRCeSZDBRxj2Yt2kWRmxnk1jv9+/Xxa6q1PJcyLld5yzrnwq
 ngKkZlfTJDCls2xFPlVBJk/Bi0fCHL3hB8XlrgWpgl2Tdofs+h+3nLhiKY+8sAxIqpbJ
 kycwFpAdiMiMC9fMxun8EsK7I7xTd6cEeVcWefs4d/Pk+3B77q5bkR2RnkO+qo6wooTk
 m9s0H7gHgwIsNrmnSwPxj0HP/H3k1ZOSH1GcGGluJeL9PBjw3ZwlHyzAKamdpgb7PVDa
 +dkw==
X-Gm-Message-State: AOJu0YzAyU/2Dnp/wMy3owe0W+YJh38cOxr/v4Vtk2IGW4Y5KqNB0EDb
 8y52fAyXnAt905IXgiKM3huzvYoQvnOb3qqLzqA7BP2RUfo7W/2lYBYK6hhTcb8pVaGMdYXYLiz
 DUtIWBwhem6zQFDTvut7TQ9+chIzd8np4LUIbP1XN
X-Google-Smtp-Source: AGHT+IE5ridih82hi1aHCXm+Jp/C+n6fhpRueQMSRIiDejM4UBqcr+0dnhqqDXD2ALiiyE4xJk4ylVE+cvDB
X-Received: by 2002:a05:620a:2416:b0:79f:baf:ed0f with SMTP id
 af79cd13be357-7a1938e98a0mr459502785a.23.1721394679435; 
 Fri, 19 Jul 2024 06:11:19 -0700 (PDT)
Received: from postal.iol.unh.edu (postal.iol.unh.edu. [132.177.123.84])
 by smtp-relay.gmail.com with ESMTPS id
 af79cd13be357-7a198fb0739sm5352985a.2.2024.07.19.06.11.19
 (version=TLS1_2 cipher=ECDHE-ECDSA-AES128-GCM-SHA256 bits=128/128);
 Fri, 19 Jul 2024 06:11:19 -0700 (PDT)
X-Relaying-Domain: iol.unh.edu
Date: Fri, 19 Jul 2024 06:11:19 -0700 (PDT)
Message-ID: <669a65f7.050a0220.b8eb6.31dbSMTPIN_ADDED_MISSING@mx.google.com>
Received: from [172.21.0.6] (unknown [172.18.0.240])
 by postal.iol.unh.edu (Postfix) with ESMTP id 0F4D760526E2;
 Fri, 19 Jul 2024 09:11:19 -0400 (EDT)
Subject: |PENDING| pw142513-142516 [PATCH] [4/4] test: run timer secondary te
From: dpdklab@iol.unh.edu
To: Test Report <test-report@dpdk.org>
Cc: dpdk-test-reports@iol.unh.edu
In-Reply-To: <20240718191049.84865-5-stephen@networkplumber.org>
References: <20240718191049.84865-5-stephen@networkplumber.org>
Content-Type: text/plain
X-BeenThere: test-report@dpdk.org
X-Mailman-Version: 2.1.29
Precedence: list
List-Id: automatic DPDK test reports <test-report.dpdk.org>
List-Unsubscribe: <https://mails.dpdk.org/options/test-report>,
 <mailto:test-report-request@dpdk.org?subject=unsubscribe>
List-Archive: <http://mails.dpdk.org/archives/test-report/>
List-Post: <mailto:test-report@dpdk.org>
List-Help: <mailto:test-report-request@dpdk.org?subject=help>
List-Subscribe: <https://mails.dpdk.org/listinfo/test-report>,
 <mailto:test-report-request@dpdk.org?subject=subscribe>
Errors-To: test-report-bounces@dpdk.org

Test-Label: iol-compile-amd64-testing
Test-Status: PENDING
http://dpdk.org/patch/142516

_Testing pending_

Submitter: Stephen Hemminger <stephen@networkplumber.org>
Date: Thursday, July 18 2024 19:07:15 
DPDK git baseline: Repo:dpdk
  Branch: master
  CommitID:fa8d2f7f28524a6c8defa3dcd94f5aa131aae084

142513-142516 --> testing pending

Upstream job id: Generic-DPDK-Compile-Meson#276520

Test environment and result as below:

+---------------------+--------------------+----------------------+------------------+-------------------+-------------------+
|     Environment     | dpdk_meson_compile | dpdk_mingw64_compile | dpdk_compile_ovs | dpdk_compile_spdk | dpdk_msvc_compile |
+=====================+====================+======================+==================+===================+===================+
| Windows Server 2019 | PASS               | PASS                 | SKIPPED          | SKIPPED           | SKIPPED           |
+---------------------+--------------------+----------------------+------------------+-------------------+-------------------+
| Windows Server 2022 | PASS               | PASS                 | SKIPPED          | SKIPPED           | PASS              |
+---------------------+--------------------+----------------------+------------------+-------------------+-------------------+
| FreeBSD 13.3        | PASS               | SKIPPED              | SKIPPED          | SKIPPED           | SKIPPED           |
+---------------------+--------------------+----------------------+------------------+-------------------+-------------------+
| FreeBSD 14.1        | PASS               | SKIPPED              | SKIPPED          | SKIPPED           | SKIPPED           |
+---------------------+--------------------+----------------------+------------------+-------------------+-------------------+
| CentOS Stream 8     | PASS               | SKIPPED              | PASS             | PASS              | SKIPPED           |
+---------------------+--------------------+----------------------+------------------+-------------------+-------------------+
| CentOS Stream 9     | PASS               | SKIPPED              | PASS             | PASS              | SKIPPED           |
+---------------------+--------------------+----------------------+------------------+-------------------+-------------------+
| Debian Bullseye     | PASS               | SKIPPED              | PASS             | PASS              | SKIPPED           |
+---------------------+--------------------+----------------------+------------------+-------------------+-------------------+
| Debian 12           | PASS               | SKIPPED              | PASS             | PASS              | SKIPPED           |
+---------------------+--------------------+----------------------+------------------+-------------------+-------------------+
| Fedora 37           | PASS               | SKIPPED              | PASS             | PASS              | SKIPPED           |
+---------------------+--------------------+----------------------+------------------+-------------------+-------------------+
| Fedora 38 (Clang)   | PASS               | SKIPPED              | PASS             | PASS              | SKIPPED           |
+---------------------+--------------------+----------------------+------------------+-------------------+-------------------+
| Fedora 38           | PASS               | SKIPPED              | PASS             | PASS              | SKIPPED           |
+---------------------+--------------------+----------------------+------------------+-------------------+-------------------+
| Fedora 39 (Clang)   | PEND               | SKIPPED              | PEND             | PEND              | SKIPPED           |
+---------------------+--------------------+----------------------+------------------+-------------------+-------------------+
| Fedora 39           | PASS               | SKIPPED              | PASS             | PASS              | SKIPPED           |
+---------------------+--------------------+----------------------+------------------+-------------------+-------------------+
| Fedora 40 (Clang)   | PEND               | SKIPPED              | PEND             | PEND              | SKIPPED           |
+---------------------+--------------------+----------------------+------------------+-------------------+-------------------+
| Fedora 40           | PASS               | SKIPPED              | PASS             | PASS              | SKIPPED           |
+---------------------+--------------------+----------------------+------------------+-------------------+-------------------+
| openSUSE Leap 15    | PEND               | SKIPPED              | PEND             | SKIPPED           | SKIPPED           |
+---------------------+--------------------+----------------------+------------------+-------------------+-------------------+
| RHEL8               | PASS               | SKIPPED              | PASS             | SKIPPED           | SKIPPED           |
+---------------------+--------------------+----------------------+------------------+-------------------+-------------------+
| RHEL9               | PASS               | SKIPPED              | PASS             | SKIPPED           | SKIPPED           |
+---------------------+--------------------+----------------------+------------------+-------------------+-------------------+
| Ubuntu 20.04        | PASS               | SKIPPED              | PASS             | SKIPPED           | SKIPPED           |
+---------------------+--------------------+----------------------+------------------+-------------------+-------------------+
| Ubuntu 22.04        | PASS               | SKIPPED              | PASS             | PASS              | SKIPPED           |
+---------------------+--------------------+----------------------+------------------+-------------------+-------------------+
| Ubuntu 24.04        | PASS               | SKIPPED              | PASS             | PASS              | SKIPPED           |
+---------------------+--------------------+----------------------+------------------+-------------------+-------------------+
| Alpine              | PASS               | SKIPPED              | PASS             | SKIPPED           | SKIPPED           |
+---------------------+--------------------+----------------------+------------------+-------------------+-------------------+


Windows Server 2019
	Kernel: 10.0.17763
	Compiler: clang 14.0 and gcc 8.1.0 (MinGW)

Windows Server 2022
	Kernel: 10.0.20348.2031
	Compiler: clang 15.0.7, gcc 8.1.0 (MinGW), and MSVC VS 17.9

FreeBSD 13.3
	Kernel: 13.3-RELEASE-p1
	Compiler: clang 17.0.6

FreeBSD 14.1
	Kernel: 14.1
	Compiler: clang 18.1.5

CentOS Stream 8
	Kernel: 5.4.0-167-generic
	Compiler: gcc 8.5.0 20210514

CentOS Stream 9
	Kernel: 5.4.0-167-generic
	Compiler: gcc 11.4.1 20230605

Debian Bullseye
	Kernel: 5.4.0-167-generic
	Compiler: gcc 10.2.1-6

Debian 12
	Kernel: Container Host Kernel
	Compiler: gcc 12.2.0

Fedora 37
	Kernel: Depends on container host system
	Compiler: gcc 12.3.1

Fedora 38 (Clang)
	Kernel: Depends on container host
	Compiler: clang 16.0.6

Fedora 38
	Kernel: Depends on container host
	Compiler: gcc 13.2.1

Fedora 39 (Clang)
	Kernel: Depends on container host
	Compiler: clang 17.0.6

Fedora 39
	Kernel: Depends on container host
	Compiler: gcc 13.2.1

Fedora 40 (Clang)
	Kernel: Depends on container host
	Compiler: clang 18.1.6

Fedora 40
	Kernel: Depends on container host
	Compiler: gcc 14.1.1

openSUSE Leap 15
	Kernel: 5.4.0-167-generic
	Compiler: gcc 7.5.0

RHEL8
	Kernel: 5.4.0-167-generic
	Compiler: gcc 8.5.0 20210514 (Red Hat 8.5.0-20)

RHEL9
	Kernel: Depends on container host
	Compiler: gcc 11.4.1

Ubuntu 20.04
	Kernel: 5.4.0-167-generic
	Compiler: gcc 9.4.0-1ubuntu1~20.04.1

Ubuntu 22.04
	Kernel: 5.4.0-167-generic
	Compiler: gcc 11.4.0

Ubuntu 24.04
	Kernel: 5.4.0-167-generic
	Compiler: gcc 13.2.0

Alpine
	Kernel: 5.4.0-167-generic
	Compiler: gcc (Alpine 13.2.1_git20231014) 13.2.1 20231014

To view detailed results, visit:
https://lab.dpdk.org/results/dashboard/patchsets/30558/

UNH-IOL DPDK Community Lab

To manage your email subscriptions, visit: 
https://lab.dpdk.org/results/dashboard/preferences/subscriptions/