From mboxrd@z Thu Jan  1 00:00:00 1970
Return-Path: <test-report-bounces@dpdk.org>
Received: from mails.dpdk.org (mails.dpdk.org [217.70.189.124])
	by inbox.dpdk.org (Postfix) with ESMTP id 123AC45655
	for <public@inbox.dpdk.org>; Fri, 19 Jul 2024 15:32:16 +0200 (CEST)
Received: from mails.dpdk.org (localhost [127.0.0.1])
	by mails.dpdk.org (Postfix) with ESMTP id 0F31A40E0F;
	Fri, 19 Jul 2024 15:32:16 +0200 (CEST)
Received: from mail-io1-f98.google.com (mail-io1-f98.google.com
 [209.85.166.98]) by mails.dpdk.org (Postfix) with ESMTP id BCE3C4026A
 for <test-report@dpdk.org>; Fri, 19 Jul 2024 15:32:14 +0200 (CEST)
Received: by mail-io1-f98.google.com with SMTP id
 ca18e2360f4ac-7fb93b2e2a3so72332039f.1
 for <test-report@dpdk.org>; Fri, 19 Jul 2024 06:32:14 -0700 (PDT)
DKIM-Signature: v=1; a=rsa-sha256; c=relaxed/relaxed;
 d=iol.unh.edu; s=unh-iol; t=1721395934; x=1722000734; darn=dpdk.org;
 h=references:in-reply-to:cc:to:from:subject:message-id:date:from:to
 :cc:subject:date:message-id:reply-to;
 bh=naBj8RPsMAOaKw8MvdDiFfLjxKHO/U7SnRULboUSLVM=;
 b=LItE0PqPuymi5huhYX/UbKnE2CXnLrecRj90xHQ03m93mOEsIpzsp8DgoHQ8Xyg+fT
 Q//ArIXuv9z0ojifFhR9A91C2mI6iuwC0MlT2dgxP6nb1DAFMq7Y5alTn0bdnl0EIoIO
 TBDS/YAVD4Zehebvi1TWdZMA27xiYbEaH64/k=
X-Google-DKIM-Signature: v=1; a=rsa-sha256; c=relaxed/relaxed;
 d=1e100.net; s=20230601; t=1721395934; x=1722000734;
 h=references:in-reply-to:cc:to:from:subject:message-id:date
 :x-gm-message-state:from:to:cc:subject:date:message-id:reply-to;
 bh=naBj8RPsMAOaKw8MvdDiFfLjxKHO/U7SnRULboUSLVM=;
 b=S6gMxDkBPhcYy1alJZ9yRmmCdNLeGY06gGbM8iWgPxDZ1RpfovMhNAcb0iwBXOn7CM
 S1epAANYzzRc/Ty3d7q4NgfunjbzIIlHnb/2OfjWrX6Pcav+NHDopZICp5VtG2089S+a
 65B3fxNWrVKJMs1DdoFoaPehRBTjZQNGE1hLfwyNoOgc8Wsy02tUJk6U+YWyM65Xgbke
 a1BGAWIQH+WDQi+A/A7l/azQtqzxYBxTFiikXypq9kBrSySV4D20XS7H5BxzAgYYQnA/
 JaEj4CRe2Rjjwtz7ic+8fnpWEp31CQaggEbW1PgVG/J7H2LovA/dLCpYFCDHsYCOXpVZ
 8PlQ==
X-Gm-Message-State: AOJu0YxwVd3FFnlGKa3NIW98l43NTQ1EW9YppFKEADbmCZnUv+juHBnd
 aD7rpLCOiij6wanDs3fP9Slx9pC2F8TjxMbNAE70o2fbQHREHeHb/tTGxfC5d6m68JCTZ1UtGPm
 fPOpvXFk0YuhPGrUzroWd4uaPtNrwupCmQATNhp/Mty7jmONLu0+yicj6
X-Google-Smtp-Source: AGHT+IExV22sBx4q38rO3lZp6BHoZt9cB+XaWSenNkNOwLxgnYVKEYUsRp4HasVAJcjrrFqwkhFzJh/DoPkh
X-Received: by 2002:a05:6602:3fcc:b0:804:657d:92fc with SMTP id
 ca18e2360f4ac-817123e1bb4mr990807739f.18.1721395934018; 
 Fri, 19 Jul 2024 06:32:14 -0700 (PDT)
Received: from postal.iol.unh.edu (postal.iol.unh.edu.
 [2606:4100:3880:1234::84]) by smtp-relay.gmail.com with ESMTPS id
 8926c6da1cb9f-4c2343685f8sm53948173.47.2024.07.19.06.32.13
 (version=TLS1_2 cipher=ECDHE-ECDSA-AES128-GCM-SHA256 bits=128/128);
 Fri, 19 Jul 2024 06:32:14 -0700 (PDT)
X-Relaying-Domain: iol.unh.edu
Date: Fri, 19 Jul 2024 06:32:14 -0700 (PDT)
Message-ID: <669a6ade.050a0220.fa03e.36c7SMTPIN_ADDED_MISSING@mx.google.com>
Received: from [172.21.0.6] (unknown [172.18.0.240])
 by postal.iol.unh.edu (Postfix) with ESMTP id 8CA7E60526E2;
 Fri, 19 Jul 2024 09:32:13 -0400 (EDT)
Subject: |PENDING| pw142511-142512 [PATCH] [2/2] doc: remove use of -n 4 opti
From: dpdklab@iol.unh.edu
To: Test Report <test-report@dpdk.org>
Cc: dpdk-test-reports@iol.unh.edu
In-Reply-To: <20240718184326.21375-2-stephen@networkplumber.org>
References: <20240718184326.21375-2-stephen@networkplumber.org>
Content-Type: text/plain
X-BeenThere: test-report@dpdk.org
X-Mailman-Version: 2.1.29
Precedence: list
List-Id: automatic DPDK test reports <test-report.dpdk.org>
List-Unsubscribe: <https://mails.dpdk.org/options/test-report>,
 <mailto:test-report-request@dpdk.org?subject=unsubscribe>
List-Archive: <http://mails.dpdk.org/archives/test-report/>
List-Post: <mailto:test-report@dpdk.org>
List-Help: <mailto:test-report-request@dpdk.org?subject=help>
List-Subscribe: <https://mails.dpdk.org/listinfo/test-report>,
 <mailto:test-report-request@dpdk.org?subject=subscribe>
Errors-To: test-report-bounces@dpdk.org

Test-Label: iol-compile-amd64-testing
Test-Status: PENDING
http://dpdk.org/patch/142512

_Testing pending_

Submitter: Stephen Hemminger <stephen@networkplumber.org>
Date: Thursday, July 18 2024 18:43:26 
DPDK git baseline: Repo:dpdk
  Branch: master
  CommitID:fa8d2f7f28524a6c8defa3dcd94f5aa131aae084

142511-142512 --> testing pending

Upstream job id: Windows-Compile-DPDK-Mingw64#20847

Test environment and result as below:

+---------------------+--------------------+----------------------+
|     Environment     | dpdk_meson_compile | dpdk_mingw64_compile |
+=====================+====================+======================+
| Windows Server 2019 | PASS               | PASS                 |
+---------------------+--------------------+----------------------+
| Windows Server 2022 | PASS               | PEND                 |
+---------------------+--------------------+----------------------+
| FreeBSD 13.3        | PASS               | SKIPPED              |
+---------------------+--------------------+----------------------+
| FreeBSD 14.1        | PEND               | SKIPPED              |
+---------------------+--------------------+----------------------+


Windows Server 2019
	Kernel: 10.0.17763
	Compiler: clang 14.0 and gcc 8.1.0 (MinGW)

Windows Server 2022
	Kernel: 10.0.20348.2031
	Compiler: clang 15.0.7, gcc 8.1.0 (MinGW), and MSVC VS 17.9

FreeBSD 13.3
	Kernel: 13.3-RELEASE-p1
	Compiler: clang 17.0.6

FreeBSD 14.1
	Kernel: 14.1
	Compiler: clang 18.1.5

To view detailed results, visit:
https://lab.dpdk.org/results/dashboard/patchsets/30556/

UNH-IOL DPDK Community Lab

To manage your email subscriptions, visit: 
https://lab.dpdk.org/results/dashboard/preferences/subscriptions/