From mboxrd@z Thu Jan  1 00:00:00 1970
Return-Path: <test-report-bounces@dpdk.org>
Received: from mails.dpdk.org (mails.dpdk.org [217.70.189.124])
	by inbox.dpdk.org (Postfix) with ESMTP id A19DC45655
	for <public@inbox.dpdk.org>; Fri, 19 Jul 2024 15:35:08 +0200 (CEST)
Received: from mails.dpdk.org (localhost [127.0.0.1])
	by mails.dpdk.org (Postfix) with ESMTP id 9EDAA40E4F;
	Fri, 19 Jul 2024 15:35:08 +0200 (CEST)
Received: from mail-qk1-f228.google.com (mail-qk1-f228.google.com
 [209.85.222.228])
 by mails.dpdk.org (Postfix) with ESMTP id 30BD640E4C
 for <test-report@dpdk.org>; Fri, 19 Jul 2024 15:34:58 +0200 (CEST)
Received: by mail-qk1-f228.google.com with SMTP id
 af79cd13be357-79ef82c6344so83742885a.2
 for <test-report@dpdk.org>; Fri, 19 Jul 2024 06:34:58 -0700 (PDT)
DKIM-Signature: v=1; a=rsa-sha256; c=relaxed/relaxed;
 d=iol.unh.edu; s=unh-iol; t=1721396097; x=1722000897; darn=dpdk.org;
 h=references:in-reply-to:cc:to:from:subject:message-id:date:from:to
 :cc:subject:date:message-id:reply-to;
 bh=0jWb0z8U2M+e7zLJrBfwe2jJGF0FiTnMXRBS3kSYO+s=;
 b=cN7B64yANU8EiLH32/LbDpIjZKeAwvFjPQnUv+p+pf4MG/eAWy4VVfepJoLAmKyOQi
 6LoB/eM3Z7/lLRBJZ5479mA9jBVKI2b7z/JlvWuua46FKAZAoJFtmjpy03UL112cSmGZ
 6gELc3tnEdnzvfkphNhtSF5AzxqfIt5Wqap9I=
X-Google-DKIM-Signature: v=1; a=rsa-sha256; c=relaxed/relaxed;
 d=1e100.net; s=20230601; t=1721396097; x=1722000897;
 h=references:in-reply-to:cc:to:from:subject:message-id:date
 :x-gm-message-state:from:to:cc:subject:date:message-id:reply-to;
 bh=0jWb0z8U2M+e7zLJrBfwe2jJGF0FiTnMXRBS3kSYO+s=;
 b=JDIPyIRPEwatL/s8V91PuKJh2oWSTUbsxqCWM7oVKOAVJ00TcNVi2KuKffGV5A5aVn
 Fgp+Xaof7vOj1Y1nj7FHqobKhC+aiZJVTJpl3PtmMmH+kFnUpHBJm3Hc33hh9IZ37f0r
 m2WJg9Pu4Cw9ZwpiPOkzFWb7vVBgbXwmWlgREZOpayBB4UagonH8Ner7jPRDiKPKwGuo
 e2XAmnybIzAjrtR97GqODcOA7gqOyMn/XzV0b8sk0zeWIOBu6gsPuDqr0nZfEEnyuU5E
 I+mpVs78VaqP9viNqW2pN6UAtF4LTThglR/awszU6NfcXpvnbx9s8Ll4kA/KQOuWW3+c
 sYeg==
X-Gm-Message-State: AOJu0YymyxlVGgBZfRj/8A0aIitOHoqgiXy3xL/mukABr/deM8L9u2Kt
 Z7f1pin9eJYRLJv0N5dWfH023p3/0YwyS6rtL6osOcQwJygJ0YBscBDqjVkcgJTpCfq4wApS7ZN
 6yc4r5bKIE75c6t3mhR8Ni0Dnb8mbjj5qpjnO9YL+
X-Google-Smtp-Source: AGHT+IG06fjFvMdJbta1kBwiqMbpbc7ZpEJ+dHjMKRZxZNWysgcAamM63+GiyEAYmd5P3hCX/NaNarOdAb0p
X-Received: by 2002:a05:620a:f11:b0:79f:bf4:cd60 with SMTP id
 af79cd13be357-7a18749cf40mr963357885a.37.1721396097525; 
 Fri, 19 Jul 2024 06:34:57 -0700 (PDT)
Received: from postal.iol.unh.edu (postal.iol.unh.edu. [132.177.123.84])
 by smtp-relay.gmail.com with ESMTPS id
 af79cd13be357-7a1990942d1sm5460485a.6.2024.07.19.06.34.57
 (version=TLS1_2 cipher=ECDHE-ECDSA-AES128-GCM-SHA256 bits=128/128);
 Fri, 19 Jul 2024 06:34:57 -0700 (PDT)
X-Relaying-Domain: iol.unh.edu
Date: Fri, 19 Jul 2024 06:34:57 -0700 (PDT)
Message-ID: <669a6b81.050a0220.b6f8.325bSMTPIN_ADDED_MISSING@mx.google.com>
Received: from [172.21.0.6] (unknown [172.18.0.240])
 by postal.iol.unh.edu (Postfix) with ESMTP id 3CEEA60526E2;
 Fri, 19 Jul 2024 09:34:57 -0400 (EDT)
Subject: |PENDING| pw142511-142512 [PATCH] [2/2] doc: remove use of -n 4 opti
From: dpdklab@iol.unh.edu
To: Test Report <test-report@dpdk.org>
Cc: dpdk-test-reports@iol.unh.edu
In-Reply-To: <20240718184326.21375-2-stephen@networkplumber.org>
References: <20240718184326.21375-2-stephen@networkplumber.org>
Content-Type: text/plain
X-BeenThere: test-report@dpdk.org
X-Mailman-Version: 2.1.29
Precedence: list
List-Id: automatic DPDK test reports <test-report.dpdk.org>
List-Unsubscribe: <https://mails.dpdk.org/options/test-report>,
 <mailto:test-report-request@dpdk.org?subject=unsubscribe>
List-Archive: <http://mails.dpdk.org/archives/test-report/>
List-Post: <mailto:test-report@dpdk.org>
List-Help: <mailto:test-report-request@dpdk.org?subject=help>
List-Subscribe: <https://mails.dpdk.org/listinfo/test-report>,
 <mailto:test-report-request@dpdk.org?subject=subscribe>
Errors-To: test-report-bounces@dpdk.org

Test-Label: iol-abi-testing
Test-Status: PENDING
http://dpdk.org/patch/142512

_Testing pending_

Submitter: Stephen Hemminger <stephen@networkplumber.org>
Date: Thursday, July 18 2024 18:43:26 
DPDK git baseline: Repo:dpdk
  Branch: master
  CommitID:fa8d2f7f28524a6c8defa3dcd94f5aa131aae084

142511-142512 --> testing pending

Upstream job id: Generic-DPDK-Compile-ABI#99473

Test environment and result as below:

+-------------------+----------+
|    Environment    | abi_test |
+===================+==========+
| CentOS Stream 8   | PEND     |
+-------------------+----------+
| Debian Bullseye   | PASS     |
+-------------------+----------+
| CentOS Stream 9   | PEND     |
+-------------------+----------+
| Debian 12         | PASS     |
+-------------------+----------+
| Fedora 37         | PEND     |
+-------------------+----------+
| Fedora 38 (Clang) | PASS     |
+-------------------+----------+
| Fedora 38         | PEND     |
+-------------------+----------+
| Fedora 39 (Clang) | PEND     |
+-------------------+----------+
| Fedora 39         | PEND     |
+-------------------+----------+
| Fedora 40 (Clang) | PEND     |
+-------------------+----------+
| Fedora 40         | PEND     |
+-------------------+----------+
| openSUSE Leap 15  | PEND     |
+-------------------+----------+
| RHEL8             | PASS     |
+-------------------+----------+
| RHEL9             | PEND     |
+-------------------+----------+
| Ubuntu 22.04      | PEND     |
+-------------------+----------+
| Ubuntu 24.04      | PEND     |
+-------------------+----------+


CentOS Stream 8
	Kernel: 5.4.0-167-generic
	Compiler: gcc 8.5.0 20210514

Debian Bullseye
	Kernel: 5.4.0-167-generic
	Compiler: gcc 10.2.1-6

CentOS Stream 9
	Kernel: 5.4.0-167-generic
	Compiler: gcc 11.4.1 20230605

Debian 12
	Kernel: Container Host Kernel
	Compiler: gcc 12.2.0

Fedora 37
	Kernel: Depends on container host system
	Compiler: gcc 12.3.1

Fedora 38 (Clang)
	Kernel: Depends on container host
	Compiler: clang 16.0.6

Fedora 38
	Kernel: Depends on container host
	Compiler: gcc 13.2.1

Fedora 39 (Clang)
	Kernel: Depends on container host
	Compiler: clang 17.0.6

Fedora 39
	Kernel: Depends on container host
	Compiler: gcc 13.2.1

Fedora 40 (Clang)
	Kernel: Depends on container host
	Compiler: clang 18.1.6

Fedora 40
	Kernel: Depends on container host
	Compiler: gcc 14.1.1

openSUSE Leap 15
	Kernel: 5.4.0-167-generic
	Compiler: gcc 7.5.0

RHEL8
	Kernel: 5.4.0-167-generic
	Compiler: gcc 8.5.0 20210514 (Red Hat 8.5.0-20)

RHEL9
	Kernel: Depends on container host
	Compiler: gcc 11.4.1

Ubuntu 22.04
	Kernel: 5.4.0-167-generic
	Compiler: gcc 11.4.0

Ubuntu 24.04
	Kernel: 5.4.0-167-generic
	Compiler: gcc 13.2.0

To view detailed results, visit:
https://lab.dpdk.org/results/dashboard/patchsets/30556/

UNH-IOL DPDK Community Lab

To manage your email subscriptions, visit: 
https://lab.dpdk.org/results/dashboard/preferences/subscriptions/