From mboxrd@z Thu Jan  1 00:00:00 1970
Return-Path: <test-report-bounces@dpdk.org>
Received: from mails.dpdk.org (mails.dpdk.org [217.70.189.124])
	by inbox.dpdk.org (Postfix) with ESMTP id 39FA645655
	for <public@inbox.dpdk.org>; Fri, 19 Jul 2024 15:41:57 +0200 (CEST)
Received: from mails.dpdk.org (localhost [127.0.0.1])
	by mails.dpdk.org (Postfix) with ESMTP id 3495340E0F;
	Fri, 19 Jul 2024 15:41:57 +0200 (CEST)
Received: from mail-yw1-f228.google.com (mail-yw1-f228.google.com
 [209.85.128.228])
 by mails.dpdk.org (Postfix) with ESMTP id 5CFC94026A
 for <test-report@dpdk.org>; Fri, 19 Jul 2024 15:41:48 +0200 (CEST)
Received: by mail-yw1-f228.google.com with SMTP id
 00721157ae682-65cd720cee2so19369137b3.1
 for <test-report@dpdk.org>; Fri, 19 Jul 2024 06:41:48 -0700 (PDT)
DKIM-Signature: v=1; a=rsa-sha256; c=relaxed/relaxed;
 d=iol.unh.edu; s=unh-iol; t=1721396507; x=1722001307; darn=dpdk.org;
 h=references:in-reply-to:cc:to:from:subject:message-id:date:from:to
 :cc:subject:date:message-id:reply-to;
 bh=KK36souO87jVWK7/qCX25X4uZEM8ywB5dUERx4gsUj0=;
 b=PYIYvlhfbGZqg3U7SecLoejO8VuhPc8MHh7H+dg1QDbjvyqTmg6zfhcra0/eI0IbFJ
 fKWmxC/xW3qyJ5UFCvEzWh0plN2GlqSTX8JlVp7UNCbkjwJnJx/m/CsrCiyvOP1CEKlc
 SmUhQFEtqt0jZYaxCZWq8nnADG74eIypgxdf0=
X-Google-DKIM-Signature: v=1; a=rsa-sha256; c=relaxed/relaxed;
 d=1e100.net; s=20230601; t=1721396507; x=1722001307;
 h=references:in-reply-to:cc:to:from:subject:message-id:date
 :x-gm-message-state:from:to:cc:subject:date:message-id:reply-to;
 bh=KK36souO87jVWK7/qCX25X4uZEM8ywB5dUERx4gsUj0=;
 b=srS2Xh/PkWI50p+JZJPRFAwpL0opTZ5eWklinjLBRBBUDY7OB7ABbIpfhDuqWyDAbS
 cuLKxlEPrXM3yAv7h7ZLbqH447ZZ5tugye3rxlEVli15ybXDewHBTZWJQobS4QVhTaI5
 jJGYOI/Swcn3N6etgEu/z+5wvNYhCxxc8/sGp/XflCbPUgI0HmtWf+Ozb9vEMDdQ5VkK
 Q1r1+rNGhqThg+euBT1e7VoPRUcQySANHisPmUAjmCzmg6TGYZethZTM6peVp4N2ICj/
 fvqEmbh8G6tVCaz/xbYs/n02RPW+8qm3zmstsCpVnlrqLRn1uiz7Gx5pXPWqTkLuM8Ce
 uWzA==
X-Gm-Message-State: AOJu0Yy2LtFWT3Iph+WBDtt1QxTNvrTzbfFNxfvFgsv8AzxJS9GTfFhO
 vOsTIFswuF4B4HIPBNXkiHbMv/ptH38fZNSu19Z1hHHVIdG4kQMGU4l1/4q81sA3dOoYTwV7KHY
 3hBW9R4feKMiU30eEHbzCXtyOcwIAPm9qqyc/7Lpi0FrwC03/jLWB+64m
X-Google-Smtp-Source: AGHT+IG+L7chddUQuGjjqGaY9rP+zkjr6u1njvnlV3ULpYP1HBIPWlNuxakQ0s7Z9G9SPyBvmQhLHuuU/K6f
X-Received: by 2002:a05:690c:82:b0:64b:14bf:2fcf with SMTP id
 00721157ae682-666017f1ab7mr91838657b3.8.1721396507781; 
 Fri, 19 Jul 2024 06:41:47 -0700 (PDT)
Received: from postal.iol.unh.edu (postal.iol.unh.edu.
 [2606:4100:3880:1234::84]) by smtp-relay.gmail.com with ESMTPS id
 00721157ae682-6695255603fsm1022587b3.37.2024.07.19.06.41.47
 (version=TLS1_2 cipher=ECDHE-ECDSA-AES128-GCM-SHA256 bits=128/128);
 Fri, 19 Jul 2024 06:41:47 -0700 (PDT)
X-Relaying-Domain: iol.unh.edu
Date: Fri, 19 Jul 2024 06:41:47 -0700 (PDT)
Message-ID: <669a6d1b.0d0a0220.7de7b.674bSMTPIN_ADDED_MISSING@mx.google.com>
Received: from [172.21.0.9] (unknown [172.18.0.240])
 by postal.iol.unh.edu (Postfix) with ESMTP id 7406D60526E2;
 Fri, 19 Jul 2024 09:41:47 -0400 (EDT)
Subject: |PENDING| pw142511-142512 [PATCH] [2/2] doc: remove use of -n 4 opti
From: dpdklab@iol.unh.edu
To: Test Report <test-report@dpdk.org>
Cc: dpdk-test-reports@iol.unh.edu
In-Reply-To: <20240718184326.21375-2-stephen@networkplumber.org>
References: <20240718184326.21375-2-stephen@networkplumber.org>
Content-Type: text/plain
X-BeenThere: test-report@dpdk.org
X-Mailman-Version: 2.1.29
Precedence: list
List-Id: automatic DPDK test reports <test-report.dpdk.org>
List-Unsubscribe: <https://mails.dpdk.org/options/test-report>,
 <mailto:test-report-request@dpdk.org?subject=unsubscribe>
List-Archive: <http://mails.dpdk.org/archives/test-report/>
List-Post: <mailto:test-report@dpdk.org>
List-Help: <mailto:test-report-request@dpdk.org?subject=help>
List-Subscribe: <https://mails.dpdk.org/listinfo/test-report>,
 <mailto:test-report-request@dpdk.org?subject=subscribe>
Errors-To: test-report-bounces@dpdk.org

Test-Label: iol-unit-arm64-testing
Test-Status: PENDING
http://dpdk.org/patch/142512

_Testing pending_

Submitter: Stephen Hemminger <stephen@networkplumber.org>
Date: Thursday, July 18 2024 18:43:26 
DPDK git baseline: Repo:dpdk
  Branch: master
  CommitID:fa8d2f7f28524a6c8defa3dcd94f5aa131aae084

142511-142512 --> testing pending

Upstream job id: Generic-Unit-Test-DPDK#241852

Test environment and result as below:

+-----------------------------+----------------+
|         Environment         | dpdk_unit_test |
+=============================+================+
| Debian 11 (Buster) (ARM)    | PASS           |
+-----------------------------+----------------+
| CentOS Stream 9 (ARM)       | PASS           |
+-----------------------------+----------------+
| Fedora 37 (ARM)             | PASS           |
+-----------------------------+----------------+
| Debian 12 (arm)             | PEND           |
+-----------------------------+----------------+
| Fedora 38 (ARM Clang)       | PEND           |
+-----------------------------+----------------+
| Fedora 38 (ARM)             | PEND           |
+-----------------------------+----------------+
| Fedora 39 (ARM)             | PEND           |
+-----------------------------+----------------+
| Fedora 39 (ARM Clang)       | PEND           |
+-----------------------------+----------------+
| Fedora 40 (ARM)             | PEND           |
+-----------------------------+----------------+
| Fedora 40 (ARM Clang)       | PEND           |
+-----------------------------+----------------+
| RHEL9 (ARM)                 | PEND           |
+-----------------------------+----------------+
| Ubuntu 20.04 (ARM)          | PEND           |
+-----------------------------+----------------+
| Ubuntu 22.04 (ARM)          | PEND           |
+-----------------------------+----------------+
| Ubuntu 24.04 (ARM)          | PEND           |
+-----------------------------+----------------+
| 32-bit Ubuntu 20.04.4 (ARM) | PEND           |
+-----------------------------+----------------+


Debian 11 (Buster) (ARM)
	Kernel: Container Host Kernel
	Compiler: gcc 10.2.1

CentOS Stream 9 (ARM)
	Kernel: Container Host Kernel
	Compiler: gcc 11.4.1

Fedora 37 (ARM)
	Kernel: Depends on container host
	Compiler: gcc 12.3.1

Debian 12 (arm)
	Kernel: Container Host Kernel
	Compiler: gcc 12.2.0

Fedora 38 (ARM Clang)
	Kernel: Depends on container host
	Compiler: clang 16.0.6

Fedora 38 (ARM)
	Kernel: Depends on container host
	Compiler: gcc 13.2.1

Fedora 39 (ARM)
	Kernel: Depends on container host
	Compiler: gcc 13.2.1

Fedora 39 (ARM Clang)
	Kernel: Depends on container host
	Compiler: clang 17.0.6

Fedora 40 (ARM)
	Kernel: Depends on container host
	Compiler: gcc 14.1.1

Fedora 40 (ARM Clang)
	Kernel: Depends on container host
	Compiler: clang 18.1.6

RHEL9 (ARM)
	Kernel: Depends on container host
	Compiler: gcc 11.4.1

Ubuntu 20.04 (ARM)
	Kernel: Container Host Kernel
	Compiler: gcc 9.4.0

Ubuntu 22.04 (ARM)
	Kernel: Container Host Kernel
	Compiler: gcc 11.4.0

Ubuntu 24.04 (ARM)
	Kernel: 5.4.0-167-generic
	Compiler: gcc 13.2.0

32-bit Ubuntu 20.04.4 (ARM)
	Kernel: 5.4.0-155-generic aarch64
	Compiler: gcc 9.4

To view detailed results, visit:
https://lab.dpdk.org/results/dashboard/patchsets/30556/

UNH-IOL DPDK Community Lab

To manage your email subscriptions, visit: 
https://lab.dpdk.org/results/dashboard/preferences/subscriptions/