From mboxrd@z Thu Jan  1 00:00:00 1970
Return-Path: <test-report-bounces@dpdk.org>
Received: from mails.dpdk.org (mails.dpdk.org [217.70.189.124])
	by inbox.dpdk.org (Postfix) with ESMTP id 9A0EA45655
	for <public@inbox.dpdk.org>; Fri, 19 Jul 2024 16:00:00 +0200 (CEST)
Received: from mails.dpdk.org (localhost [127.0.0.1])
	by mails.dpdk.org (Postfix) with ESMTP id 948F840E0F;
	Fri, 19 Jul 2024 16:00:00 +0200 (CEST)
Received: from mail-yw1-f226.google.com (mail-yw1-f226.google.com
 [209.85.128.226])
 by mails.dpdk.org (Postfix) with ESMTP id BB7EA4026A
 for <test-report@dpdk.org>; Fri, 19 Jul 2024 15:59:59 +0200 (CEST)
Received: by mail-yw1-f226.google.com with SMTP id
 00721157ae682-64f4fd64773so23571607b3.0
 for <test-report@dpdk.org>; Fri, 19 Jul 2024 06:59:59 -0700 (PDT)
DKIM-Signature: v=1; a=rsa-sha256; c=relaxed/relaxed;
 d=iol.unh.edu; s=unh-iol; t=1721397599; x=1722002399; darn=dpdk.org;
 h=references:in-reply-to:cc:to:from:subject:message-id:date:from:to
 :cc:subject:date:message-id:reply-to;
 bh=G485IGUbnQGlpZWklpkhGfEmAziDc8Wl43CYleiiMyM=;
 b=R4CtvWJe5mcW99rBCsk84hJ+T44emvPjaf1DgWmMhP775fL79Yn6lSZcfGjxrVyPrg
 RwNDHGBHCmcZlWs6InCb8nleMFoGlXmxll/NYxH6hVIrvUW34LVAs1KWQ/5oI5QfIavU
 FlGVeOWczppMuKvo1MzeqybTKbth8WeXO/h9k=
X-Google-DKIM-Signature: v=1; a=rsa-sha256; c=relaxed/relaxed;
 d=1e100.net; s=20230601; t=1721397599; x=1722002399;
 h=references:in-reply-to:cc:to:from:subject:message-id:date
 :x-gm-message-state:from:to:cc:subject:date:message-id:reply-to;
 bh=G485IGUbnQGlpZWklpkhGfEmAziDc8Wl43CYleiiMyM=;
 b=px82ivMdlBFlnTf4W+MbdLly4+Ic9EspUFAsKPwpdJCh2WPnSFgMQ6YTk7BPQMwS+d
 DKe9qlklS/4JUpKXoBefYow677C033ezz04xMJ9Ga2MK1eKCz3g8klFc1KZ9/LEiSm7S
 +1CKzqIONWfDSyW+8PeZpXwmmSW5Gs5V7v6JizEjKtHCR/ZfaWIlGXMyJ5iqgnZn3aJp
 9cj7hpXGH5UlQC4hcwM18kBH54zQAxTNn3yNPp+eX4B9WI+6ibWaoyuA77NL4YYrHk9T
 HDm8lch7WmiwXrmihIZQyqO7tBWRMKdRnjb7TzDEXIXtac7LVlmnn0cqA9No5iAwUAy5
 1+bw==
X-Gm-Message-State: AOJu0YwINpyRktd/Yl90euNTf4ksQMCSnxyS4hvcV7hx8JFzRWrvVblX
 OOjm0EVKcxXgre28YHJkn2wYcRSCVqJ14olXQqv8RPDTecTty5xCd69e+ZB19iIFpECeCbLoOYw
 P6ZXy9eRRqreaZz4Ztduyn/YOmATJaZfupAV7QBLx
X-Google-Smtp-Source: AGHT+IHl35EdPUTXCpeAB2GlZw6v7dqrLPRL3r0VNH2b1Z6lANz/yI7Z+qbjDS/yiHxH/PeGMcsd3CCHMg/C
X-Received: by 2002:a05:690c:60ca:b0:66a:109:565c with SMTP id
 00721157ae682-66a01095fcemr9059917b3.11.1721397599119; 
 Fri, 19 Jul 2024 06:59:59 -0700 (PDT)
Received: from postal.iol.unh.edu (postal.iol.unh.edu. [132.177.123.84])
 by smtp-relay.gmail.com with ESMTPS id
 00721157ae682-6695206e701sm1039217b3.22.2024.07.19.06.59.59
 (version=TLS1_2 cipher=ECDHE-ECDSA-AES128-GCM-SHA256 bits=128/128);
 Fri, 19 Jul 2024 06:59:59 -0700 (PDT)
X-Relaying-Domain: iol.unh.edu
Date: Fri, 19 Jul 2024 06:59:59 -0700 (PDT)
Message-ID: <669a715f.0d0a0220.127c6.692aSMTPIN_ADDED_MISSING@mx.google.com>
Received: from [172.21.0.6] (unknown [172.18.0.240])
 by postal.iol.unh.edu (Postfix) with ESMTP id C201F60526E2;
 Fri, 19 Jul 2024 09:59:58 -0400 (EDT)
Subject: |PENDING| pw142527-142556 [PATCH] [30/30] bus/dpaa: add port bmi sta
From: dpdklab@iol.unh.edu
To: Test Report <test-report@dpdk.org>
Cc: dpdk-test-reports@iol.unh.edu
In-Reply-To: <20240719100126.1150373-30-g.singh@nxp.com>
References: <20240719100126.1150373-30-g.singh@nxp.com>
Content-Type: text/plain
X-BeenThere: test-report@dpdk.org
X-Mailman-Version: 2.1.29
Precedence: list
List-Id: automatic DPDK test reports <test-report.dpdk.org>
List-Unsubscribe: <https://mails.dpdk.org/options/test-report>,
 <mailto:test-report-request@dpdk.org?subject=unsubscribe>
List-Archive: <http://mails.dpdk.org/archives/test-report/>
List-Post: <mailto:test-report@dpdk.org>
List-Help: <mailto:test-report-request@dpdk.org?subject=help>
List-Subscribe: <https://mails.dpdk.org/listinfo/test-report>,
 <mailto:test-report-request@dpdk.org?subject=subscribe>
Errors-To: test-report-bounces@dpdk.org

Test-Label: iol-abi-testing
Test-Status: PENDING
http://dpdk.org/patch/142556

_Testing pending_

Submitter: Gagandeep Singh <g.singh@nxp.com>
Date: Friday, July 19 2024 10:01:26 
DPDK git baseline: Repo:dpdk
  Branch: master
  CommitID:fa8d2f7f28524a6c8defa3dcd94f5aa131aae084

142527-142556 --> testing pending

Upstream job id: Generic-DPDK-Compile-ABI#99488

Test environment and result as below:

+-------------------+----------+
|    Environment    | abi_test |
+===================+==========+
| CentOS Stream 8   | PEND     |
+-------------------+----------+
| CentOS Stream 9   | PEND     |
+-------------------+----------+
| Debian Bullseye   | PASS     |
+-------------------+----------+
| Debian 12         | PEND     |
+-------------------+----------+
| Fedora 38 (Clang) | PEND     |
+-------------------+----------+
| Fedora 37         | PASS     |
+-------------------+----------+
| Fedora 38         | PASS     |
+-------------------+----------+
| Fedora 40 (Clang) | PEND     |
+-------------------+----------+
| Fedora 39 (Clang) | PEND     |
+-------------------+----------+
| Fedora 39         | PEND     |
+-------------------+----------+
| openSUSE Leap 15  | PEND     |
+-------------------+----------+
| Fedora 40         | PEND     |
+-------------------+----------+
| RHEL8             | PEND     |
+-------------------+----------+
| RHEL9             | PEND     |
+-------------------+----------+
| Ubuntu 22.04      | PEND     |
+-------------------+----------+
| Ubuntu 24.04      | PEND     |
+-------------------+----------+


CentOS Stream 8
	Kernel: 5.4.0-167-generic
	Compiler: gcc 8.5.0 20210514

CentOS Stream 9
	Kernel: 5.4.0-167-generic
	Compiler: gcc 11.4.1 20230605

Debian Bullseye
	Kernel: 5.4.0-167-generic
	Compiler: gcc 10.2.1-6

Debian 12
	Kernel: Container Host Kernel
	Compiler: gcc 12.2.0

Fedora 38 (Clang)
	Kernel: Depends on container host
	Compiler: clang 16.0.6

Fedora 37
	Kernel: Depends on container host system
	Compiler: gcc 12.3.1

Fedora 38
	Kernel: Depends on container host
	Compiler: gcc 13.2.1

Fedora 40 (Clang)
	Kernel: Depends on container host
	Compiler: clang 18.1.6

Fedora 39 (Clang)
	Kernel: Depends on container host
	Compiler: clang 17.0.6

Fedora 39
	Kernel: Depends on container host
	Compiler: gcc 13.2.1

openSUSE Leap 15
	Kernel: 5.4.0-167-generic
	Compiler: gcc 7.5.0

Fedora 40
	Kernel: Depends on container host
	Compiler: gcc 14.1.1

RHEL8
	Kernel: 5.4.0-167-generic
	Compiler: gcc 8.5.0 20210514 (Red Hat 8.5.0-20)

RHEL9
	Kernel: Depends on container host
	Compiler: gcc 11.4.1

Ubuntu 22.04
	Kernel: 5.4.0-167-generic
	Compiler: gcc 11.4.0

Ubuntu 24.04
	Kernel: 5.4.0-167-generic
	Compiler: gcc 13.2.0

To view detailed results, visit:
https://lab.dpdk.org/results/dashboard/patchsets/30564/

UNH-IOL DPDK Community Lab

To manage your email subscriptions, visit: 
https://lab.dpdk.org/results/dashboard/preferences/subscriptions/