From mboxrd@z Thu Jan  1 00:00:00 1970
Return-Path: <test-report-bounces@dpdk.org>
Received: from mails.dpdk.org (mails.dpdk.org [217.70.189.124])
	by inbox.dpdk.org (Postfix) with ESMTP id 20B7645656
	for <public@inbox.dpdk.org>; Fri, 19 Jul 2024 16:02:34 +0200 (CEST)
Received: from mails.dpdk.org (localhost [127.0.0.1])
	by mails.dpdk.org (Postfix) with ESMTP id 180DF40E0F;
	Fri, 19 Jul 2024 16:02:34 +0200 (CEST)
Received: from mail-io1-f97.google.com (mail-io1-f97.google.com
 [209.85.166.97]) by mails.dpdk.org (Postfix) with ESMTP id 1909E4026A
 for <test-report@dpdk.org>; Fri, 19 Jul 2024 16:02:33 +0200 (CEST)
Received: by mail-io1-f97.google.com with SMTP id
 ca18e2360f4ac-8036ce66134so75253739f.3
 for <test-report@dpdk.org>; Fri, 19 Jul 2024 07:02:33 -0700 (PDT)
DKIM-Signature: v=1; a=rsa-sha256; c=relaxed/relaxed;
 d=iol.unh.edu; s=unh-iol; t=1721397752; x=1722002552; darn=dpdk.org;
 h=references:in-reply-to:cc:to:from:subject:message-id:date:from:to
 :cc:subject:date:message-id:reply-to;
 bh=XNDA3ntANoUWGONH76V6MUtTAJ9xHJuBX+R3CEsQO7s=;
 b=T83GIZF3Xvk1Vchhd1qVzUXA0KEAepCPvKLtW9IHFkCww5+Z6OsQeoFnQtsZgVbQMS
 xP6qPuGI7d75Ffx4k0xEMZaHwAhwS2HrFc5vyMTSfJmgb0S11pJphxBeKPKkzWJ9aS+R
 nLvMPOpglp1cmcGeK0foCIMPs1NoqAgruUeRk=
X-Google-DKIM-Signature: v=1; a=rsa-sha256; c=relaxed/relaxed;
 d=1e100.net; s=20230601; t=1721397752; x=1722002552;
 h=references:in-reply-to:cc:to:from:subject:message-id:date
 :x-gm-message-state:from:to:cc:subject:date:message-id:reply-to;
 bh=XNDA3ntANoUWGONH76V6MUtTAJ9xHJuBX+R3CEsQO7s=;
 b=S1hKDhOmFYysTP7sLT7aiw+uos554geqSQz33rFLnGqlBt/cJm2GRwEq6ut5gbP53R
 NoC5/baNDNNoVQv8RDD0fz+dtB7aOhj9piPOKk1Xzt/X23EVkgYkeYe7zhUvIf9XAw+A
 Rqyuuh4OTCP+0I/KAUV2Dv1un+7xlERNIJObUjH8XK6U7EY6wz6vpnNv2kq2oldvXZuz
 9gKKmabLPebz2EVtPU3XzHUTlVND3FqDm+bul2YDlxdhsgcsjQuGyCR+5VzL5wanp+eK
 2kD/HiW6gcgm+pg6tskuntYpwTtAHMd+m5CMxbicNlWL/aifZ3hPprHHf15cYTamvZ99
 5ySg==
X-Gm-Message-State: AOJu0YxTwc+uOuhDVjqMJFTmzQLl1zSkJnPbOW0ulJmoU1/ObB9bxT0q
 9BiDX/kr5PW6Yh5VfflV60XTkE2nqLyZPEuYjNCeBggjy/rhi9RaRs8NNnbqKcXT33TJN0TYLx/
 rlMN2jKNBCRFDn7xy7FPU+YniWSWrUDa3pVks5D9e
X-Google-Smtp-Source: AGHT+IG7mx8aZGuGV86HdfjmYJU7OHek8Xhju5apYUz/o/0APHV+ELDC5DakHY2Imnw/6xh6d6pwkKzCTtVw
X-Received: by 2002:a05:6602:1503:b0:7f9:217c:c109 with SMTP id
 ca18e2360f4ac-81710bd3fe7mr1220830739f.9.1721397747350; 
 Fri, 19 Jul 2024 07:02:27 -0700 (PDT)
Received: from postal.iol.unh.edu (postal.iol.unh.edu. [132.177.123.84])
 by smtp-relay.gmail.com with ESMTPS id
 8926c6da1cb9f-4c2343685f8sm55212173.47.2024.07.19.07.02.27
 (version=TLS1_2 cipher=ECDHE-ECDSA-AES128-GCM-SHA256 bits=128/128);
 Fri, 19 Jul 2024 07:02:27 -0700 (PDT)
X-Relaying-Domain: iol.unh.edu
Date: Fri, 19 Jul 2024 07:02:27 -0700 (PDT)
Message-ID: <669a71f3.050a0220.fa03e.37daSMTPIN_ADDED_MISSING@mx.google.com>
Received: from [172.21.0.6] (unknown [172.18.0.240])
 by postal.iol.unh.edu (Postfix) with ESMTP id D1BBC60526E2;
 Fri, 19 Jul 2024 10:02:26 -0400 (EDT)
Subject: |PENDING| pw142511-142512 [PATCH] [2/2] doc: remove use of -n 4 opti
From: dpdklab@iol.unh.edu
To: Test Report <test-report@dpdk.org>
Cc: dpdk-test-reports@iol.unh.edu
In-Reply-To: <20240718184326.21375-2-stephen@networkplumber.org>
References: <20240718184326.21375-2-stephen@networkplumber.org>
Content-Type: text/plain
X-BeenThere: test-report@dpdk.org
X-Mailman-Version: 2.1.29
Precedence: list
List-Id: automatic DPDK test reports <test-report.dpdk.org>
List-Unsubscribe: <https://mails.dpdk.org/options/test-report>,
 <mailto:test-report-request@dpdk.org?subject=unsubscribe>
List-Archive: <http://mails.dpdk.org/archives/test-report/>
List-Post: <mailto:test-report@dpdk.org>
List-Help: <mailto:test-report-request@dpdk.org?subject=help>
List-Subscribe: <https://mails.dpdk.org/listinfo/test-report>,
 <mailto:test-report-request@dpdk.org?subject=subscribe>
Errors-To: test-report-bounces@dpdk.org

Test-Label: iol-unit-arm64-testing
Test-Status: PENDING
http://dpdk.org/patch/142512

_Testing pending_

Submitter: Stephen Hemminger <stephen@networkplumber.org>
Date: Thursday, July 18 2024 18:43:26 
DPDK git baseline: Repo:dpdk
  Branch: master
  CommitID:fa8d2f7f28524a6c8defa3dcd94f5aa131aae084

142511-142512 --> testing pending

Upstream job id: Generic-Unit-Test-DPDK#241868

Test environment and result as below:

+-----------------------------+----------------+--------------+------------------------------+
|         Environment         | dpdk_unit_test | lpm_autotest | cryptodev_sw_snow3g_autotest |
+=============================+================+==============+==============================+
| Debian 11 (Buster) (ARM)    | PASS           | SKIPPED      | SKIPPED                      |
+-----------------------------+----------------+--------------+------------------------------+
| CentOS Stream 9 (ARM)       | PASS           | SKIPPED      | SKIPPED                      |
+-----------------------------+----------------+--------------+------------------------------+
| Fedora 37 (ARM)             | PASS           | SKIPPED      | SKIPPED                      |
+-----------------------------+----------------+--------------+------------------------------+
| Debian 12 (arm)             | PASS           | SKIPPED      | PEND                         |
+-----------------------------+----------------+--------------+------------------------------+
| Fedora 38 (ARM Clang)       | PEND           | SKIPPED      | SKIPPED                      |
+-----------------------------+----------------+--------------+------------------------------+
| Fedora 38 (ARM)             | PASS           | SKIPPED      | SKIPPED                      |
+-----------------------------+----------------+--------------+------------------------------+
| Fedora 39 (ARM)             | PASS           | SKIPPED      | SKIPPED                      |
+-----------------------------+----------------+--------------+------------------------------+
| Fedora 39 (ARM Clang)       | PEND           | SKIPPED      | SKIPPED                      |
+-----------------------------+----------------+--------------+------------------------------+
| Fedora 40 (ARM)             | PASS           | SKIPPED      | SKIPPED                      |
+-----------------------------+----------------+--------------+------------------------------+
| Fedora 40 (ARM Clang)       | PEND           | SKIPPED      | SKIPPED                      |
+-----------------------------+----------------+--------------+------------------------------+
| RHEL9 (ARM)                 | PASS           | SKIPPED      | SKIPPED                      |
+-----------------------------+----------------+--------------+------------------------------+
| Ubuntu 20.04 (ARM)          | PEND           | SKIPPED      | SKIPPED                      |
+-----------------------------+----------------+--------------+------------------------------+
| Ubuntu 22.04 (ARM)          | PEND           | SKIPPED      | SKIPPED                      |
+-----------------------------+----------------+--------------+------------------------------+
| Ubuntu 24.04 (ARM)          | PEND           | SKIPPED      | SKIPPED                      |
+-----------------------------+----------------+--------------+------------------------------+
| 32-bit Ubuntu 20.04.4 (ARM) | PEND           | SKIPPED      | SKIPPED                      |
+-----------------------------+----------------+--------------+------------------------------+
| Ubuntu 20.04 ARM SVE        | SKIPPED        | PEND         | SKIPPED                      |
+-----------------------------+----------------+--------------+------------------------------+


Debian 11 (Buster) (ARM)
	Kernel: Container Host Kernel
	Compiler: gcc 10.2.1

CentOS Stream 9 (ARM)
	Kernel: Container Host Kernel
	Compiler: gcc 11.4.1

Fedora 37 (ARM)
	Kernel: Depends on container host
	Compiler: gcc 12.3.1

Debian 12 (arm)
	Kernel: Container Host Kernel
	Compiler: gcc 12.2.0

Fedora 38 (ARM Clang)
	Kernel: Depends on container host
	Compiler: clang 16.0.6

Fedora 38 (ARM)
	Kernel: Depends on container host
	Compiler: gcc 13.2.1

Fedora 39 (ARM)
	Kernel: Depends on container host
	Compiler: gcc 13.2.1

Fedora 39 (ARM Clang)
	Kernel: Depends on container host
	Compiler: clang 17.0.6

Fedora 40 (ARM)
	Kernel: Depends on container host
	Compiler: gcc 14.1.1

Fedora 40 (ARM Clang)
	Kernel: Depends on container host
	Compiler: clang 18.1.6

RHEL9 (ARM)
	Kernel: Depends on container host
	Compiler: gcc 11.4.1

Ubuntu 20.04 (ARM)
	Kernel: Container Host Kernel
	Compiler: gcc 9.4.0

Ubuntu 22.04 (ARM)
	Kernel: Container Host Kernel
	Compiler: gcc 11.4.0

Ubuntu 24.04 (ARM)
	Kernel: 5.4.0-167-generic
	Compiler: gcc 13.2.0

32-bit Ubuntu 20.04.4 (ARM)
	Kernel: 5.4.0-155-generic aarch64
	Compiler: gcc 9.4

Ubuntu 20.04 ARM SVE
	Kernel: 5.4.0-167-generic
	Compiler: gcc (Ubuntu 10.5.0-1ubuntu1~20.04) 10.5.0

To view detailed results, visit:
https://lab.dpdk.org/results/dashboard/patchsets/30556/

UNH-IOL DPDK Community Lab

To manage your email subscriptions, visit: 
https://lab.dpdk.org/results/dashboard/preferences/subscriptions/