From mboxrd@z Thu Jan  1 00:00:00 1970
Return-Path: <test-report-bounces@dpdk.org>
Received: from mails.dpdk.org (mails.dpdk.org [217.70.189.124])
	by inbox.dpdk.org (Postfix) with ESMTP id CE0B945656
	for <public@inbox.dpdk.org>; Fri, 19 Jul 2024 16:06:55 +0200 (CEST)
Received: from mails.dpdk.org (localhost [127.0.0.1])
	by mails.dpdk.org (Postfix) with ESMTP id C98BC40E0F;
	Fri, 19 Jul 2024 16:06:55 +0200 (CEST)
Received: from mail-oo1-f98.google.com (mail-oo1-f98.google.com
 [209.85.161.98]) by mails.dpdk.org (Postfix) with ESMTP id 120D34026A
 for <test-report@dpdk.org>; Fri, 19 Jul 2024 16:06:42 +0200 (CEST)
Received: by mail-oo1-f98.google.com with SMTP id
 006d021491bc7-5ce74defe41so1087583eaf.0
 for <test-report@dpdk.org>; Fri, 19 Jul 2024 07:06:42 -0700 (PDT)
DKIM-Signature: v=1; a=rsa-sha256; c=relaxed/relaxed;
 d=iol.unh.edu; s=unh-iol; t=1721398001; x=1722002801; darn=dpdk.org;
 h=references:in-reply-to:cc:to:from:subject:message-id:date:from:to
 :cc:subject:date:message-id:reply-to;
 bh=ZZ/SgRrg/Xp6M0vtz2kZVHXaMOPGJjoz4DSTV19fHi0=;
 b=L8vbkf044VU1N29J12uBJjh5YVZie/lHyTgkPV8O6tYMKq7NOhVXiKcLQb/as90nuB
 B6HtnTLYm1Z8JOL+rpcPmHYlnZO6ryAdLvz6ig6nzSMVAPI9cUgL2HjwfuchlL9+l6yg
 RbyHyDDjZ5/EbbG4thB9Dw1Fjl0MJhybck79A=
X-Google-DKIM-Signature: v=1; a=rsa-sha256; c=relaxed/relaxed;
 d=1e100.net; s=20230601; t=1721398001; x=1722002801;
 h=references:in-reply-to:cc:to:from:subject:message-id:date
 :x-gm-message-state:from:to:cc:subject:date:message-id:reply-to;
 bh=ZZ/SgRrg/Xp6M0vtz2kZVHXaMOPGJjoz4DSTV19fHi0=;
 b=wkM08CA7m1mvFEqAnJJBJlL8TwUDPSOZYbqzR+KOUHUybrqCzyn90/PpCRZkYUmqla
 5u9PAKm8PVLI/KyoJu/0L2sIZ+FcjhDpUxwq+yxKM/PFaPT7zh2cOnUsV0BMUdfvq2F4
 lraMvgyIU/hXOE6GQZWX6NfuHTJSWRGCRQVN929hsJ/LPfwJRFtiN586wyvPB1LpGBU4
 lk9xhZNgZ2IpYqyoKnR74IIVpnEbiRK72jFAAXYnKqptMPLJKG4VDdBkn8ewSnQ5YjSj
 yfjiGkeDTDbpFMebGrG3fYVRZSTYIxggl4dcfbr+I4xw5KZhEStjYrlMaYS0qQCEBW2X
 t0bg==
X-Gm-Message-State: AOJu0YwWru/ECnmNsoa8cDY0QEs1ABsRPTorujHJTii3l2PH2/lUPZg6
 u3URptKKPblajjSsQTq4oVNYc5brzmbX3aJ0unhM9cJIkyHvtravD3Xwipi2CZNmW6l+M0dO13W
 TL8v7AuMeluEsm87SBaJlvq6Ne9pML7icNKaeSs+o6W+8tsO/ZJM8z5f7
X-Google-Smtp-Source: AGHT+IFFKbHeQUWTfz1DzEYpStCn88Jgw4Np6Aa1G5ulS860TJ3UlR6eqdEqbQ1rjZWnfOVXTnxJwEpUlHlI
X-Received: by 2002:a05:6820:2085:b0:5ce:adf8:291c with SMTP id
 006d021491bc7-5d41b171ca7mr10729806eaf.3.1721398001327; 
 Fri, 19 Jul 2024 07:06:41 -0700 (PDT)
Received: from postal.iol.unh.edu (postal.iol.unh.edu.
 [2606:4100:3880:1234::84]) by smtp-relay.gmail.com with ESMTPS id
 006d021491bc7-5d55a83ee02sm24274eaf.5.2024.07.19.07.06.41
 (version=TLS1_2 cipher=ECDHE-ECDSA-AES128-GCM-SHA256 bits=128/128);
 Fri, 19 Jul 2024 07:06:41 -0700 (PDT)
X-Relaying-Domain: iol.unh.edu
Date: Fri, 19 Jul 2024 07:06:41 -0700 (PDT)
Message-ID: <669a72f1.050a0220.ed1af.1b92SMTPIN_ADDED_MISSING@mx.google.com>
Received: from [172.21.0.7] (unknown [172.18.0.240])
 by postal.iol.unh.edu (Postfix) with ESMTP id CABA260526E2;
 Fri, 19 Jul 2024 10:06:40 -0400 (EDT)
Subject: |SUCCESS| pw142511-142512 [PATCH] [2/2] doc: remove use of -n 4 opti
From: dpdklab@iol.unh.edu
To: Test Report <test-report@dpdk.org>
Cc: dpdk-test-reports@iol.unh.edu
In-Reply-To: <20240718184326.21375-2-stephen@networkplumber.org>
References: <20240718184326.21375-2-stephen@networkplumber.org>
Content-Type: text/plain
X-BeenThere: test-report@dpdk.org
X-Mailman-Version: 2.1.29
Precedence: list
List-Id: automatic DPDK test reports <test-report.dpdk.org>
List-Unsubscribe: <https://mails.dpdk.org/options/test-report>,
 <mailto:test-report-request@dpdk.org?subject=unsubscribe>
List-Archive: <http://mails.dpdk.org/archives/test-report/>
List-Post: <mailto:test-report@dpdk.org>
List-Help: <mailto:test-report-request@dpdk.org?subject=help>
List-Subscribe: <https://mails.dpdk.org/listinfo/test-report>,
 <mailto:test-report-request@dpdk.org?subject=subscribe>
Errors-To: test-report-bounces@dpdk.org

Test-Label: iol-abi-testing
Test-Status: SUCCESS
http://dpdk.org/patch/142512

_Testing PASS_

Submitter: Stephen Hemminger <stephen@networkplumber.org>
Date: Thursday, July 18 2024 18:43:26 
DPDK git baseline: Repo:dpdk
  Branch: master
  CommitID:fa8d2f7f28524a6c8defa3dcd94f5aa131aae084

142511-142512 --> testing pass

Upstream job id: Generic-DPDK-Compile-ABI#99483

Test environment and result as below:

+-------------------+----------+
|    Environment    | abi_test |
+===================+==========+
| CentOS Stream 8   | PASS     |
+-------------------+----------+
| Debian Bullseye   | PASS     |
+-------------------+----------+
| CentOS Stream 9   | PASS     |
+-------------------+----------+
| Debian 12         | PASS     |
+-------------------+----------+
| Fedora 37         | PASS     |
+-------------------+----------+
| Fedora 38 (Clang) | PASS     |
+-------------------+----------+
| Fedora 38         | PASS     |
+-------------------+----------+
| Fedora 39 (Clang) | PASS     |
+-------------------+----------+
| Fedora 39         | PASS     |
+-------------------+----------+
| Fedora 40 (Clang) | PASS     |
+-------------------+----------+
| Fedora 40         | PASS     |
+-------------------+----------+
| openSUSE Leap 15  | PASS     |
+-------------------+----------+
| RHEL8             | PASS     |
+-------------------+----------+
| RHEL9             | PASS     |
+-------------------+----------+
| Ubuntu 22.04      | PASS     |
+-------------------+----------+
| Ubuntu 24.04      | PASS     |
+-------------------+----------+


CentOS Stream 8
	Kernel: 5.4.0-167-generic
	Compiler: gcc 8.5.0 20210514

Debian Bullseye
	Kernel: 5.4.0-167-generic
	Compiler: gcc 10.2.1-6

CentOS Stream 9
	Kernel: 5.4.0-167-generic
	Compiler: gcc 11.4.1 20230605

Debian 12
	Kernel: Container Host Kernel
	Compiler: gcc 12.2.0

Fedora 37
	Kernel: Depends on container host system
	Compiler: gcc 12.3.1

Fedora 38 (Clang)
	Kernel: Depends on container host
	Compiler: clang 16.0.6

Fedora 38
	Kernel: Depends on container host
	Compiler: gcc 13.2.1

Fedora 39 (Clang)
	Kernel: Depends on container host
	Compiler: clang 17.0.6

Fedora 39
	Kernel: Depends on container host
	Compiler: gcc 13.2.1

Fedora 40 (Clang)
	Kernel: Depends on container host
	Compiler: clang 18.1.6

Fedora 40
	Kernel: Depends on container host
	Compiler: gcc 14.1.1

openSUSE Leap 15
	Kernel: 5.4.0-167-generic
	Compiler: gcc 7.5.0

RHEL8
	Kernel: 5.4.0-167-generic
	Compiler: gcc 8.5.0 20210514 (Red Hat 8.5.0-20)

RHEL9
	Kernel: Depends on container host
	Compiler: gcc 11.4.1

Ubuntu 22.04
	Kernel: 5.4.0-167-generic
	Compiler: gcc 11.4.0

Ubuntu 24.04
	Kernel: 5.4.0-167-generic
	Compiler: gcc 13.2.0

To view detailed results, visit:
https://lab.dpdk.org/results/dashboard/patchsets/30556/

UNH-IOL DPDK Community Lab

To manage your email subscriptions, visit: 
https://lab.dpdk.org/results/dashboard/preferences/subscriptions/