From mboxrd@z Thu Jan  1 00:00:00 1970
Return-Path: <test-report-bounces@dpdk.org>
Received: from mails.dpdk.org (mails.dpdk.org [217.70.189.124])
	by inbox.dpdk.org (Postfix) with ESMTP id E263B45656
	for <public@inbox.dpdk.org>; Fri, 19 Jul 2024 16:14:09 +0200 (CEST)
Received: from mails.dpdk.org (localhost [127.0.0.1])
	by mails.dpdk.org (Postfix) with ESMTP id DF93540ED0;
	Fri, 19 Jul 2024 16:14:09 +0200 (CEST)
Received: from mail-ot1-f100.google.com (mail-ot1-f100.google.com
 [209.85.210.100])
 by mails.dpdk.org (Postfix) with ESMTP id 21BF84026A
 for <test-report@dpdk.org>; Fri, 19 Jul 2024 16:13:51 +0200 (CEST)
Received: by mail-ot1-f100.google.com with SMTP id
 46e09a7af769-70388567d24so991574a34.0
 for <test-report@dpdk.org>; Fri, 19 Jul 2024 07:13:51 -0700 (PDT)
DKIM-Signature: v=1; a=rsa-sha256; c=relaxed/relaxed;
 d=iol.unh.edu; s=unh-iol; t=1721398430; x=1722003230; darn=dpdk.org;
 h=references:in-reply-to:cc:to:from:subject:message-id:date:from:to
 :cc:subject:date:message-id:reply-to;
 bh=PE5qBrAijS7cURSFL5eDmuHX4ro8Hu8OoygehaCeNRo=;
 b=hYKOMSn5bPAVjnfmRYIGxLKn5o66RF6Ha5HY4pXwIga7iZezFPRDSk9jew13nurKiX
 JnoaI62vLmgoITufzjD4cg3U5zUFNTvRKOCkfdaRLIYeCqjaYakB7JV6NODFDDkXQQdC
 epUs/q2KO+ogvvFAkkc9b8HZ0/82y9zv9KDAg=
X-Google-DKIM-Signature: v=1; a=rsa-sha256; c=relaxed/relaxed;
 d=1e100.net; s=20230601; t=1721398430; x=1722003230;
 h=references:in-reply-to:cc:to:from:subject:message-id:date
 :x-gm-message-state:from:to:cc:subject:date:message-id:reply-to;
 bh=PE5qBrAijS7cURSFL5eDmuHX4ro8Hu8OoygehaCeNRo=;
 b=HAUVIDmCY8oMdxF7Vxh2xrBhtBqwm4D3dk/CIHD27XXaJLcleo+nqr1bwWkn4sodhq
 r49JwfpEqd35ENnlNWgVWc9jESIS8DracZ6t+AfngR79vSaAdcURfNcayvRY2aaP5hbD
 um1axbnsxQmSFUr2J1HVzZEnc+4V7VW5JpUChYvdeRvOSMUSnqbsMHUqsSx3vZlidla8
 7NCihZ3c9sCfdp81WIM6ldbozPwBAVlnWSL+eFw+tCJgW+RpwXJbpSEZhWWj7hOnWGt/
 WMw3SIBA5GDd8mycWcx1npl4RL3ynei09zcHbhwQ1MJ1DCbi9Ge3C71QZUcmXvQxA8Pv
 fp9Q==
X-Gm-Message-State: AOJu0YxfZshqNKXg0y0ni/rBcdv3uwaDomiXjNzbIWxgWMrE48GCDsCo
 6zLRp3RPY2bCDkS/Ihx+x5zv+y+zYBax8C/yG6ozzUE0uoaEUOAPDotNCMpHi+eC8FkTZcsZGKs
 Q+IOTIueoWEujUVY36RBQhtKZTTJI5Wg7dcmYU8AihtkhK1ycCwW/Rikn
X-Google-Smtp-Source: AGHT+IEVyfDdgDNjD7bTLs0WFp9pNC51nrL1ehJmWdpH355js4SxhpR8aOB4aqh34JQzzlVVVkQBG1BErl0M
X-Received: by 2002:a05:6870:e394:b0:25d:f8fa:b538 with SMTP id
 586e51a60fabf-260ee8424abmr5184874fac.29.1721398430131; 
 Fri, 19 Jul 2024 07:13:50 -0700 (PDT)
Received: from postal.iol.unh.edu (postal.iol.unh.edu.
 [2606:4100:3880:1234::84]) by smtp-relay.gmail.com with ESMTPS id
 586e51a60fabf-2610c725a85sm96137fac.3.2024.07.19.07.13.50
 (version=TLS1_2 cipher=ECDHE-ECDSA-AES128-GCM-SHA256 bits=128/128);
 Fri, 19 Jul 2024 07:13:50 -0700 (PDT)
X-Relaying-Domain: iol.unh.edu
Date: Fri, 19 Jul 2024 07:13:50 -0700 (PDT)
Message-ID: <669a749e.050a0220.3a710f.5e4dSMTPIN_ADDED_MISSING@mx.google.com>
Received: from [172.21.0.7] (unknown [172.18.0.240])
 by postal.iol.unh.edu (Postfix) with ESMTP id BED8A60526E2;
 Fri, 19 Jul 2024 10:13:49 -0400 (EDT)
Subject: |PENDING| pw142517-142521 [PATCH] [v3,3/3] dts: mac filter test suit
From: dpdklab@iol.unh.edu
To: Test Report <test-report@dpdk.org>
Cc: dpdk-test-reports@iol.unh.edu
In-Reply-To: <20240718194028.2849-1-npratte@iol.unh.edu>
References: <20240718194028.2849-1-npratte@iol.unh.edu>
Content-Type: text/plain
X-BeenThere: test-report@dpdk.org
X-Mailman-Version: 2.1.29
Precedence: list
List-Id: automatic DPDK test reports <test-report.dpdk.org>
List-Unsubscribe: <https://mails.dpdk.org/options/test-report>,
 <mailto:test-report-request@dpdk.org?subject=unsubscribe>
List-Archive: <http://mails.dpdk.org/archives/test-report/>
List-Post: <mailto:test-report@dpdk.org>
List-Help: <mailto:test-report-request@dpdk.org?subject=help>
List-Subscribe: <https://mails.dpdk.org/listinfo/test-report>,
 <mailto:test-report-request@dpdk.org?subject=subscribe>
Errors-To: test-report-bounces@dpdk.org

Test-Label: iol-compile-arm64-testing
Test-Status: PENDING
http://dpdk.org/patch/142521

_Testing pending_

Submitter: Nicholas Pratte <npratte@iol.unh.edu>
Date: Thursday, July 18 2024 19:40:28 
DPDK git baseline: Repo:dpdk
  Branch: master
  CommitID:fa8d2f7f28524a6c8defa3dcd94f5aa131aae084

142517-142521 --> testing pending

Upstream job id: Generic-DPDK-Compile-Meson#276575

Test environment and result as below:

+----------------------------------------+--------------------+
|              Environment               | dpdk_meson_compile |
+========================================+====================+
| RHEL9 (ARM)                            | PASS               |
+----------------------------------------+--------------------+
| Ubuntu 20.04 ARM GCC Cross Compile     | PEND               |
+----------------------------------------+--------------------+
| Ubuntu 20.04 ARM SVE                   | PASS               |
+----------------------------------------+--------------------+
| Debian 12 with MUSDK                   | PASS               |
+----------------------------------------+--------------------+
| Fedora 37 (ARM)                        | PASS               |
+----------------------------------------+--------------------+
| Fedora 38 (ARM)                        | PASS               |
+----------------------------------------+--------------------+
| Fedora 38 (ARM Clang)                  | PEND               |
+----------------------------------------+--------------------+
| Fedora 39 (ARM)                        | PASS               |
+----------------------------------------+--------------------+
| Fedora 39 (ARM Clang)                  | PEND               |
+----------------------------------------+--------------------+
| Fedora 40 (ARM)                        | PASS               |
+----------------------------------------+--------------------+
| Ubuntu 20.04 (ARM)                     | PASS               |
+----------------------------------------+--------------------+
| Ubuntu 22.04 (ARM)                     | PASS               |
+----------------------------------------+--------------------+
| Ubuntu 24.04 (ARM)                     | PASS               |
+----------------------------------------+--------------------+
| CentOS Stream 9 (ARM)                  | PASS               |
+----------------------------------------+--------------------+
| Debian 11 (Buster) (ARM)               | PASS               |
+----------------------------------------+--------------------+
| Debian 12 (arm)                        | PASS               |
+----------------------------------------+--------------------+
| Ubuntu 20.04 ARM Clang Cross Compile   | PEND               |
+----------------------------------------+--------------------+
| Ubuntu 20.04 aarch32 GCC Cross Compile | PEND               |
+----------------------------------------+--------------------+


RHEL9 (ARM)
	Kernel: Depends on container host
	Compiler: gcc 11.4.1

Ubuntu 20.04 ARM GCC Cross Compile
	Kernel: 5.4.0-167-generic
	Compiler: aarch64-linux-gnu-gcc (Ubuntu 9.4.0-1ubuntu1~20.04.2) 9.4.0

Ubuntu 20.04 ARM SVE
	Kernel: 5.4.0-167-generic
	Compiler: gcc (Ubuntu 10.5.0-1ubuntu1~20.04) 10.5.0

Debian 12 with MUSDK
	Kernel: Container Host Kernel
	Compiler: gcc 12.2.0

Fedora 37 (ARM)
	Kernel: Depends on container host
	Compiler: gcc 12.3.1

Fedora 38 (ARM)
	Kernel: Depends on container host
	Compiler: gcc 13.2.1

Fedora 38 (ARM Clang)
	Kernel: Depends on container host
	Compiler: clang 16.0.6

Fedora 39 (ARM)
	Kernel: Depends on container host
	Compiler: gcc 13.2.1

Fedora 39 (ARM Clang)
	Kernel: Depends on container host
	Compiler: clang 17.0.6

Fedora 40 (ARM)
	Kernel: Depends on container host
	Compiler: gcc 14.1.1

Ubuntu 20.04 (ARM)
	Kernel: Container Host Kernel
	Compiler: gcc 9.4.0

Ubuntu 22.04 (ARM)
	Kernel: Container Host Kernel
	Compiler: gcc 11.4.0

Ubuntu 24.04 (ARM)
	Kernel: 5.4.0-167-generic
	Compiler: gcc 13.2.0

CentOS Stream 9 (ARM)
	Kernel: Container Host Kernel
	Compiler: gcc 11.4.1

Debian 11 (Buster) (ARM)
	Kernel: Container Host Kernel
	Compiler: gcc 10.2.1

Debian 12 (arm)
	Kernel: Container Host Kernel
	Compiler: gcc 12.2.0

Ubuntu 20.04 ARM Clang Cross Compile
	Kernel: 5.4.0-72-generic
	Compiler: clang 10.0.0-4ubuntu1

Ubuntu 20.04 aarch32 GCC Cross Compile
	Kernel: 5.4.0-167-generic
	Compiler: gcc 9.4.0

To view detailed results, visit:
https://lab.dpdk.org/results/dashboard/patchsets/30557/

UNH-IOL DPDK Community Lab

To manage your email subscriptions, visit: 
https://lab.dpdk.org/results/dashboard/preferences/subscriptions/