From mboxrd@z Thu Jan  1 00:00:00 1970
Return-Path: <test-report-bounces@dpdk.org>
Received: from mails.dpdk.org (mails.dpdk.org [217.70.189.124])
	by inbox.dpdk.org (Postfix) with ESMTP id 0D4CF45656
	for <public@inbox.dpdk.org>; Fri, 19 Jul 2024 16:14:10 +0200 (CEST)
Received: from mails.dpdk.org (localhost [127.0.0.1])
	by mails.dpdk.org (Postfix) with ESMTP id 038BF40EE4;
	Fri, 19 Jul 2024 16:14:10 +0200 (CEST)
Received: from mail-yw1-f227.google.com (mail-yw1-f227.google.com
 [209.85.128.227])
 by mails.dpdk.org (Postfix) with ESMTP id D711E4026A
 for <test-report@dpdk.org>; Fri, 19 Jul 2024 16:14:00 +0200 (CEST)
Received: by mail-yw1-f227.google.com with SMTP id
 00721157ae682-66108213e88so19586757b3.1
 for <test-report@dpdk.org>; Fri, 19 Jul 2024 07:14:00 -0700 (PDT)
DKIM-Signature: v=1; a=rsa-sha256; c=relaxed/relaxed;
 d=iol.unh.edu; s=unh-iol; t=1721398440; x=1722003240; darn=dpdk.org;
 h=references:in-reply-to:cc:to:from:subject:message-id:date:from:to
 :cc:subject:date:message-id:reply-to;
 bh=tgtXRI/sZcfcMsfzi9To0oDW2T1pU6f6eK93jc85di0=;
 b=a0/oUHooFR0OCSu2vz/lf8KWnexT81jRit70wgvFT2jcbg8B99W313Q3XAEQz81fAM
 qZ9tk2XvBLbFqAe3gSK34446IQBqq6y/tqGRJdoOBxQWj5UCDbciY3eGxi+Xiw3e0v/m
 HCYUA+zVaRc1IZmsAmtWK+McJabVvzYEzTvQM=
X-Google-DKIM-Signature: v=1; a=rsa-sha256; c=relaxed/relaxed;
 d=1e100.net; s=20230601; t=1721398440; x=1722003240;
 h=references:in-reply-to:cc:to:from:subject:message-id:date
 :x-gm-message-state:from:to:cc:subject:date:message-id:reply-to;
 bh=tgtXRI/sZcfcMsfzi9To0oDW2T1pU6f6eK93jc85di0=;
 b=sABX4XcJt6PIxeccMtxx0VFqHKoxhJ0MN7gEnlADSm1gVeoIAxkpu20PUjpSLA6wv3
 rJfGBmCuPkcEqnGsCJj6jZ2r5fKpbZfjsKnC2BVa8FKlzzo3SZ4ES7L4r2qZ0CzUFp7a
 Wx9ItlQaFy0q9obEdcuLzIDTOHrZsZb3KMwsZI0xRBMc5QVKIv9UKi6xV2ePBjhO8E91
 BaQscZhgMjs+YMnCcH5Ke6bkLkpextmuvBr18X0Rr7VaGHw/072daB6a3zfZVKWmrmfJ
 5bboa7fI7sRbc9fTsSLR/Uh4igFcS7A+V0KsHrOh9cU6eKFFq2l1ORBOQNapr9y+8gEw
 6a2g==
X-Gm-Message-State: AOJu0YzE+ZnRgk9B5EmqifBPt8i1YPlXbFy2j4Lgcmcwh7z5UzaZJzNS
 wcYyGYsjpFWdtimqdNdyuMX59IXlcLIb8nBjF698nqg7hU0FInbi2bqMs47u60hPDgApTOg7n01
 t8+nANsGKVisIcq11m7CzLJWDNzSiCYWIA68degFP
X-Google-Smtp-Source: AGHT+IFM8E/YpYER/DsPVzmNAZ4dms43wFPFtO2YuCIvPTfsy2PofRg7XzbuQ4kYspdvSzCtc1hsA5E/HvJo
X-Received: by 2002:a0d:f247:0:b0:627:7e65:979 with SMTP id
 00721157ae682-664fea2b016mr83991827b3.24.1721398440223; 
 Fri, 19 Jul 2024 07:14:00 -0700 (PDT)
Received: from postal.iol.unh.edu (postal.iol.unh.edu. [132.177.123.84])
 by smtp-relay.gmail.com with ESMTPS id
 00721157ae682-66953adb18csm614347b3.50.2024.07.19.07.14.00
 (version=TLS1_2 cipher=ECDHE-ECDSA-AES128-GCM-SHA256 bits=128/128);
 Fri, 19 Jul 2024 07:14:00 -0700 (PDT)
X-Relaying-Domain: iol.unh.edu
Date: Fri, 19 Jul 2024 07:14:00 -0700 (PDT)
Message-ID: <669a74a8.810a0220.199b8.364bSMTPIN_ADDED_MISSING@mx.google.com>
Received: from [172.21.0.8] (unknown [172.18.0.240])
 by postal.iol.unh.edu (Postfix) with ESMTP id D519B60526E2;
 Fri, 19 Jul 2024 10:13:59 -0400 (EDT)
Subject: |PENDING| pw142511-142512 [PATCH] [2/2] doc: remove use of -n 4 opti
From: dpdklab@iol.unh.edu
To: Test Report <test-report@dpdk.org>
Cc: dpdk-test-reports@iol.unh.edu
In-Reply-To: <20240718184326.21375-2-stephen@networkplumber.org>
References: <20240718184326.21375-2-stephen@networkplumber.org>
Content-Type: text/plain
X-BeenThere: test-report@dpdk.org
X-Mailman-Version: 2.1.29
Precedence: list
List-Id: automatic DPDK test reports <test-report.dpdk.org>
List-Unsubscribe: <https://mails.dpdk.org/options/test-report>,
 <mailto:test-report-request@dpdk.org?subject=unsubscribe>
List-Archive: <http://mails.dpdk.org/archives/test-report/>
List-Post: <mailto:test-report@dpdk.org>
List-Help: <mailto:test-report-request@dpdk.org?subject=help>
List-Subscribe: <https://mails.dpdk.org/listinfo/test-report>,
 <mailto:test-report-request@dpdk.org?subject=subscribe>
Errors-To: test-report-bounces@dpdk.org

Test-Label: iol-unit-arm64-testing
Test-Status: PENDING
http://dpdk.org/patch/142512

_Testing pending_

Submitter: Stephen Hemminger <stephen@networkplumber.org>
Date: Thursday, July 18 2024 18:43:26 
DPDK git baseline: Repo:dpdk
  Branch: master
  CommitID:fa8d2f7f28524a6c8defa3dcd94f5aa131aae084

142511-142512 --> testing pending

Upstream job id: Generic-Unit-Test-DPDK#241864

Test environment and result as below:

+-----------------------------+----------------+--------------+------------------------------+
|         Environment         | dpdk_unit_test | lpm_autotest | cryptodev_sw_snow3g_autotest |
+=============================+================+==============+==============================+
| Debian 11 (Buster) (ARM)    | PASS           | SKIPPED      | SKIPPED                      |
+-----------------------------+----------------+--------------+------------------------------+
| CentOS Stream 9 (ARM)       | PASS           | SKIPPED      | SKIPPED                      |
+-----------------------------+----------------+--------------+------------------------------+
| Fedora 37 (ARM)             | PASS           | SKIPPED      | SKIPPED                      |
+-----------------------------+----------------+--------------+------------------------------+
| Debian 12 (arm)             | PASS           | SKIPPED      | PEND                         |
+-----------------------------+----------------+--------------+------------------------------+
| Fedora 38 (ARM Clang)       | PASS           | SKIPPED      | SKIPPED                      |
+-----------------------------+----------------+--------------+------------------------------+
| Fedora 38 (ARM)             | PASS           | SKIPPED      | SKIPPED                      |
+-----------------------------+----------------+--------------+------------------------------+
| Fedora 39 (ARM)             | PASS           | SKIPPED      | SKIPPED                      |
+-----------------------------+----------------+--------------+------------------------------+
| Fedora 39 (ARM Clang)       | PASS           | SKIPPED      | SKIPPED                      |
+-----------------------------+----------------+--------------+------------------------------+
| Fedora 40 (ARM)             | PASS           | SKIPPED      | SKIPPED                      |
+-----------------------------+----------------+--------------+------------------------------+
| Fedora 40 (ARM Clang)       | PASS           | SKIPPED      | SKIPPED                      |
+-----------------------------+----------------+--------------+------------------------------+
| RHEL9 (ARM)                 | PASS           | SKIPPED      | SKIPPED                      |
+-----------------------------+----------------+--------------+------------------------------+
| Ubuntu 20.04 (ARM)          | PASS           | SKIPPED      | SKIPPED                      |
+-----------------------------+----------------+--------------+------------------------------+
| Ubuntu 22.04 (ARM)          | PEND           | SKIPPED      | SKIPPED                      |
+-----------------------------+----------------+--------------+------------------------------+
| Ubuntu 24.04 (ARM)          | PEND           | SKIPPED      | SKIPPED                      |
+-----------------------------+----------------+--------------+------------------------------+
| 32-bit Ubuntu 20.04.4 (ARM) | PEND           | SKIPPED      | SKIPPED                      |
+-----------------------------+----------------+--------------+------------------------------+
| Ubuntu 20.04 ARM SVE        | SKIPPED        | PEND         | SKIPPED                      |
+-----------------------------+----------------+--------------+------------------------------+


Debian 11 (Buster) (ARM)
	Kernel: Container Host Kernel
	Compiler: gcc 10.2.1

CentOS Stream 9 (ARM)
	Kernel: Container Host Kernel
	Compiler: gcc 11.4.1

Fedora 37 (ARM)
	Kernel: Depends on container host
	Compiler: gcc 12.3.1

Debian 12 (arm)
	Kernel: Container Host Kernel
	Compiler: gcc 12.2.0

Fedora 38 (ARM Clang)
	Kernel: Depends on container host
	Compiler: clang 16.0.6

Fedora 38 (ARM)
	Kernel: Depends on container host
	Compiler: gcc 13.2.1

Fedora 39 (ARM)
	Kernel: Depends on container host
	Compiler: gcc 13.2.1

Fedora 39 (ARM Clang)
	Kernel: Depends on container host
	Compiler: clang 17.0.6

Fedora 40 (ARM)
	Kernel: Depends on container host
	Compiler: gcc 14.1.1

Fedora 40 (ARM Clang)
	Kernel: Depends on container host
	Compiler: clang 18.1.6

RHEL9 (ARM)
	Kernel: Depends on container host
	Compiler: gcc 11.4.1

Ubuntu 20.04 (ARM)
	Kernel: Container Host Kernel
	Compiler: gcc 9.4.0

Ubuntu 22.04 (ARM)
	Kernel: Container Host Kernel
	Compiler: gcc 11.4.0

Ubuntu 24.04 (ARM)
	Kernel: 5.4.0-167-generic
	Compiler: gcc 13.2.0

32-bit Ubuntu 20.04.4 (ARM)
	Kernel: 5.4.0-155-generic aarch64
	Compiler: gcc 9.4

Ubuntu 20.04 ARM SVE
	Kernel: 5.4.0-167-generic
	Compiler: gcc (Ubuntu 10.5.0-1ubuntu1~20.04) 10.5.0

To view detailed results, visit:
https://lab.dpdk.org/results/dashboard/patchsets/30556/

UNH-IOL DPDK Community Lab

To manage your email subscriptions, visit: 
https://lab.dpdk.org/results/dashboard/preferences/subscriptions/