From mboxrd@z Thu Jan  1 00:00:00 1970
Return-Path: <test-report-bounces@dpdk.org>
Received: from mails.dpdk.org (mails.dpdk.org [217.70.189.124])
	by inbox.dpdk.org (Postfix) with ESMTP id BBE3845656
	for <public@inbox.dpdk.org>; Fri, 19 Jul 2024 16:16:24 +0200 (CEST)
Received: from mails.dpdk.org (localhost [127.0.0.1])
	by mails.dpdk.org (Postfix) with ESMTP id B4B9240E0F;
	Fri, 19 Jul 2024 16:16:24 +0200 (CEST)
Received: from mail-io1-f99.google.com (mail-io1-f99.google.com
 [209.85.166.99]) by mails.dpdk.org (Postfix) with ESMTP id 7E52E4026A
 for <test-report@dpdk.org>; Fri, 19 Jul 2024 16:15:36 +0200 (CEST)
Received: by mail-io1-f99.google.com with SMTP id
 ca18e2360f4ac-7f70a708f8aso89748639f.2
 for <test-report@dpdk.org>; Fri, 19 Jul 2024 07:15:36 -0700 (PDT)
DKIM-Signature: v=1; a=rsa-sha256; c=relaxed/relaxed;
 d=iol.unh.edu; s=unh-iol; t=1721398536; x=1722003336; darn=dpdk.org;
 h=references:in-reply-to:cc:to:from:subject:message-id:date:from:to
 :cc:subject:date:message-id:reply-to;
 bh=sxXTYVcff0MfPhCig/JYMhORF0ivJQOYqt4TWprTktU=;
 b=Uv7U+1qaXu8P/4sCZuI/XRpFGt7XvuJeUNaMiMfM89wXGXTxypbkC54QV5o9yIDd8h
 x4A7h743BnJH9LgQl/1BDp2xtq3YQ9+CiFtx8PLLMjCWkVkHmM7s+6M9WxUlLpi3NkxX
 YsZm3bUYE37dTvttpGw3WP7YzNmyDnJhlFsOs=
X-Google-DKIM-Signature: v=1; a=rsa-sha256; c=relaxed/relaxed;
 d=1e100.net; s=20230601; t=1721398536; x=1722003336;
 h=references:in-reply-to:cc:to:from:subject:message-id:date
 :x-gm-message-state:from:to:cc:subject:date:message-id:reply-to;
 bh=sxXTYVcff0MfPhCig/JYMhORF0ivJQOYqt4TWprTktU=;
 b=XfMuVSrSAh0qVGF+Ue8VGZ2neuE6IHRPpOQJWDlM5Ii/C4LipXUG9kaGy6JtDzUBkP
 fgnwYp8RSrmADqV2ZYlRzFgCPFUhjk3xYfyPA8vRDffmte1Kfl1LvH2LvQRUdVzgA1WN
 IlsYp0PQeh5Mxbq5eugZIk39jHbQf9XnJkDXYjBmNw+DA40qsFuabNRH57WlILw+UEpt
 RoLCmUQuAtebzKQZTEzL77BXfqWQy3BGCM/oGSdsjO1z/yttSWisU8R1nzEtD3MXAd08
 p/xUGQmx18PO3CBIvZzxWrkdt3JCWAM+ocG9TAcWk7POoPEfQOsr+2skUE5ZFt17lyUT
 ekpQ==
X-Gm-Message-State: AOJu0YycLHHTE79VgQn9nCKhsFlgqb98Gt+imgEIUTNY8UwVfToreite
 sCuW1gunkunOH7HSE5YhAsuNpvVQb+DRQqhXiuoR21eHduQY6h1asTS5FDjKShjR4WVaA8Cz9Xi
 iZ7XtI+aEPOsjUzY+xClReNM2W5bR0pgJZaoFgyeO
X-Google-Smtp-Source: AGHT+IFUjE96/hKiIrMUDNMKu6AllJOxmMfdDJVmIcjI2PxQn64FqmHO2J3DPMGBQvbgRZKFid811qiW9s2g
X-Received: by 2002:a05:6602:6d8d:b0:813:f74:e6e6 with SMTP id
 ca18e2360f4ac-81711e18cd9mr1034595139f.15.1721398535683; 
 Fri, 19 Jul 2024 07:15:35 -0700 (PDT)
Received: from postal.iol.unh.edu (postal.iol.unh.edu. [132.177.123.84])
 by smtp-relay.gmail.com with ESMTPS id
 8926c6da1cb9f-4c2343078e0sm57682173.21.2024.07.19.07.15.35
 (version=TLS1_2 cipher=ECDHE-ECDSA-AES128-GCM-SHA256 bits=128/128);
 Fri, 19 Jul 2024 07:15:35 -0700 (PDT)
X-Relaying-Domain: iol.unh.edu
Date: Fri, 19 Jul 2024 07:15:35 -0700 (PDT)
Message-ID: <669a7507.050a0220.60858.3653SMTPIN_ADDED_MISSING@mx.google.com>
Received: from [172.21.0.6] (unknown [172.18.0.240])
 by postal.iol.unh.edu (Postfix) with ESMTP id 3009660526E2;
 Fri, 19 Jul 2024 10:15:35 -0400 (EDT)
Subject: |PENDING| pw142511-142512 [PATCH] [2/2] doc: remove use of -n 4 opti
From: dpdklab@iol.unh.edu
To: Test Report <test-report@dpdk.org>
Cc: dpdk-test-reports@iol.unh.edu
In-Reply-To: <20240718184326.21375-2-stephen@networkplumber.org>
References: <20240718184326.21375-2-stephen@networkplumber.org>
Content-Type: text/plain
X-BeenThere: test-report@dpdk.org
X-Mailman-Version: 2.1.29
Precedence: list
List-Id: automatic DPDK test reports <test-report.dpdk.org>
List-Unsubscribe: <https://mails.dpdk.org/options/test-report>,
 <mailto:test-report-request@dpdk.org?subject=unsubscribe>
List-Archive: <http://mails.dpdk.org/archives/test-report/>
List-Post: <mailto:test-report@dpdk.org>
List-Help: <mailto:test-report-request@dpdk.org?subject=help>
List-Subscribe: <https://mails.dpdk.org/listinfo/test-report>,
 <mailto:test-report-request@dpdk.org?subject=subscribe>
Errors-To: test-report-bounces@dpdk.org

Test-Label: iol-unit-amd64-testing
Test-Status: PENDING
http://dpdk.org/patch/142512

_Testing pending_

Submitter: Stephen Hemminger <stephen@networkplumber.org>
Date: Thursday, July 18 2024 18:43:26 
DPDK git baseline: Repo:dpdk
  Branch: master
  CommitID:fa8d2f7f28524a6c8defa3dcd94f5aa131aae084

142511-142512 --> testing pending

Upstream job id: Generic-Unit-Test-DPDK#241844

Test environment and result as below:

+---------------------+----------------+
|     Environment     | dpdk_unit_test |
+=====================+================+
| Windows Server 2022 | PASS           |
+---------------------+----------------+
| Windows Server 2019 | PASS           |
+---------------------+----------------+
| CentOS Stream 8     | PASS           |
+---------------------+----------------+
| CentOS Stream 9     | PASS           |
+---------------------+----------------+
| Debian Bullseye     | PEND           |
+---------------------+----------------+
| Debian 12           | PEND           |
+---------------------+----------------+
| Fedora 38 (Clang)   | PEND           |
+---------------------+----------------+
| Fedora 37           | PEND           |
+---------------------+----------------+
| Fedora 39           | PEND           |
+---------------------+----------------+
| Fedora 39 (Clang)   | PEND           |
+---------------------+----------------+
| Fedora 40           | PEND           |
+---------------------+----------------+
| Fedora 40 (Clang)   | PEND           |
+---------------------+----------------+
| openSUSE Leap 15    | PEND           |
+---------------------+----------------+
| RHEL8               | PEND           |
+---------------------+----------------+
| RHEL9               | PEND           |
+---------------------+----------------+
| Ubuntu 20.04        | PEND           |
+---------------------+----------------+
| Ubuntu 22.04        | PEND           |
+---------------------+----------------+
| Ubuntu 24.04        | PEND           |
+---------------------+----------------+


Windows Server 2022
	Kernel: 10.0.20348.2031
	Compiler: clang 15.0.7, gcc 8.1.0 (MinGW), and MSVC VS 17.9

Windows Server 2019
	Kernel: 10.0.17763
	Compiler: clang 14.0 and gcc 8.1.0 (MinGW)

CentOS Stream 8
	Kernel: 5.4.0-167-generic
	Compiler: gcc 8.5.0 20210514

CentOS Stream 9
	Kernel: 5.4.0-167-generic
	Compiler: gcc 11.4.1 20230605

Debian Bullseye
	Kernel: 5.4.0-167-generic
	Compiler: gcc 10.2.1-6

Debian 12
	Kernel: Container Host Kernel
	Compiler: gcc 12.2.0

Fedora 38 (Clang)
	Kernel: Depends on container host
	Compiler: clang 16.0.6

Fedora 37
	Kernel: Depends on container host system
	Compiler: gcc 12.3.1

Fedora 39
	Kernel: Depends on container host
	Compiler: gcc 13.2.1

Fedora 39 (Clang)
	Kernel: Depends on container host
	Compiler: clang 17.0.6

Fedora 40
	Kernel: Depends on container host
	Compiler: gcc 14.1.1

Fedora 40 (Clang)
	Kernel: Depends on container host
	Compiler: clang 18.1.6

openSUSE Leap 15
	Kernel: 5.4.0-167-generic
	Compiler: gcc 7.5.0

RHEL8
	Kernel: 5.4.0-167-generic
	Compiler: gcc 8.5.0 20210514 (Red Hat 8.5.0-20)

RHEL9
	Kernel: Depends on container host
	Compiler: gcc 11.4.1

Ubuntu 20.04
	Kernel: 5.4.0-167-generic
	Compiler: gcc 9.4.0-1ubuntu1~20.04.1

Ubuntu 22.04
	Kernel: 5.4.0-167-generic
	Compiler: gcc 11.4.0

Ubuntu 24.04
	Kernel: 5.4.0-167-generic
	Compiler: gcc 13.2.0

To view detailed results, visit:
https://lab.dpdk.org/results/dashboard/patchsets/30556/

UNH-IOL DPDK Community Lab

To manage your email subscriptions, visit: 
https://lab.dpdk.org/results/dashboard/preferences/subscriptions/