From mboxrd@z Thu Jan  1 00:00:00 1970
Return-Path: <test-report-bounces@dpdk.org>
Received: from mails.dpdk.org (mails.dpdk.org [217.70.189.124])
	by inbox.dpdk.org (Postfix) with ESMTP id 4B4EE45656
	for <public@inbox.dpdk.org>; Fri, 19 Jul 2024 16:17:50 +0200 (CEST)
Received: from mails.dpdk.org (localhost [127.0.0.1])
	by mails.dpdk.org (Postfix) with ESMTP id 47DF040E0F;
	Fri, 19 Jul 2024 16:17:50 +0200 (CEST)
Received: from mail-qt1-f226.google.com (mail-qt1-f226.google.com
 [209.85.160.226])
 by mails.dpdk.org (Postfix) with ESMTP id 1C48F4026A
 for <test-report@dpdk.org>; Fri, 19 Jul 2024 16:17:49 +0200 (CEST)
Received: by mail-qt1-f226.google.com with SMTP id
 d75a77b69052e-447f25e65f9so8076201cf.3
 for <test-report@dpdk.org>; Fri, 19 Jul 2024 07:17:49 -0700 (PDT)
DKIM-Signature: v=1; a=rsa-sha256; c=relaxed/relaxed;
 d=iol.unh.edu; s=unh-iol; t=1721398668; x=1722003468; darn=dpdk.org;
 h=references:in-reply-to:cc:to:from:subject:message-id:date:from:to
 :cc:subject:date:message-id:reply-to;
 bh=QkdyxS6BUb78v0nQQAkK3mUjxHyk7yst3Rc2zESW2dU=;
 b=KPauiTbSyiJBriIQuiyi5g5e7ZEDIAVUKhrMGoyQ+P9O2+O8qyCmQRcXnFOw76k8R2
 kTV+IC/xRu8b/G1Dk0KtVm3pO1UPaenh/Z7sRAmMvqub10xPBnMp0C9IwbnDdXE2Bn/r
 nfE4n/XUDkYLEuSTcdFJ9uCDd/5jLZgxYWfWQ=
X-Google-DKIM-Signature: v=1; a=rsa-sha256; c=relaxed/relaxed;
 d=1e100.net; s=20230601; t=1721398668; x=1722003468;
 h=references:in-reply-to:cc:to:from:subject:message-id:date
 :x-gm-message-state:from:to:cc:subject:date:message-id:reply-to;
 bh=QkdyxS6BUb78v0nQQAkK3mUjxHyk7yst3Rc2zESW2dU=;
 b=lYdODS2dEUVgKVnw1+lh11PL+Aj5eMKonCeb4zg83f9nUttzmK0TdDevrhI8pSYfjC
 R7HPPU4NZU7TWiCJcNg8zty6aGHD5tVxtLqKeGx4aqnlHEeDcEQWNpFHA1o2OPwjuaid
 AgklEq0WGLDYMYCxeYGb3MopAMwPudPjfz8lIXaU9itIktu6HfSQFMI/2gAFgNJKi+tR
 57r/SF7inbMBloeP/jXi2SWCdL5vUqXwRzDkUe1kX3LqVAJHnh76BF/YoDcRNLVkAoI4
 ZTa6RSkIyhlVsQnldFpAfadJiLcfvzrK62IEKDQOL36O/fBSJos9w6BWOqnQbobmgMGf
 /YmA==
X-Gm-Message-State: AOJu0YyK+MZeZYavNBWuT8qgnNEu7VK8q0ud3ZvYsfOrxWDgm3EHuJlP
 6mf+ggOcPOi3oDinVG9GfTHjIkx5KQE5EvyzcxOj9T1MVLqrGnl4DrLFt9QCGHEixeqwNj8V4B8
 PyKZB46mIzUH3Jljq91YmR89459AcfZZSZkJjJkLxfFd8W3FeXJcYeBw6
X-Google-Smtp-Source: AGHT+IFgXKKTXWrNN9DQnG56B33GRX8GImgAWstAUc+28ZcbJyKPSjMcpEUoebUJHvdSaEjjW/4CAvc8QVqC
X-Received: by 2002:ac8:5a49:0:b0:446:63e9:dc81 with SMTP id
 d75a77b69052e-44f96af20e7mr38693301cf.63.1721398668450; 
 Fri, 19 Jul 2024 07:17:48 -0700 (PDT)
Received: from postal.iol.unh.edu (postal.iol.unh.edu.
 [2606:4100:3880:1234::84]) by smtp-relay.gmail.com with ESMTPS id
 d75a77b69052e-44f9cbebc8dsm776421cf.5.2024.07.19.07.17.48
 (version=TLS1_2 cipher=ECDHE-ECDSA-AES128-GCM-SHA256 bits=128/128);
 Fri, 19 Jul 2024 07:17:48 -0700 (PDT)
X-Relaying-Domain: iol.unh.edu
Date: Fri, 19 Jul 2024 07:17:48 -0700 (PDT)
Message-ID: <669a758c.050a0220.b5142.4ae7SMTPIN_ADDED_MISSING@mx.google.com>
Received: from [172.21.0.6] (unknown [172.18.0.240])
 by postal.iol.unh.edu (Postfix) with ESMTP id 2441760526E2;
 Fri, 19 Jul 2024 10:17:48 -0400 (EDT)
Subject: |PENDING| pw142527-142556 [PATCH] [30/30] bus/dpaa: add port bmi sta
From: dpdklab@iol.unh.edu
To: Test Report <test-report@dpdk.org>
Cc: dpdk-test-reports@iol.unh.edu
In-Reply-To: <20240719100126.1150373-30-g.singh@nxp.com>
References: <20240719100126.1150373-30-g.singh@nxp.com>
Content-Type: text/plain
X-BeenThere: test-report@dpdk.org
X-Mailman-Version: 2.1.29
Precedence: list
List-Id: automatic DPDK test reports <test-report.dpdk.org>
List-Unsubscribe: <https://mails.dpdk.org/options/test-report>,
 <mailto:test-report-request@dpdk.org?subject=unsubscribe>
List-Archive: <http://mails.dpdk.org/archives/test-report/>
List-Post: <mailto:test-report@dpdk.org>
List-Help: <mailto:test-report-request@dpdk.org?subject=help>
List-Subscribe: <https://mails.dpdk.org/listinfo/test-report>,
 <mailto:test-report-request@dpdk.org?subject=subscribe>
Errors-To: test-report-bounces@dpdk.org

Test-Label: iol-abi-testing
Test-Status: PENDING
http://dpdk.org/patch/142556

_Testing pending_

Submitter: Gagandeep Singh <g.singh@nxp.com>
Date: Friday, July 19 2024 10:01:26 
DPDK git baseline: Repo:dpdk
  Branch: master
  CommitID:fa8d2f7f28524a6c8defa3dcd94f5aa131aae084

142527-142556 --> testing pending

Upstream job id: Generic-DPDK-Compile-ABI#99499

Test environment and result as below:

+-------------------+----------+
|    Environment    | abi_test |
+===================+==========+
| CentOS Stream 8   | PASS     |
+-------------------+----------+
| CentOS Stream 9   | PASS     |
+-------------------+----------+
| Debian Bullseye   | PASS     |
+-------------------+----------+
| Debian 12         | PEND     |
+-------------------+----------+
| Fedora 38 (Clang) | PASS     |
+-------------------+----------+
| Fedora 37         | PASS     |
+-------------------+----------+
| Fedora 38         | PASS     |
+-------------------+----------+
| Fedora 40 (Clang) | PEND     |
+-------------------+----------+
| Fedora 39 (Clang) | PEND     |
+-------------------+----------+
| Fedora 39         | PEND     |
+-------------------+----------+
| openSUSE Leap 15  | PASS     |
+-------------------+----------+
| Fedora 40         | PASS     |
+-------------------+----------+
| RHEL8             | PASS     |
+-------------------+----------+
| RHEL9             | PEND     |
+-------------------+----------+
| Ubuntu 22.04      | PEND     |
+-------------------+----------+
| Ubuntu 24.04      | PASS     |
+-------------------+----------+


CentOS Stream 8
	Kernel: 5.4.0-167-generic
	Compiler: gcc 8.5.0 20210514

CentOS Stream 9
	Kernel: 5.4.0-167-generic
	Compiler: gcc 11.4.1 20230605

Debian Bullseye
	Kernel: 5.4.0-167-generic
	Compiler: gcc 10.2.1-6

Debian 12
	Kernel: Container Host Kernel
	Compiler: gcc 12.2.0

Fedora 38 (Clang)
	Kernel: Depends on container host
	Compiler: clang 16.0.6

Fedora 37
	Kernel: Depends on container host system
	Compiler: gcc 12.3.1

Fedora 38
	Kernel: Depends on container host
	Compiler: gcc 13.2.1

Fedora 40 (Clang)
	Kernel: Depends on container host
	Compiler: clang 18.1.6

Fedora 39 (Clang)
	Kernel: Depends on container host
	Compiler: clang 17.0.6

Fedora 39
	Kernel: Depends on container host
	Compiler: gcc 13.2.1

openSUSE Leap 15
	Kernel: 5.4.0-167-generic
	Compiler: gcc 7.5.0

Fedora 40
	Kernel: Depends on container host
	Compiler: gcc 14.1.1

RHEL8
	Kernel: 5.4.0-167-generic
	Compiler: gcc 8.5.0 20210514 (Red Hat 8.5.0-20)

RHEL9
	Kernel: Depends on container host
	Compiler: gcc 11.4.1

Ubuntu 22.04
	Kernel: 5.4.0-167-generic
	Compiler: gcc 11.4.0

Ubuntu 24.04
	Kernel: 5.4.0-167-generic
	Compiler: gcc 13.2.0

To view detailed results, visit:
https://lab.dpdk.org/results/dashboard/patchsets/30564/

UNH-IOL DPDK Community Lab

To manage your email subscriptions, visit: 
https://lab.dpdk.org/results/dashboard/preferences/subscriptions/