From mboxrd@z Thu Jan  1 00:00:00 1970
Return-Path: <test-report-bounces@dpdk.org>
Received: from mails.dpdk.org (mails.dpdk.org [217.70.189.124])
	by inbox.dpdk.org (Postfix) with ESMTP id 203BB45656
	for <public@inbox.dpdk.org>; Fri, 19 Jul 2024 16:48:13 +0200 (CEST)
Received: from mails.dpdk.org (localhost [127.0.0.1])
	by mails.dpdk.org (Postfix) with ESMTP id 1D42C40DDB;
	Fri, 19 Jul 2024 16:48:13 +0200 (CEST)
Received: from mail-io1-f97.google.com (mail-io1-f97.google.com
 [209.85.166.97]) by mails.dpdk.org (Postfix) with ESMTP id 027A84026A
 for <test-report@dpdk.org>; Fri, 19 Jul 2024 16:48:12 +0200 (CEST)
Received: by mail-io1-f97.google.com with SMTP id
 ca18e2360f4ac-8076cee8088so67029739f.0
 for <test-report@dpdk.org>; Fri, 19 Jul 2024 07:48:11 -0700 (PDT)
DKIM-Signature: v=1; a=rsa-sha256; c=relaxed/relaxed;
 d=iol.unh.edu; s=unh-iol; t=1721400491; x=1722005291; darn=dpdk.org;
 h=references:in-reply-to:cc:to:from:subject:message-id:date:from:to
 :cc:subject:date:message-id:reply-to;
 bh=ufFmnzoIKzVjaYGvJhnRSYF3z97VQpcc+nevEWYQqXs=;
 b=UGVyY7e330FFpCpyvwgcJG5eGuypH15tCOnFQFA/quvM26tmyX5kd757CeA5ifb5TX
 n/p0i/Y1p9L68aBCOTbhNtefOQNyRU4PCb0KHl4g6WOou1ToDhDLxORURkN+YWdL1uPq
 45bsSGnv3VhOikGn7N5NFcErM+vVDBBxnh9UU=
X-Google-DKIM-Signature: v=1; a=rsa-sha256; c=relaxed/relaxed;
 d=1e100.net; s=20230601; t=1721400491; x=1722005291;
 h=references:in-reply-to:cc:to:from:subject:message-id:date
 :x-gm-message-state:from:to:cc:subject:date:message-id:reply-to;
 bh=ufFmnzoIKzVjaYGvJhnRSYF3z97VQpcc+nevEWYQqXs=;
 b=WZCil6VPRUqn7f+jS2DyeMi6upny6zta1PwCzc0KpXbiO2fY6Fn0MSqQbDoiXQ23GH
 pcaHaGH0O0yKilLq/HqocqrD2hBPCCbF64WuLQeBnBK2ULoJDh4U6HcqUZ0WyzvUn42c
 5AWImo7iVMAMOTuwlXgd49CcmAGVMU2hl0dYldE3VUFMOZIRmZNRBEYBA7+oPkLTCnRM
 0dm+i5GB8OS3Yiqwqq+Q0T+BZg1UxfSMD5RbScfUyygJBx/rJb4h5uWWrGvrFWu7dp9g
 yVQfnX006U3/a7uajl4ilp+i6Uw6/FMcAjFauxyzzzreNfEJYfLyy/05heeKWINQh2Bg
 S0yw==
X-Gm-Message-State: AOJu0YwFVGvrgiBFnGRJRSyWJsNyQ5yzbIq6TD4yVD5JWM6bujag542H
 SHKx+hQjpOwdxhcrc8HF6ntbwbQdngpLVO0fwRjBTO62uRJom0fZufTixlRbeZxV0utxYX2z3dD
 aV4+hJPpBSqz5d6ky+A5Yow9spnpdGLwfT0e+uEUb
X-Google-Smtp-Source: AGHT+IHz29//HQveK4Eg7j1C912rvx0aa3cHvZJGDargqSC+Hur7gntjuS2B4b5t0z/VRf5XrXKQx8SOJThl
X-Received: by 2002:a05:6602:14ce:b0:803:5e55:ecb2 with SMTP id
 ca18e2360f4ac-8170d21450amr1033514139f.0.1721400491263; 
 Fri, 19 Jul 2024 07:48:11 -0700 (PDT)
Received: from postal.iol.unh.edu (postal.iol.unh.edu. [132.177.123.84])
 by smtp-relay.gmail.com with ESMTPS id
 ca18e2360f4ac-819abc019c8sm7465439f.11.2024.07.19.07.48.11
 (version=TLS1_2 cipher=ECDHE-ECDSA-AES128-GCM-SHA256 bits=128/128);
 Fri, 19 Jul 2024 07:48:11 -0700 (PDT)
X-Relaying-Domain: iol.unh.edu
Date: Fri, 19 Jul 2024 07:48:11 -0700 (PDT)
Message-ID: <669a7cab.050a0220.ea593.495aSMTPIN_ADDED_MISSING@mx.google.com>
Received: from [172.21.0.6] (unknown [172.18.0.240])
 by postal.iol.unh.edu (Postfix) with ESMTP id C482F60526E2;
 Fri, 19 Jul 2024 10:48:10 -0400 (EDT)
Subject: |PENDING| pw142524-142526 [PATCH] [v3,3/3] net/hns3: fix Rx packet w
From: dpdklab@iol.unh.edu
To: Test Report <test-report@dpdk.org>
Cc: dpdk-test-reports@iol.unh.edu
In-Reply-To: <20240719090415.1513301-4-haijie1@huawei.com>
References: <20240719090415.1513301-4-haijie1@huawei.com>
Content-Type: text/plain
X-BeenThere: test-report@dpdk.org
X-Mailman-Version: 2.1.29
Precedence: list
List-Id: automatic DPDK test reports <test-report.dpdk.org>
List-Unsubscribe: <https://mails.dpdk.org/options/test-report>,
 <mailto:test-report-request@dpdk.org?subject=unsubscribe>
List-Archive: <http://mails.dpdk.org/archives/test-report/>
List-Post: <mailto:test-report@dpdk.org>
List-Help: <mailto:test-report-request@dpdk.org?subject=help>
List-Subscribe: <https://mails.dpdk.org/listinfo/test-report>,
 <mailto:test-report-request@dpdk.org?subject=subscribe>
Errors-To: test-report-bounces@dpdk.org

Test-Label: iol-abi-testing
Test-Status: PENDING
http://dpdk.org/patch/142526

_Testing pending_

Submitter: Jie Hai <haijie1@huawei.com>
Date: Friday, July 19 2024 09:04:15 
DPDK git baseline: Repo:dpdk
  Branch: master
  CommitID:39fe3417bd7a3e15a2a4f8fa543c6d72ee32eee1

142524-142526 --> testing pending

Upstream job id: Generic-DPDK-Compile-ABI#99502

Test environment and result as below:

+-------------------+----------+
|    Environment    | abi_test |
+===================+==========+
| CentOS Stream 8   | PASS     |
+-------------------+----------+
| CentOS Stream 9   | PEND     |
+-------------------+----------+
| Debian Bullseye   | PASS     |
+-------------------+----------+
| Fedora 38         | PEND     |
+-------------------+----------+
| Debian 12         | PEND     |
+-------------------+----------+
| Fedora 39         | PASS     |
+-------------------+----------+
| Fedora 37         | PEND     |
+-------------------+----------+
| Fedora 39 (Clang) | PEND     |
+-------------------+----------+
| Fedora 38 (Clang) | PEND     |
+-------------------+----------+
| RHEL8             | PEND     |
+-------------------+----------+
| openSUSE Leap 15  | PEND     |
+-------------------+----------+
| Fedora 40         | PEND     |
+-------------------+----------+
| RHEL9             | PEND     |
+-------------------+----------+
| Fedora 40 (Clang) | PEND     |
+-------------------+----------+
| Ubuntu 22.04      | PEND     |
+-------------------+----------+
| Ubuntu 24.04      | PEND     |
+-------------------+----------+


CentOS Stream 8
	Kernel: 5.4.0-167-generic
	Compiler: gcc 8.5.0 20210514

CentOS Stream 9
	Kernel: 5.4.0-167-generic
	Compiler: gcc 11.4.1 20230605

Debian Bullseye
	Kernel: 5.4.0-167-generic
	Compiler: gcc 10.2.1-6

Fedora 38
	Kernel: Depends on container host
	Compiler: gcc 13.2.1

Debian 12
	Kernel: Container Host Kernel
	Compiler: gcc 12.2.0

Fedora 39
	Kernel: Depends on container host
	Compiler: gcc 13.2.1

Fedora 37
	Kernel: Depends on container host system
	Compiler: gcc 12.3.1

Fedora 39 (Clang)
	Kernel: Depends on container host
	Compiler: clang 17.0.6

Fedora 38 (Clang)
	Kernel: Depends on container host
	Compiler: clang 16.0.6

RHEL8
	Kernel: 5.4.0-167-generic
	Compiler: gcc 8.5.0 20210514 (Red Hat 8.5.0-20)

openSUSE Leap 15
	Kernel: 5.4.0-167-generic
	Compiler: gcc 7.5.0

Fedora 40
	Kernel: Depends on container host
	Compiler: gcc 14.1.1

RHEL9
	Kernel: Depends on container host
	Compiler: gcc 11.4.1

Fedora 40 (Clang)
	Kernel: Depends on container host
	Compiler: clang 18.1.6

Ubuntu 22.04
	Kernel: 5.4.0-167-generic
	Compiler: gcc 11.4.0

Ubuntu 24.04
	Kernel: 5.4.0-167-generic
	Compiler: gcc 13.2.0

To view detailed results, visit:
https://lab.dpdk.org/results/dashboard/patchsets/30563/

UNH-IOL DPDK Community Lab

To manage your email subscriptions, visit: 
https://lab.dpdk.org/results/dashboard/preferences/subscriptions/