From mboxrd@z Thu Jan  1 00:00:00 1970
Return-Path: <test-report-bounces@dpdk.org>
Received: from mails.dpdk.org (mails.dpdk.org [217.70.189.124])
	by inbox.dpdk.org (Postfix) with ESMTP id 7504B45656
	for <public@inbox.dpdk.org>; Fri, 19 Jul 2024 17:02:56 +0200 (CEST)
Received: from mails.dpdk.org (localhost [127.0.0.1])
	by mails.dpdk.org (Postfix) with ESMTP id 6CCCE40DDB;
	Fri, 19 Jul 2024 17:02:56 +0200 (CEST)
Received: from mail-qk1-f228.google.com (mail-qk1-f228.google.com
 [209.85.222.228])
 by mails.dpdk.org (Postfix) with ESMTP id BA6474026A
 for <test-report@dpdk.org>; Fri, 19 Jul 2024 17:02:43 +0200 (CEST)
Received: by mail-qk1-f228.google.com with SMTP id
 af79cd13be357-79f1be45ca8so97793985a.3
 for <test-report@dpdk.org>; Fri, 19 Jul 2024 08:02:43 -0700 (PDT)
DKIM-Signature: v=1; a=rsa-sha256; c=relaxed/relaxed;
 d=iol.unh.edu; s=unh-iol; t=1721401363; x=1722006163; darn=dpdk.org;
 h=references:in-reply-to:cc:to:from:subject:message-id:date:from:to
 :cc:subject:date:message-id:reply-to;
 bh=Ae8oCnMzh02/l8e3luDKlKfyGwVmiArnf0MesG67LfU=;
 b=Ij0J0j7nRio5uT1UH2DSLJ6zqHsD2KG4yLkCQGQqiArs3pksMAlyuwBWauja8PXdzy
 X35H9VbXANZKEm9Prn1ExLS0MXe5040gICYGmK4E/4ajXM1jfwhGuL+949JcAW8g/jUe
 cKKhsa+jvjsNLptfo2luEsyo7iOqrd4TBYnlk=
X-Google-DKIM-Signature: v=1; a=rsa-sha256; c=relaxed/relaxed;
 d=1e100.net; s=20230601; t=1721401363; x=1722006163;
 h=references:in-reply-to:cc:to:from:subject:message-id:date
 :x-gm-message-state:from:to:cc:subject:date:message-id:reply-to;
 bh=Ae8oCnMzh02/l8e3luDKlKfyGwVmiArnf0MesG67LfU=;
 b=V4suqLFc26zNxB6FfJ7+V5st4oFIEGg27EVx+wyGHF1taRJHzeWmasgF1IOsK5PxA1
 KRvxnEcBmiZKb/2tMiNtWW9LzIs9a4FxrFl29hxIbnxi1j9HRNJODZsXNa07bGOPYkRp
 WPPb77ERcYg9jYYRoa47mXDyiwFMw9nT838uqEoTobBxD4RDdcgQhkn+z9AX5ap/fAA5
 jsL1JwxbN0MKeaxRVfdnD+UYm9lVQs1zHPcxg77Jwz03apVj7Y+2fSqgWZU5cesLZfYP
 GEDm4FOoRLXP1MOCQLpHBliSxJ49GKr503XNZmS5l8GFrsNA3TZ2QHjPKLe57AQrEJ8w
 3qhQ==
X-Gm-Message-State: AOJu0Yw2C68R/M/kDt6mDxQuH5HxtgmIzW6mr4VpEV1QaZGeaVMlBkWd
 S7D+ufPm3NjnI6XjBLl/NyuHYRLOWyqtdHe1ug7Z3zFg8SuefzJYM0Y65mldIO1rfcwLf5P5cXD
 BVuPpa06RfGS4GWiTfj/0wMVwJ3Pd9UhHA6LBiBJd5v9H/Vdome+2iTjT
X-Google-Smtp-Source: AGHT+IG9HqN3aiC4/luXy4GzO97IAl2JrMqoLSOlQ8TD3GopahIzOLtAe8X3VwI2UJz+CtWK6VzQIFyA2m3J
X-Received: by 2002:a05:620a:2a0b:b0:79d:8d21:4571 with SMTP id
 af79cd13be357-7a18746e092mr1019616685a.22.1721401362619; 
 Fri, 19 Jul 2024 08:02:42 -0700 (PDT)
Received: from postal.iol.unh.edu (postal.iol.unh.edu.
 [2606:4100:3880:1234::84]) by smtp-relay.gmail.com with ESMTPS id
 af79cd13be357-7a199094943sm6318185a.7.2024.07.19.08.02.42
 (version=TLS1_2 cipher=ECDHE-ECDSA-AES128-GCM-SHA256 bits=128/128);
 Fri, 19 Jul 2024 08:02:42 -0700 (PDT)
X-Relaying-Domain: iol.unh.edu
Date: Fri, 19 Jul 2024 08:02:42 -0700 (PDT)
Message-ID: <669a8012.050a0220.d87c0.3ee7SMTPIN_ADDED_MISSING@mx.google.com>
Received: from [172.21.0.6] (unknown [172.18.0.240])
 by postal.iol.unh.edu (Postfix) with ESMTP id 548BF60526E2;
 Fri, 19 Jul 2024 11:02:42 -0400 (EDT)
Subject: |PENDING| pw142524-142526 [PATCH] [v3,3/3] net/hns3: fix Rx packet w
From: dpdklab@iol.unh.edu
To: Test Report <test-report@dpdk.org>
Cc: dpdk-test-reports@iol.unh.edu
In-Reply-To: <20240719090415.1513301-4-haijie1@huawei.com>
References: <20240719090415.1513301-4-haijie1@huawei.com>
Content-Type: text/plain
X-BeenThere: test-report@dpdk.org
X-Mailman-Version: 2.1.29
Precedence: list
List-Id: automatic DPDK test reports <test-report.dpdk.org>
List-Unsubscribe: <https://mails.dpdk.org/options/test-report>,
 <mailto:test-report-request@dpdk.org?subject=unsubscribe>
List-Archive: <http://mails.dpdk.org/archives/test-report/>
List-Post: <mailto:test-report@dpdk.org>
List-Help: <mailto:test-report-request@dpdk.org?subject=help>
List-Subscribe: <https://mails.dpdk.org/listinfo/test-report>,
 <mailto:test-report-request@dpdk.org?subject=subscribe>
Errors-To: test-report-bounces@dpdk.org

Test-Label: iol-abi-testing
Test-Status: PENDING
http://dpdk.org/patch/142526

_Testing pending_

Submitter: Jie Hai <haijie1@huawei.com>
Date: Friday, July 19 2024 09:04:15 
DPDK git baseline: Repo:dpdk
  Branch: master
  CommitID:39fe3417bd7a3e15a2a4f8fa543c6d72ee32eee1

142524-142526 --> testing pending

Upstream job id: Generic-DPDK-Compile-ABI#99510

Test environment and result as below:

+-------------------+----------+
|    Environment    | abi_test |
+===================+==========+
| CentOS Stream 8   | PASS     |
+-------------------+----------+
| CentOS Stream 9   | PASS     |
+-------------------+----------+
| Debian Bullseye   | PASS     |
+-------------------+----------+
| Fedora 38         | PASS     |
+-------------------+----------+
| Debian 12         | PASS     |
+-------------------+----------+
| Fedora 39         | PASS     |
+-------------------+----------+
| Fedora 37         | PEND     |
+-------------------+----------+
| Fedora 39 (Clang) | PASS     |
+-------------------+----------+
| Fedora 38 (Clang) | PASS     |
+-------------------+----------+
| RHEL8             | PEND     |
+-------------------+----------+
| openSUSE Leap 15  | PASS     |
+-------------------+----------+
| Fedora 40         | PASS     |
+-------------------+----------+
| RHEL9             | PEND     |
+-------------------+----------+
| Fedora 40 (Clang) | PEND     |
+-------------------+----------+
| Ubuntu 22.04      | PEND     |
+-------------------+----------+
| Ubuntu 24.04      | PEND     |
+-------------------+----------+


CentOS Stream 8
	Kernel: 5.4.0-167-generic
	Compiler: gcc 8.5.0 20210514

CentOS Stream 9
	Kernel: 5.4.0-167-generic
	Compiler: gcc 11.4.1 20230605

Debian Bullseye
	Kernel: 5.4.0-167-generic
	Compiler: gcc 10.2.1-6

Fedora 38
	Kernel: Depends on container host
	Compiler: gcc 13.2.1

Debian 12
	Kernel: Container Host Kernel
	Compiler: gcc 12.2.0

Fedora 39
	Kernel: Depends on container host
	Compiler: gcc 13.2.1

Fedora 37
	Kernel: Depends on container host system
	Compiler: gcc 12.3.1

Fedora 39 (Clang)
	Kernel: Depends on container host
	Compiler: clang 17.0.6

Fedora 38 (Clang)
	Kernel: Depends on container host
	Compiler: clang 16.0.6

RHEL8
	Kernel: 5.4.0-167-generic
	Compiler: gcc 8.5.0 20210514 (Red Hat 8.5.0-20)

openSUSE Leap 15
	Kernel: 5.4.0-167-generic
	Compiler: gcc 7.5.0

Fedora 40
	Kernel: Depends on container host
	Compiler: gcc 14.1.1

RHEL9
	Kernel: Depends on container host
	Compiler: gcc 11.4.1

Fedora 40 (Clang)
	Kernel: Depends on container host
	Compiler: clang 18.1.6

Ubuntu 22.04
	Kernel: 5.4.0-167-generic
	Compiler: gcc 11.4.0

Ubuntu 24.04
	Kernel: 5.4.0-167-generic
	Compiler: gcc 13.2.0

To view detailed results, visit:
https://lab.dpdk.org/results/dashboard/patchsets/30563/

UNH-IOL DPDK Community Lab

To manage your email subscriptions, visit: 
https://lab.dpdk.org/results/dashboard/preferences/subscriptions/