From mboxrd@z Thu Jan  1 00:00:00 1970
Return-Path: <test-report-bounces@dpdk.org>
Received: from mails.dpdk.org (mails.dpdk.org [217.70.189.124])
	by inbox.dpdk.org (Postfix) with ESMTP id 3D00545656
	for <public@inbox.dpdk.org>; Fri, 19 Jul 2024 17:41:44 +0200 (CEST)
Received: from mails.dpdk.org (localhost [127.0.0.1])
	by mails.dpdk.org (Postfix) with ESMTP id 37C9240ECF;
	Fri, 19 Jul 2024 17:41:44 +0200 (CEST)
Received: from mail-io1-f99.google.com (mail-io1-f99.google.com
 [209.85.166.99]) by mails.dpdk.org (Postfix) with ESMTP id 61C8840EA5
 for <test-report@dpdk.org>; Fri, 19 Jul 2024 17:41:43 +0200 (CEST)
Received: by mail-io1-f99.google.com with SMTP id
 ca18e2360f4ac-808a8c90f5bso73514339f.2
 for <test-report@dpdk.org>; Fri, 19 Jul 2024 08:41:43 -0700 (PDT)
DKIM-Signature: v=1; a=rsa-sha256; c=relaxed/relaxed;
 d=iol.unh.edu; s=unh-iol; t=1721403703; x=1722008503; darn=dpdk.org;
 h=references:in-reply-to:cc:to:from:subject:message-id:date:from:to
 :cc:subject:date:message-id:reply-to;
 bh=vY5SfB2dkm815coMor4jXXkZ9oqelIGCFIffvRoYhS0=;
 b=f67eAL2aS1OT0TDXNMpTmlM9ipJgtE64LY33XHYhVasuAbowXXAxTlC44XaBuB+KCE
 YArIo1nyiZ5ZmFWsH6bQvS8piOdzDNlPz3+UxHBbEBRG4h05upajIfwz3EhnR4n+U9sw
 MHqRGeinRBNurW3Tk8DvPFFnqTk3ymQCOmc/c=
X-Google-DKIM-Signature: v=1; a=rsa-sha256; c=relaxed/relaxed;
 d=1e100.net; s=20230601; t=1721403703; x=1722008503;
 h=references:in-reply-to:cc:to:from:subject:message-id:date
 :x-gm-message-state:from:to:cc:subject:date:message-id:reply-to;
 bh=vY5SfB2dkm815coMor4jXXkZ9oqelIGCFIffvRoYhS0=;
 b=p9Wv/bfIMf2gv4CTEAPdBu4Hgnj+nLV6o4nvmBji/6/foGMCNdTAWSEqLTY7Nbkq4O
 ejIRIL/Wl/ZGg4erTL1aYMCiHgE/3oLRm0tQ5wIX0pzKA8p4WFEkmMXy3RC5KIX4BBF4
 qL+dPVwFO0fEL1ddTSKu3WBSc8B0wViWIzhzrlHJH6Ff67SqC0U0Vdm4QggXJPfQA+mI
 RULxFWuqkzwo6IvX8nBMidEO72wVFNhsL14JS76ngLaosaHy1OOqHRTs6CvigpWRVsaA
 EL1Ewz6duGu/N9mZrLrKbHkNuTi2Y4nV4lJlPtMiGJJwNjp8HMaPQhRsoQy60DEbIET9
 bFTQ==
X-Gm-Message-State: AOJu0Yy3YiqZwYnpi//DMJEVVAHFeI1m3IK+yjRotMwr8EJC+xFsbxpn
 Eeg/0LSdZsAClZ1InTZHI0rDyCUQa2YjxslVFVkBPSr5l+ZddLRCVCVdNfDKMI6jRtjVOnZLN6x
 tMzB9+Q/wyUsSEp3iYQXEbdDGWRmMm9TZV0+vLB+n
X-Google-Smtp-Source: AGHT+IEXWiYCkgMUg+ZvfbvHSQ5WA5prkOgmXHplRjrude70LHTSKKJIyTnojq8TD7YG9DfAaivMs92EyHDM
X-Received: by 2002:a05:6602:6204:b0:7fc:8232:5041 with SMTP id
 ca18e2360f4ac-817123e1ba8mr979800139f.18.1721403702746; 
 Fri, 19 Jul 2024 08:41:42 -0700 (PDT)
Received: from postal.iol.unh.edu (postal.iol.unh.edu. [132.177.123.84])
 by smtp-relay.gmail.com with ESMTPS id
 8926c6da1cb9f-4c23444b587sm64273173.78.2024.07.19.08.41.42
 (version=TLS1_2 cipher=ECDHE-ECDSA-AES128-GCM-SHA256 bits=128/128);
 Fri, 19 Jul 2024 08:41:42 -0700 (PDT)
X-Relaying-Domain: iol.unh.edu
Date: Fri, 19 Jul 2024 08:41:42 -0700 (PDT)
Message-ID: <669a8936.050a0220.305ac.4312SMTPIN_ADDED_MISSING@mx.google.com>
Received: from [172.21.0.6] (unknown [172.18.0.240])
 by postal.iol.unh.edu (Postfix) with ESMTP id 33ECD60526E2;
 Fri, 19 Jul 2024 11:41:42 -0400 (EDT)
Subject: |SUCCESS| pw142511-142512 [PATCH] [2/2] doc: remove use of -n 4 opti
From: dpdklab@iol.unh.edu
To: Test Report <test-report@dpdk.org>
Cc: dpdk-test-reports@iol.unh.edu
In-Reply-To: <20240718184326.21375-2-stephen@networkplumber.org>
References: <20240718184326.21375-2-stephen@networkplumber.org>
Content-Type: text/plain
X-BeenThere: test-report@dpdk.org
X-Mailman-Version: 2.1.29
Precedence: list
List-Id: automatic DPDK test reports <test-report.dpdk.org>
List-Unsubscribe: <https://mails.dpdk.org/options/test-report>,
 <mailto:test-report-request@dpdk.org?subject=unsubscribe>
List-Archive: <http://mails.dpdk.org/archives/test-report/>
List-Post: <mailto:test-report@dpdk.org>
List-Help: <mailto:test-report-request@dpdk.org?subject=help>
List-Subscribe: <https://mails.dpdk.org/listinfo/test-report>,
 <mailto:test-report-request@dpdk.org?subject=subscribe>
Errors-To: test-report-bounces@dpdk.org

Test-Label: iol-unit-amd64-testing
Test-Status: SUCCESS
http://dpdk.org/patch/142512

_Testing PASS_

Submitter: Stephen Hemminger <stephen@networkplumber.org>
Date: Thursday, July 18 2024 18:43:26 
DPDK git baseline: Repo:dpdk
  Branch: master
  CommitID:fa8d2f7f28524a6c8defa3dcd94f5aa131aae084

142511-142512 --> testing pass

Upstream job id: Generic-Unit-Test-DPDK#241853

Test environment and result as below:

+---------------------+----------------+
|     Environment     | dpdk_unit_test |
+=====================+================+
| Windows Server 2022 | PASS           |
+---------------------+----------------+
| Windows Server 2019 | PASS           |
+---------------------+----------------+
| CentOS Stream 8     | PASS           |
+---------------------+----------------+
| CentOS Stream 9     | PASS           |
+---------------------+----------------+
| Debian Bullseye     | PASS           |
+---------------------+----------------+
| Debian 12           | PASS           |
+---------------------+----------------+
| Fedora 38 (Clang)   | PASS           |
+---------------------+----------------+
| Fedora 37           | PASS           |
+---------------------+----------------+
| Fedora 39           | PASS           |
+---------------------+----------------+
| Fedora 39 (Clang)   | PASS           |
+---------------------+----------------+
| Fedora 40           | PASS           |
+---------------------+----------------+
| Fedora 40 (Clang)   | PASS           |
+---------------------+----------------+
| openSUSE Leap 15    | PASS           |
+---------------------+----------------+
| RHEL8               | PASS           |
+---------------------+----------------+
| RHEL9               | PASS           |
+---------------------+----------------+
| Ubuntu 20.04        | PASS           |
+---------------------+----------------+
| Ubuntu 22.04        | PASS           |
+---------------------+----------------+
| Ubuntu 24.04        | PASS           |
+---------------------+----------------+
| Fedora 38           | PASS           |
+---------------------+----------------+


Windows Server 2022
	Kernel: 10.0.20348.2031
	Compiler: clang 15.0.7, gcc 8.1.0 (MinGW), and MSVC VS 17.9

Windows Server 2019
	Kernel: 10.0.17763
	Compiler: clang 14.0 and gcc 8.1.0 (MinGW)

CentOS Stream 8
	Kernel: 5.4.0-167-generic
	Compiler: gcc 8.5.0 20210514

CentOS Stream 9
	Kernel: 5.4.0-167-generic
	Compiler: gcc 11.4.1 20230605

Debian Bullseye
	Kernel: 5.4.0-167-generic
	Compiler: gcc 10.2.1-6

Debian 12
	Kernel: Container Host Kernel
	Compiler: gcc 12.2.0

Fedora 38 (Clang)
	Kernel: Depends on container host
	Compiler: clang 16.0.6

Fedora 37
	Kernel: Depends on container host system
	Compiler: gcc 12.3.1

Fedora 39
	Kernel: Depends on container host
	Compiler: gcc 13.2.1

Fedora 39 (Clang)
	Kernel: Depends on container host
	Compiler: clang 17.0.6

Fedora 40
	Kernel: Depends on container host
	Compiler: gcc 14.1.1

Fedora 40 (Clang)
	Kernel: Depends on container host
	Compiler: clang 18.1.6

openSUSE Leap 15
	Kernel: 5.4.0-167-generic
	Compiler: gcc 7.5.0

RHEL8
	Kernel: 5.4.0-167-generic
	Compiler: gcc 8.5.0 20210514 (Red Hat 8.5.0-20)

RHEL9
	Kernel: Depends on container host
	Compiler: gcc 11.4.1

Ubuntu 20.04
	Kernel: 5.4.0-167-generic
	Compiler: gcc 9.4.0-1ubuntu1~20.04.1

Ubuntu 22.04
	Kernel: 5.4.0-167-generic
	Compiler: gcc 11.4.0

Ubuntu 24.04
	Kernel: 5.4.0-167-generic
	Compiler: gcc 13.2.0

Fedora 38
	Kernel: Depends on container host
	Compiler: gcc 13.2.1

To view detailed results, visit:
https://lab.dpdk.org/results/dashboard/patchsets/30556/

UNH-IOL DPDK Community Lab

To manage your email subscriptions, visit: 
https://lab.dpdk.org/results/dashboard/preferences/subscriptions/