From mboxrd@z Thu Jan  1 00:00:00 1970
Return-Path: <test-report-bounces@dpdk.org>
Received: from mails.dpdk.org (mails.dpdk.org [217.70.189.124])
	by inbox.dpdk.org (Postfix) with ESMTP id 27F1345656
	for <public@inbox.dpdk.org>; Fri, 19 Jul 2024 19:14:49 +0200 (CEST)
Received: from mails.dpdk.org (localhost [127.0.0.1])
	by mails.dpdk.org (Postfix) with ESMTP id 2248240EA5;
	Fri, 19 Jul 2024 19:14:49 +0200 (CEST)
Received: from mail-il1-f225.google.com (mail-il1-f225.google.com
 [209.85.166.225])
 by mails.dpdk.org (Postfix) with ESMTP id C27FE40E11
 for <test-report@dpdk.org>; Fri, 19 Jul 2024 19:14:47 +0200 (CEST)
Received: by mail-il1-f225.google.com with SMTP id
 e9e14a558f8ab-390d9480d15so8100675ab.3
 for <test-report@dpdk.org>; Fri, 19 Jul 2024 10:14:47 -0700 (PDT)
DKIM-Signature: v=1; a=rsa-sha256; c=relaxed/relaxed;
 d=iol.unh.edu; s=unh-iol; t=1721409287; x=1722014087; darn=dpdk.org;
 h=references:in-reply-to:cc:to:from:subject:message-id:date:from:to
 :cc:subject:date:message-id:reply-to;
 bh=HQ3v3np7KpBl9dCbB/p+wSpOBK8r0/UG3YIchiumxbg=;
 b=f2ZPV8soRYkafOj7+X7/xVNm7eB+2/5hDPQ4mEwJvH0yT7WZanmUNlaFdynajZrn6C
 EMrxj8XVHS42xKTYU1hrRj1477OpuTORwE0tMhuIQ3AjknW55ZddLPw9PcdrzwkHsMFN
 v0FzeGwTKvMwwKFQdnKJtEtU2h+FPQQyelyII=
X-Google-DKIM-Signature: v=1; a=rsa-sha256; c=relaxed/relaxed;
 d=1e100.net; s=20230601; t=1721409287; x=1722014087;
 h=references:in-reply-to:cc:to:from:subject:message-id:date
 :x-gm-message-state:from:to:cc:subject:date:message-id:reply-to;
 bh=HQ3v3np7KpBl9dCbB/p+wSpOBK8r0/UG3YIchiumxbg=;
 b=Xgy8AkgNHcDYzqAguD21UUZzxKaf/QkfLJcwTKF5kDIMIi8j3j3ga8UdcphA9TYVOu
 ATFLJjL31Y+3eYSkUAoAYuuPaAiCgkCN0VFL/OkseMsF/dcyGdTiPtvSChDAZXZPhfb3
 udZ8ylLLICwpuA4ruIxO052CtngtRkuXr6V360iq/mql1rFnZ3fDYLfA4FexveTd2Yb+
 FD428ws++L1jidHMRTeWxNJ9vME3o50Hp1a/+usSepm6ADiiWLYTlGph0eY2cv1M2h5i
 Ev8MmOrg5+QJz5tpnyPuDl+hOcz3uhi/1Jr/dZ+F6KRXLewyXClZKe14dDucqNGkZqqx
 n7SQ==
X-Gm-Message-State: AOJu0YzdivtXa6Ai4qoJiazQq+uwg5R+lvd8dr+dIMVyE4pDnWtV5ZLA
 mgJgWQGTftEtnPxsB1ml3w/96r3ymOxJZHbEfdUltqAsJO8Zg+ANZ4XvglSlW9kvgg1PxwJr9Nn
 TLyy9l1axRVXl9p3OJNInH4MJYJJ9z/d3J2Qmk7Mu
X-Google-Smtp-Source: AGHT+IHVKI+sC40fEYm0+Uj3nuyH1frwzjE1H3wt5MIySG7Bn6mnculaoHEc84Q4YQIcOECR43oaLsSfutvM
X-Received: by 2002:a05:6e02:188b:b0:382:7825:fe4e with SMTP id
 e9e14a558f8ab-398e9137caamr4978825ab.16.1721409287129; 
 Fri, 19 Jul 2024 10:14:47 -0700 (PDT)
Received: from postal.iol.unh.edu (postal.iol.unh.edu. [132.177.123.84])
 by smtp-relay.gmail.com with ESMTPS id
 e9e14a558f8ab-397f50954dcsm829425ab.2.2024.07.19.10.14.47
 (version=TLS1_2 cipher=ECDHE-ECDSA-AES128-GCM-SHA256 bits=128/128);
 Fri, 19 Jul 2024 10:14:47 -0700 (PDT)
X-Relaying-Domain: iol.unh.edu
Date: Fri, 19 Jul 2024 10:14:47 -0700 (PDT)
Message-ID: <669a9f07.050a0220.b2e91.5501SMTPIN_ADDED_MISSING@mx.google.com>
Received: from [172.21.0.6] (unknown [172.18.0.240])
 by postal.iol.unh.edu (Postfix) with ESMTP id 4F26E60526E2;
 Fri, 19 Jul 2024 13:14:46 -0400 (EDT)
Subject: |PENDING| pw142524-142526 [PATCH] [v3,3/3] net/hns3: fix Rx packet w
From: dpdklab@iol.unh.edu
To: Test Report <test-report@dpdk.org>
Cc: dpdk-test-reports@iol.unh.edu
In-Reply-To: <20240719090415.1513301-4-haijie1@huawei.com>
References: <20240719090415.1513301-4-haijie1@huawei.com>
Content-Type: text/plain
X-BeenThere: test-report@dpdk.org
X-Mailman-Version: 2.1.29
Precedence: list
List-Id: automatic DPDK test reports <test-report.dpdk.org>
List-Unsubscribe: <https://mails.dpdk.org/options/test-report>,
 <mailto:test-report-request@dpdk.org?subject=unsubscribe>
List-Archive: <http://mails.dpdk.org/archives/test-report/>
List-Post: <mailto:test-report@dpdk.org>
List-Help: <mailto:test-report-request@dpdk.org?subject=help>
List-Subscribe: <https://mails.dpdk.org/listinfo/test-report>,
 <mailto:test-report-request@dpdk.org?subject=subscribe>
Errors-To: test-report-bounces@dpdk.org

Test-Label: iol-unit-amd64-testing
Test-Status: PENDING
http://dpdk.org/patch/142526

_Testing pending_

Submitter: Jie Hai <haijie1@huawei.com>
Date: Friday, July 19 2024 09:04:15 
DPDK git baseline: Repo:dpdk
  Branch: master
  CommitID:39fe3417bd7a3e15a2a4f8fa543c6d72ee32eee1

142524-142526 --> testing pending

Upstream job id: Generic-Unit-Test-DPDK#241937

Test environment and result as below:

+---------------------+----------------+
|     Environment     | dpdk_unit_test |
+=====================+================+
| CentOS Stream 8     | PASS           |
+---------------------+----------------+
| CentOS Stream 9     | PASS           |
+---------------------+----------------+
| Debian Bullseye     | PASS           |
+---------------------+----------------+
| Debian 12           | PASS           |
+---------------------+----------------+
| Fedora 37           | PASS           |
+---------------------+----------------+
| Fedora 39           | PASS           |
+---------------------+----------------+
| Fedora 38 (Clang)   | PASS           |
+---------------------+----------------+
| Fedora 39 (Clang)   | PASS           |
+---------------------+----------------+
| Fedora 40           | PASS           |
+---------------------+----------------+
| Windows Server 2019 | PASS           |
+---------------------+----------------+
| Fedora 40 (Clang)   | PASS           |
+---------------------+----------------+
| Windows Server 2022 | PASS           |
+---------------------+----------------+
| openSUSE Leap 15    | PEND           |
+---------------------+----------------+
| RHEL8               | PASS           |
+---------------------+----------------+
| RHEL9               | PEND           |
+---------------------+----------------+
| Ubuntu 20.04        | PEND           |
+---------------------+----------------+
| Ubuntu 22.04        | PEND           |
+---------------------+----------------+
| Ubuntu 24.04        | PEND           |
+---------------------+----------------+
| Fedora 38           | PEND           |
+---------------------+----------------+


CentOS Stream 8
	Kernel: 5.4.0-167-generic
	Compiler: gcc 8.5.0 20210514

CentOS Stream 9
	Kernel: 5.4.0-167-generic
	Compiler: gcc 11.4.1 20230605

Debian Bullseye
	Kernel: 5.4.0-167-generic
	Compiler: gcc 10.2.1-6

Debian 12
	Kernel: Container Host Kernel
	Compiler: gcc 12.2.0

Fedora 37
	Kernel: Depends on container host system
	Compiler: gcc 12.3.1

Fedora 39
	Kernel: Depends on container host
	Compiler: gcc 13.2.1

Fedora 38 (Clang)
	Kernel: Depends on container host
	Compiler: clang 16.0.6

Fedora 39 (Clang)
	Kernel: Depends on container host
	Compiler: clang 17.0.6

Fedora 40
	Kernel: Depends on container host
	Compiler: gcc 14.1.1

Windows Server 2019
	Kernel: 10.0.17763
	Compiler: clang 14.0 and gcc 8.1.0 (MinGW)

Fedora 40 (Clang)
	Kernel: Depends on container host
	Compiler: clang 18.1.6

Windows Server 2022
	Kernel: 10.0.20348.2031
	Compiler: clang 15.0.7, gcc 8.1.0 (MinGW), and MSVC VS 17.9

openSUSE Leap 15
	Kernel: 5.4.0-167-generic
	Compiler: gcc 7.5.0

RHEL8
	Kernel: 5.4.0-167-generic
	Compiler: gcc 8.5.0 20210514 (Red Hat 8.5.0-20)

RHEL9
	Kernel: Depends on container host
	Compiler: gcc 11.4.1

Ubuntu 20.04
	Kernel: 5.4.0-167-generic
	Compiler: gcc 9.4.0-1ubuntu1~20.04.1

Ubuntu 22.04
	Kernel: 5.4.0-167-generic
	Compiler: gcc 11.4.0

Ubuntu 24.04
	Kernel: 5.4.0-167-generic
	Compiler: gcc 13.2.0

Fedora 38
	Kernel: Depends on container host
	Compiler: gcc 13.2.1

To view detailed results, visit:
https://lab.dpdk.org/results/dashboard/patchsets/30563/

UNH-IOL DPDK Community Lab

To manage your email subscriptions, visit: 
https://lab.dpdk.org/results/dashboard/preferences/subscriptions/