From mboxrd@z Thu Jan  1 00:00:00 1970
Return-Path: <test-report-bounces@dpdk.org>
Received: from mails.dpdk.org (mails.dpdk.org [217.70.189.124])
	by inbox.dpdk.org (Postfix) with ESMTP id B12F445656
	for <public@inbox.dpdk.org>; Fri, 19 Jul 2024 19:54:39 +0200 (CEST)
Received: from mails.dpdk.org (localhost [127.0.0.1])
	by mails.dpdk.org (Postfix) with ESMTP id AE37B40EA5;
	Fri, 19 Jul 2024 19:54:39 +0200 (CEST)
Received: from mail-qt1-f227.google.com (mail-qt1-f227.google.com
 [209.85.160.227])
 by mails.dpdk.org (Postfix) with ESMTP id 5F59540E18
 for <test-report@dpdk.org>; Fri, 19 Jul 2024 19:54:38 +0200 (CEST)
Received: by mail-qt1-f227.google.com with SMTP id
 d75a77b69052e-44931d9eda6so14851541cf.1
 for <test-report@dpdk.org>; Fri, 19 Jul 2024 10:54:38 -0700 (PDT)
DKIM-Signature: v=1; a=rsa-sha256; c=relaxed/relaxed;
 d=iol.unh.edu; s=unh-iol; t=1721411678; x=1722016478; darn=dpdk.org;
 h=references:in-reply-to:cc:to:from:subject:message-id:date:from:to
 :cc:subject:date:message-id:reply-to;
 bh=fGnQmFkKlVSJcx90EmH+feadF3cARHECw1xOWXTL8Nw=;
 b=DN/ZBHF9yzGjwl4W04CSCNgjMjLtG/hCTyJxHayy+Pi0XDOhWnxbOmKwVmu6yN5Zsm
 HNvOuGXV2znpUnzxkVndHAUSeEG7wzcfaRLpZFAzu564RXKZvytVx3H1wSozq1SofZ8u
 szUpE58b73zCdULmPfdvhMcy+THJPAK4zdIUE=
X-Google-DKIM-Signature: v=1; a=rsa-sha256; c=relaxed/relaxed;
 d=1e100.net; s=20230601; t=1721411678; x=1722016478;
 h=references:in-reply-to:cc:to:from:subject:message-id:date
 :x-gm-message-state:from:to:cc:subject:date:message-id:reply-to;
 bh=fGnQmFkKlVSJcx90EmH+feadF3cARHECw1xOWXTL8Nw=;
 b=N0Fyh/FJog5HxRa0zN5++zkrcV995yvnLUXf/HeKAErzzw8kNd2ZTnpbrj+FMmdmUc
 l4pmjbrHPPXVS0uYPf1Eh+ahi4Rup7c8UZYAmmUaJqU7EiUWDkSj50fp/WexDsMnkXtQ
 OigdbJSOttDT8nMl32w15dke3j08EiuztXWOG44FvLKHVAInw1Ui94RhGm4rk5a2AMFF
 XGY9bkNfhbQSCRtwfK902j6F1sO5ORC+VFK47zZRWRR4ZPIhF69mWMyVfta0iNAtsoIU
 aRMrkBlMF8iWwFbSBf8+bVEWsnHDrOWXU/T4fzQ8zQkl3MWP7AVHkzanSs0qw8GQPrjW
 J40A==
X-Gm-Message-State: AOJu0YwsToAQEt0ajVR7+ggWNOKj0MbY+0VLNISSH2p2nPVF5Sw8N2r+
 HjXQPMikgFpwtDydzuOZSuy/p8NG3gYJFHlR8RUtFVmk7/TaVESHYfSEHpnHPDJLKMYdohEBDct
 jZWJWiSnbIDuDzo55xBxasQWqJphaC7N27m0Jvc9A
X-Google-Smtp-Source: AGHT+IF3BJcfi6lQc7MR7WwMAIQOc1TNX4UW8GYESa9n7RYEZnk2/PEV6d8MWQ/Qtb7X5Y4lkf8HCPX+tEZv
X-Received: by 2002:ac8:584d:0:b0:444:d08d:6202 with SMTP id
 d75a77b69052e-44f96a583b8mr79266121cf.12.1721411677725; 
 Fri, 19 Jul 2024 10:54:37 -0700 (PDT)
Received: from postal.iol.unh.edu (postal.iol.unh.edu. [132.177.123.84])
 by smtp-relay.gmail.com with ESMTPS id
 d75a77b69052e-44f9cd3e2b0sm862471cf.16.2024.07.19.10.54.37
 (version=TLS1_2 cipher=ECDHE-ECDSA-AES128-GCM-SHA256 bits=128/128);
 Fri, 19 Jul 2024 10:54:37 -0700 (PDT)
X-Relaying-Domain: iol.unh.edu
Date: Fri, 19 Jul 2024 10:54:37 -0700 (PDT)
Message-ID: <669aa85d.c80a0220.8124a.5b57SMTPIN_ADDED_MISSING@mx.google.com>
Received: from [172.21.0.6] (unknown [172.18.0.240])
 by postal.iol.unh.edu (Postfix) with ESMTP id 6F4C660526E2;
 Fri, 19 Jul 2024 13:54:37 -0400 (EDT)
Subject: |SUCCESS| pw142523 [PATCH] [v2] net/gve: Update Rx/Tx functions for 
From: dpdklab@iol.unh.edu
To: Test Report <test-report@dpdk.org>
Cc: dpdk-test-reports@iol.unh.edu
In-Reply-To: <1721364722-2387983-1-git-send-email-tathagat.dpdk@gmail.com>
References: <1721364722-2387983-1-git-send-email-tathagat.dpdk@gmail.com>
Content-Type: text/plain
X-BeenThere: test-report@dpdk.org
X-Mailman-Version: 2.1.29
Precedence: list
List-Id: automatic DPDK test reports <test-report.dpdk.org>
List-Unsubscribe: <https://mails.dpdk.org/options/test-report>,
 <mailto:test-report-request@dpdk.org?subject=unsubscribe>
List-Archive: <http://mails.dpdk.org/archives/test-report/>
List-Post: <mailto:test-report@dpdk.org>
List-Help: <mailto:test-report-request@dpdk.org?subject=help>
List-Subscribe: <https://mails.dpdk.org/listinfo/test-report>,
 <mailto:test-report-request@dpdk.org?subject=subscribe>
Errors-To: test-report-bounces@dpdk.org

Test-Label: iol-abi-testing
Test-Status: SUCCESS
http://dpdk.org/patch/142523

_Testing PASS_

Submitter: priyadarshitathagat <tathagat.dpdk@gmail.com>
Date: Friday, July 19 2024 04:52:02 
DPDK git baseline: Repo:dpdk
  Branch: master
  CommitID:39fe3417bd7a3e15a2a4f8fa543c6d72ee32eee1

142523 --> testing pass

Upstream job id: Generic-DPDK-Compile-ABI#99542

Test environment and result as below:

+-------------------+----------+
|    Environment    | abi_test |
+===================+==========+
| CentOS Stream 8   | PASS     |
+-------------------+----------+
| CentOS Stream 9   | PASS     |
+-------------------+----------+
| Debian 12         | PASS     |
+-------------------+----------+
| Debian Bullseye   | PASS     |
+-------------------+----------+
| Fedora 38 (Clang) | PASS     |
+-------------------+----------+
| Fedora 37         | PASS     |
+-------------------+----------+
| Fedora 38         | PASS     |
+-------------------+----------+
| Fedora 39         | PASS     |
+-------------------+----------+
| Fedora 39 (Clang) | PASS     |
+-------------------+----------+
| Fedora 40 (Clang) | PASS     |
+-------------------+----------+
| Fedora 40         | PASS     |
+-------------------+----------+
| RHEL9             | PASS     |
+-------------------+----------+
| openSUSE Leap 15  | PASS     |
+-------------------+----------+
| RHEL8             | PASS     |
+-------------------+----------+
| Ubuntu 22.04      | PASS     |
+-------------------+----------+
| Ubuntu 24.04      | PASS     |
+-------------------+----------+


CentOS Stream 8
	Kernel: 5.4.0-167-generic
	Compiler: gcc 8.5.0 20210514

CentOS Stream 9
	Kernel: 5.4.0-167-generic
	Compiler: gcc 11.4.1 20230605

Debian 12
	Kernel: Container Host Kernel
	Compiler: gcc 12.2.0

Debian Bullseye
	Kernel: 5.4.0-167-generic
	Compiler: gcc 10.2.1-6

Fedora 38 (Clang)
	Kernel: Depends on container host
	Compiler: clang 16.0.6

Fedora 37
	Kernel: Depends on container host system
	Compiler: gcc 12.3.1

Fedora 38
	Kernel: Depends on container host
	Compiler: gcc 13.2.1

Fedora 39
	Kernel: Depends on container host
	Compiler: gcc 13.2.1

Fedora 39 (Clang)
	Kernel: Depends on container host
	Compiler: clang 17.0.6

Fedora 40 (Clang)
	Kernel: Depends on container host
	Compiler: clang 18.1.6

Fedora 40
	Kernel: Depends on container host
	Compiler: gcc 14.1.1

RHEL9
	Kernel: Depends on container host
	Compiler: gcc 11.4.1

openSUSE Leap 15
	Kernel: 5.4.0-167-generic
	Compiler: gcc 7.5.0

RHEL8
	Kernel: 5.4.0-167-generic
	Compiler: gcc 8.5.0 20210514 (Red Hat 8.5.0-20)

Ubuntu 22.04
	Kernel: 5.4.0-167-generic
	Compiler: gcc 11.4.0

Ubuntu 24.04
	Kernel: 5.4.0-167-generic
	Compiler: gcc 13.2.0

To view detailed results, visit:
https://lab.dpdk.org/results/dashboard/patchsets/30562/

UNH-IOL DPDK Community Lab

To manage your email subscriptions, visit: 
https://lab.dpdk.org/results/dashboard/preferences/subscriptions/