From mboxrd@z Thu Jan  1 00:00:00 1970
Return-Path: <test-report-bounces@dpdk.org>
Received: from mails.dpdk.org (mails.dpdk.org [217.70.189.124])
	by inbox.dpdk.org (Postfix) with ESMTP id 4E3F645656
	for <public@inbox.dpdk.org>; Fri, 19 Jul 2024 20:07:16 +0200 (CEST)
Received: from mails.dpdk.org (localhost [127.0.0.1])
	by mails.dpdk.org (Postfix) with ESMTP id 2C4BD40E4C;
	Fri, 19 Jul 2024 20:07:16 +0200 (CEST)
Received: from mail-pf1-f225.google.com (mail-pf1-f225.google.com
 [209.85.210.225])
 by mails.dpdk.org (Postfix) with ESMTP id 5F6C640E18
 for <test-report@dpdk.org>; Fri, 19 Jul 2024 20:07:15 +0200 (CEST)
Received: by mail-pf1-f225.google.com with SMTP id
 d2e1a72fcca58-70b07bdbfbcso894200b3a.0
 for <test-report@dpdk.org>; Fri, 19 Jul 2024 11:07:15 -0700 (PDT)
DKIM-Signature: v=1; a=rsa-sha256; c=relaxed/relaxed;
 d=iol.unh.edu; s=unh-iol; t=1721412434; x=1722017234; darn=dpdk.org;
 h=references:in-reply-to:cc:to:from:subject:message-id:date:from:to
 :cc:subject:date:message-id:reply-to;
 bh=7JE3RR5ZFJR5Elm/qwtiCW+04lJQ1bx4pVJm2FfyhqA=;
 b=dWPmlRiYPZ4a5nwRDdFHiXnCnn7ba/uWbfBmneU7tlcQcgiVlGTqIcdaeA5lz+3rCW
 +CZXCzqSNNiBCq1ZCRd1UCfiNi/EwDepXEJMhZCy/yBPRaupwIKmoCAulhI0hhICO0Zz
 pGcOp6VMDnyIRmMKlk7crWTwhcgZOcY4me5XY=
X-Google-DKIM-Signature: v=1; a=rsa-sha256; c=relaxed/relaxed;
 d=1e100.net; s=20230601; t=1721412434; x=1722017234;
 h=references:in-reply-to:cc:to:from:subject:message-id:date
 :x-gm-message-state:from:to:cc:subject:date:message-id:reply-to;
 bh=7JE3RR5ZFJR5Elm/qwtiCW+04lJQ1bx4pVJm2FfyhqA=;
 b=oAplCoMLgxkp4Zc9vs9xoEWJhv/TDZnpWGtRMdqH7Mj7MyUlMn+Grl/TWhW4LEq4DH
 ANV0WsycOFFKIJVlLzJj0zFjlT2nDjwQ2/R3nkHfIsPRlIUBYih1JX86K1BNOy7JJgn/
 CV7MQMFWC8twKgxdUkq9fvlnBrCu1DZAGzE1te3r6WKQsTAmGXWtPpWToNbr7NgsK6j0
 XR+j7FT1YagPw8PkPJMlNSIMtaD/zS7xEYVV9LAkw4vL3B2OPSo/e8QomPbMNvUHm5DI
 i7FlokyxsBhYb1oikyVr1rlyuP4w92FlPfOgbLAj06dO9/ZHWBrewSpUXAUMq6uZGe+J
 UtSQ==
X-Gm-Message-State: AOJu0YxQKg9hNfk00roSKAXmihV4QM+kWu+MnJqTH68gVk4bpgBBmFxj
 VDZVAiayBCnilIwOqPmLV8dA19x5ZwheFp2/GqJNKPJ1F9TcknOuaxuiZZoFt433F5N2aomemHL
 kzY+00wrxWF2EhVu0TXyNZBw52DPgWijteOwnqZD+t1iQxKa3pIRwfXqg
X-Google-Smtp-Source: AGHT+IEY0ISTNoNmwpIJ/cmB9Gcd8+qMhps5P0ePmVcxAwn+2qja8rhb9tSdaVOYwTN14ZVZQc4xqveFZYDe
X-Received: by 2002:a05:6a21:32a5:b0:1c0:ef24:4124 with SMTP id
 adf61e73a8af0-1c4077b57bcmr11209300637.6.1721412434467; 
 Fri, 19 Jul 2024 11:07:14 -0700 (PDT)
Received: from postal.iol.unh.edu (postal.iol.unh.edu.
 [2606:4100:3880:1234::84]) by smtp-relay.gmail.com with ESMTPS id
 41be03b00d2f7-79f0b909db4sm19149a12.21.2024.07.19.11.07.14
 (version=TLS1_2 cipher=ECDHE-ECDSA-AES128-GCM-SHA256 bits=128/128);
 Fri, 19 Jul 2024 11:07:14 -0700 (PDT)
X-Relaying-Domain: iol.unh.edu
Date: Fri, 19 Jul 2024 11:07:14 -0700 (PDT)
Message-ID: <669aab52.630a0220.7c397.133dSMTPIN_ADDED_MISSING@mx.google.com>
Received: from [172.21.0.6] (unknown [172.18.0.240])
 by postal.iol.unh.edu (Postfix) with ESMTP id B81F760526E2;
 Fri, 19 Jul 2024 14:07:13 -0400 (EDT)
Subject: |PENDING| pw142524-142526 [PATCH] [v3,3/3] net/hns3: fix Rx packet w
From: dpdklab@iol.unh.edu
To: Test Report <test-report@dpdk.org>
Cc: dpdk-test-reports@iol.unh.edu
In-Reply-To: <20240719090415.1513301-4-haijie1@huawei.com>
References: <20240719090415.1513301-4-haijie1@huawei.com>
Content-Type: text/plain
X-BeenThere: test-report@dpdk.org
X-Mailman-Version: 2.1.29
Precedence: list
List-Id: automatic DPDK test reports <test-report.dpdk.org>
List-Unsubscribe: <https://mails.dpdk.org/options/test-report>,
 <mailto:test-report-request@dpdk.org?subject=unsubscribe>
List-Archive: <http://mails.dpdk.org/archives/test-report/>
List-Post: <mailto:test-report@dpdk.org>
List-Help: <mailto:test-report-request@dpdk.org?subject=help>
List-Subscribe: <https://mails.dpdk.org/listinfo/test-report>,
 <mailto:test-report-request@dpdk.org?subject=subscribe>
Errors-To: test-report-bounces@dpdk.org

Test-Label: iol-unit-amd64-testing
Test-Status: PENDING
http://dpdk.org/patch/142526

_Testing pending_

Submitter: Jie Hai <haijie1@huawei.com>
Date: Friday, July 19 2024 09:04:15 
DPDK git baseline: Repo:dpdk
  Branch: master
  CommitID:39fe3417bd7a3e15a2a4f8fa543c6d72ee32eee1

142524-142526 --> testing pending

Upstream job id: Generic-Unit-Test-DPDK#241951

Test environment and result as below:

+---------------------+----------------+
|     Environment     | dpdk_unit_test |
+=====================+================+
| Windows Server 2022 | PASS           |
+---------------------+----------------+
| Windows Server 2019 | PASS           |
+---------------------+----------------+
| CentOS Stream 8     | PASS           |
+---------------------+----------------+
| CentOS Stream 9     | PASS           |
+---------------------+----------------+
| Debian 12           | PASS           |
+---------------------+----------------+
| Debian Bullseye     | PASS           |
+---------------------+----------------+
| Fedora 38           | PASS           |
+---------------------+----------------+
| Fedora 37           | PASS           |
+---------------------+----------------+
| Fedora 38 (Clang)   | PEND           |
+---------------------+----------------+
| Fedora 39           | PEND           |
+---------------------+----------------+
| Fedora 40           | PEND           |
+---------------------+----------------+
| Fedora 39 (Clang)   | PEND           |
+---------------------+----------------+
| Fedora 40 (Clang)   | PEND           |
+---------------------+----------------+
| RHEL9               | PEND           |
+---------------------+----------------+
| Ubuntu 20.04        | PEND           |
+---------------------+----------------+
| Ubuntu 22.04        | PEND           |
+---------------------+----------------+
| Ubuntu 24.04        | PEND           |
+---------------------+----------------+
| openSUSE Leap 15    | PEND           |
+---------------------+----------------+
| RHEL8               | PEND           |
+---------------------+----------------+


Windows Server 2022
	Kernel: 10.0.20348.2031
	Compiler: clang 15.0.7, gcc 8.1.0 (MinGW), and MSVC VS 17.9

Windows Server 2019
	Kernel: 10.0.17763
	Compiler: clang 14.0 and gcc 8.1.0 (MinGW)

CentOS Stream 8
	Kernel: 5.4.0-167-generic
	Compiler: gcc 8.5.0 20210514

CentOS Stream 9
	Kernel: 5.4.0-167-generic
	Compiler: gcc 11.4.1 20230605

Debian 12
	Kernel: Container Host Kernel
	Compiler: gcc 12.2.0

Debian Bullseye
	Kernel: 5.4.0-167-generic
	Compiler: gcc 10.2.1-6

Fedora 38
	Kernel: Depends on container host
	Compiler: gcc 13.2.1

Fedora 37
	Kernel: Depends on container host system
	Compiler: gcc 12.3.1

Fedora 38 (Clang)
	Kernel: Depends on container host
	Compiler: clang 16.0.6

Fedora 39
	Kernel: Depends on container host
	Compiler: gcc 13.2.1

Fedora 40
	Kernel: Depends on container host
	Compiler: gcc 14.1.1

Fedora 39 (Clang)
	Kernel: Depends on container host
	Compiler: clang 17.0.6

Fedora 40 (Clang)
	Kernel: Depends on container host
	Compiler: clang 18.1.6

RHEL9
	Kernel: Depends on container host
	Compiler: gcc 11.4.1

Ubuntu 20.04
	Kernel: 5.4.0-167-generic
	Compiler: gcc 9.4.0-1ubuntu1~20.04.1

Ubuntu 22.04
	Kernel: 5.4.0-167-generic
	Compiler: gcc 11.4.0

Ubuntu 24.04
	Kernel: 5.4.0-167-generic
	Compiler: gcc 13.2.0

openSUSE Leap 15
	Kernel: 5.4.0-167-generic
	Compiler: gcc 7.5.0

RHEL8
	Kernel: 5.4.0-167-generic
	Compiler: gcc 8.5.0 20210514 (Red Hat 8.5.0-20)

To view detailed results, visit:
https://lab.dpdk.org/results/dashboard/patchsets/30563/

UNH-IOL DPDK Community Lab

To manage your email subscriptions, visit: 
https://lab.dpdk.org/results/dashboard/preferences/subscriptions/