From mboxrd@z Thu Jan  1 00:00:00 1970
Return-Path: <test-report-bounces@dpdk.org>
Received: from mails.dpdk.org (mails.dpdk.org [217.70.189.124])
	by inbox.dpdk.org (Postfix) with ESMTP id 7FBB745656
	for <public@inbox.dpdk.org>; Fri, 19 Jul 2024 20:54:53 +0200 (CEST)
Received: from mails.dpdk.org (localhost [127.0.0.1])
	by mails.dpdk.org (Postfix) with ESMTP id 7B78740DD5;
	Fri, 19 Jul 2024 20:54:53 +0200 (CEST)
Received: from mail-oa1-f97.google.com (mail-oa1-f97.google.com
 [209.85.160.97]) by mails.dpdk.org (Postfix) with ESMTP id 2128A40DD5
 for <test-report@dpdk.org>; Fri, 19 Jul 2024 20:54:39 +0200 (CEST)
Received: by mail-oa1-f97.google.com with SMTP id
 586e51a60fabf-26119999171so373181fac.2
 for <test-report@dpdk.org>; Fri, 19 Jul 2024 11:54:39 -0700 (PDT)
DKIM-Signature: v=1; a=rsa-sha256; c=relaxed/relaxed;
 d=iol.unh.edu; s=unh-iol; t=1721415278; x=1722020078; darn=dpdk.org;
 h=references:in-reply-to:cc:to:from:subject:message-id:date:from:to
 :cc:subject:date:message-id:reply-to;
 bh=qQAT72WKtCQdzMQMJuvbtyzKLup/xMewDhbsSXemK4E=;
 b=HkNSOx1XXktSUZPbImbR2U2Pt0RiNCCJt7jzx/LA3NH1K48RatgYT/VUwWe+yXxnTD
 uDFtZhrpn/pxAmZYl6gHHPzCqOptN+FWFvTOBnYKE+mCsb7bKjoCXE6t0QD9YzUGNqZ4
 xqRG3DuEKwA3/iRoKzewZ+JRLVlt8jNpPz9r8=
X-Google-DKIM-Signature: v=1; a=rsa-sha256; c=relaxed/relaxed;
 d=1e100.net; s=20230601; t=1721415278; x=1722020078;
 h=references:in-reply-to:cc:to:from:subject:message-id:date
 :x-gm-message-state:from:to:cc:subject:date:message-id:reply-to;
 bh=qQAT72WKtCQdzMQMJuvbtyzKLup/xMewDhbsSXemK4E=;
 b=Fa0hJei8hM/mI4pfKehbcWobTDoHW2IskFhqhmYpnfer0P9pnqKXSrpnbdDvN/py2F
 Is4Z0OJ0UFm6UEcLcfh604joDNt93wjIhdP43deDE/86uUJmnFDMy+QeRdOZaGj50nlk
 oUDf995miN1HsjND1xByQX07p2oaRwvIVc4fx7FFHSJhwxAKd9jo6NuyDJrfkaP8fyRb
 8DOVT3zcbujYuhC6ZQkLQSdZSYiUjMlU/E0wMhecqPDmjUukXDZvEjfxmIFUbELrcgn7
 DVfVHaw0ojFNQvCYYVKgFjE5+VDWOIG8JB6xFY6giMfPZNO4xhoked/GTImU3lMzFcNx
 iz7A==
X-Gm-Message-State: AOJu0YzU05vrnS65LmCMlUD/Y7pyaRhgLI5DXefm27nlNl0/DSRpynsj
 azzUpmTTzBg217ZRDYGFgBsGXPvVER8SrCC38hRjmEGJBPdsqBhg7VZ5oUmYviflIB3r2oRt1LB
 dXmM0N/QMDTjwqytZV5vDYryMkzxhNm+IsN13EB8M
X-Google-Smtp-Source: AGHT+IEqfTkzJpZW/9gb0Np1ZuSRdnEkjRovVfyLoIDpKtec9kGNC2ZHwWCAsf3HKh2wA7gX+j3oX1Y+CKNo
X-Received: by 2002:a05:6870:89a8:b0:261:1fdc:494a with SMTP id
 586e51a60fabf-2611fdc69b2mr754406fac.21.1721415278242; 
 Fri, 19 Jul 2024 11:54:38 -0700 (PDT)
Received: from postal.iol.unh.edu (postal.iol.unh.edu. [132.177.123.84])
 by smtp-relay.gmail.com with ESMTPS id
 586e51a60fabf-2610c72fc37sm106380fac.1.2024.07.19.11.54.38
 (version=TLS1_2 cipher=ECDHE-ECDSA-AES128-GCM-SHA256 bits=128/128);
 Fri, 19 Jul 2024 11:54:38 -0700 (PDT)
X-Relaying-Domain: iol.unh.edu
Date: Fri, 19 Jul 2024 11:54:38 -0700 (PDT)
Message-ID: <669ab66e.050a0220.21407d.6661SMTPIN_ADDED_MISSING@mx.google.com>
Received: from [172.21.0.7] (unknown [172.18.0.240])
 by postal.iol.unh.edu (Postfix) with ESMTP id B0B1160526E2;
 Fri, 19 Jul 2024 14:54:37 -0400 (EDT)
Subject: |PENDING| pw142523 [PATCH] [v2] net/gve: Update Rx/Tx functions for 
From: dpdklab@iol.unh.edu
To: Test Report <test-report@dpdk.org>
Cc: dpdk-test-reports@iol.unh.edu
In-Reply-To: <1721364722-2387983-1-git-send-email-tathagat.dpdk@gmail.com>
References: <1721364722-2387983-1-git-send-email-tathagat.dpdk@gmail.com>
Content-Type: text/plain
X-BeenThere: test-report@dpdk.org
X-Mailman-Version: 2.1.29
Precedence: list
List-Id: automatic DPDK test reports <test-report.dpdk.org>
List-Unsubscribe: <https://mails.dpdk.org/options/test-report>,
 <mailto:test-report-request@dpdk.org?subject=unsubscribe>
List-Archive: <http://mails.dpdk.org/archives/test-report/>
List-Post: <mailto:test-report@dpdk.org>
List-Help: <mailto:test-report-request@dpdk.org?subject=help>
List-Subscribe: <https://mails.dpdk.org/listinfo/test-report>,
 <mailto:test-report-request@dpdk.org?subject=subscribe>
Errors-To: test-report-bounces@dpdk.org

Test-Label: iol-compile-arm64-testing
Test-Status: PENDING
http://dpdk.org/patch/142523

_Testing pending_

Submitter: priyadarshitathagat <tathagat.dpdk@gmail.com>
Date: Friday, July 19 2024 04:52:02 
DPDK git baseline: Repo:dpdk
  Branch: master
  CommitID:39fe3417bd7a3e15a2a4f8fa543c6d72ee32eee1

142523 --> testing pending

Upstream job id: Generic-DPDK-Compile-Meson#276732

Test environment and result as below:

+------------------------------------+--------------------+
|            Environment             | dpdk_meson_compile |
+====================================+====================+
| RHEL9 (ARM)                        | PEND               |
+------------------------------------+--------------------+
| Ubuntu 20.04 ARM GCC Cross Compile | PEND               |
+------------------------------------+--------------------+
| Ubuntu 20.04 ARM SVE               | PASS               |
+------------------------------------+--------------------+
| Debian 12 with MUSDK               | PASS               |
+------------------------------------+--------------------+
| Fedora 37 (ARM)                    | PEND               |
+------------------------------------+--------------------+
| Fedora 38 (ARM)                    | PASS               |
+------------------------------------+--------------------+
| Fedora 38 (ARM Clang)              | PEND               |
+------------------------------------+--------------------+
| Fedora 39 (ARM)                    | PEND               |
+------------------------------------+--------------------+
| Fedora 39 (ARM Clang)              | PEND               |
+------------------------------------+--------------------+


RHEL9 (ARM)
	Kernel: Depends on container host
	Compiler: gcc 11.4.1

Ubuntu 20.04 ARM GCC Cross Compile
	Kernel: 5.4.0-167-generic
	Compiler: aarch64-linux-gnu-gcc (Ubuntu 9.4.0-1ubuntu1~20.04.2) 9.4.0

Ubuntu 20.04 ARM SVE
	Kernel: 5.4.0-167-generic
	Compiler: gcc (Ubuntu 10.5.0-1ubuntu1~20.04) 10.5.0

Debian 12 with MUSDK
	Kernel: Container Host Kernel
	Compiler: gcc 12.2.0

Fedora 37 (ARM)
	Kernel: Depends on container host
	Compiler: gcc 12.3.1

Fedora 38 (ARM)
	Kernel: Depends on container host
	Compiler: gcc 13.2.1

Fedora 38 (ARM Clang)
	Kernel: Depends on container host
	Compiler: clang 16.0.6

Fedora 39 (ARM)
	Kernel: Depends on container host
	Compiler: gcc 13.2.1

Fedora 39 (ARM Clang)
	Kernel: Depends on container host
	Compiler: clang 17.0.6

To view detailed results, visit:
https://lab.dpdk.org/results/dashboard/patchsets/30562/

UNH-IOL DPDK Community Lab

To manage your email subscriptions, visit: 
https://lab.dpdk.org/results/dashboard/preferences/subscriptions/