From mboxrd@z Thu Jan  1 00:00:00 1970
Return-Path: <test-report-bounces@dpdk.org>
Received: from mails.dpdk.org (mails.dpdk.org [217.70.189.124])
	by inbox.dpdk.org (Postfix) with ESMTP id 8F91445656
	for <public@inbox.dpdk.org>; Fri, 19 Jul 2024 21:05:45 +0200 (CEST)
Received: from mails.dpdk.org (localhost [127.0.0.1])
	by mails.dpdk.org (Postfix) with ESMTP id 8AC9D40DD5;
	Fri, 19 Jul 2024 21:05:45 +0200 (CEST)
Received: from mail-oi1-f226.google.com (mail-oi1-f226.google.com
 [209.85.167.226])
 by mails.dpdk.org (Postfix) with ESMTP id 97F144026B
 for <test-report@dpdk.org>; Fri, 19 Jul 2024 21:05:33 +0200 (CEST)
Received: by mail-oi1-f226.google.com with SMTP id
 5614622812f47-3d9dfc7c5f6so1030539b6e.0
 for <test-report@dpdk.org>; Fri, 19 Jul 2024 12:05:33 -0700 (PDT)
DKIM-Signature: v=1; a=rsa-sha256; c=relaxed/relaxed;
 d=iol.unh.edu; s=unh-iol; t=1721415933; x=1722020733; darn=dpdk.org;
 h=references:in-reply-to:cc:to:from:subject:message-id:date:from:to
 :cc:subject:date:message-id:reply-to;
 bh=BrJ0hFvN4eWB5tkcpa0eAb9EP+sw9f1bxLq2833WFlE=;
 b=GYtawfVOQ+89UraFwUgbK4I1dedAFRkCCsJK6KcMUPnnhDIRNPi5qJ3rwqfuh16CMS
 uQdH6hkDacCN+krDWQwjWGz16MgOqIR7kwp0ba0pJ1PIeqyjQTnLAL5298yjs/tUws90
 wGfBo0Z74e0qZwPiuNjcoXQVnDng3WIxnnub0=
X-Google-DKIM-Signature: v=1; a=rsa-sha256; c=relaxed/relaxed;
 d=1e100.net; s=20230601; t=1721415933; x=1722020733;
 h=references:in-reply-to:cc:to:from:subject:message-id:date
 :x-gm-message-state:from:to:cc:subject:date:message-id:reply-to;
 bh=BrJ0hFvN4eWB5tkcpa0eAb9EP+sw9f1bxLq2833WFlE=;
 b=G2uBsS9sWl4OeQVN8tBkg0SbmmXv33LBICbr6ApZUFZU4KuREyTN0hisS6IocRdUaS
 D3NvMvmOdzOEmfZbD5Sdn1XDPkh+d9foLivGJa2GxGu5TGiBiVnSu8NvAQALeVt8g1QN
 BA3UwFqXBru3ETH+dhX4AnvE5kwKGLm9sLvRBxjdn/bC8ZnFlief254UG4WpD8F23W18
 lLtXlIkUMLofpkqp4TieCNjouonhPLXgkDZfCGsooXixlwDwgy+uKFF9Ec6tV3OuKQPb
 uUv9GrlGnykmFHbp5PPKtRn+veKrcuHPOzc3Xqq882dODVfeP3TRra1g59K9MJ+cwJo/
 3k8Q==
X-Gm-Message-State: AOJu0Ywuv+xSpjFopAAU8EqEg+jaKy7WhNX0zJcgXyrCGTTb84iIfZOE
 AMWTDZjFPMXnpO3Rr7TscrhHAOxlD0wQtKgaq8m03XlitC1s9VTbDjLzzCMyyp0QlP7Lf7ErjIk
 lH9DxFwA/4LC8naPD68+vv0lzVuhuFpO9DOgyKRaPYw5tZLcKrMmgyQVl
X-Google-Smtp-Source: AGHT+IHoYndwd54l4SNmNWi7EsY1+wm+YsKfPhnXlRfxsE1mZNIcE9vLB+KYq0IxbnaJuFxqOOzi+Lrm59Hf
X-Received: by 2002:a05:6808:2021:b0:3d9:28d0:fcd4 with SMTP id
 5614622812f47-3dae5fa632bmr1040841b6e.5.1721415932816; 
 Fri, 19 Jul 2024 12:05:32 -0700 (PDT)
Received: from postal.iol.unh.edu (postal.iol.unh.edu.
 [2606:4100:3880:1234::84]) by smtp-relay.gmail.com with ESMTPS id
 a1e0cc1a2514c-826dc93ae4dsm39756241.1.2024.07.19.12.05.32
 (version=TLS1_2 cipher=ECDHE-ECDSA-AES128-GCM-SHA256 bits=128/128);
 Fri, 19 Jul 2024 12:05:32 -0700 (PDT)
X-Relaying-Domain: iol.unh.edu
Date: Fri, 19 Jul 2024 12:05:32 -0700 (PDT)
Message-ID: <669ab8fc.b00a0220.2a27be.2598SMTPIN_ADDED_MISSING@mx.google.com>
Received: from [172.21.0.6] (unknown [172.18.0.240])
 by postal.iol.unh.edu (Postfix) with ESMTP id 6BCB760526E2;
 Fri, 19 Jul 2024 15:05:32 -0400 (EDT)
Subject: |SUCCESS| pw142524-142526 [PATCH] [v3,3/3] net/hns3: fix Rx packet w
From: dpdklab@iol.unh.edu
To: Test Report <test-report@dpdk.org>
Cc: dpdk-test-reports@iol.unh.edu
In-Reply-To: <20240719090415.1513301-4-haijie1@huawei.com>
References: <20240719090415.1513301-4-haijie1@huawei.com>
Content-Type: text/plain
X-BeenThere: test-report@dpdk.org
X-Mailman-Version: 2.1.29
Precedence: list
List-Id: automatic DPDK test reports <test-report.dpdk.org>
List-Unsubscribe: <https://mails.dpdk.org/options/test-report>,
 <mailto:test-report-request@dpdk.org?subject=unsubscribe>
List-Archive: <http://mails.dpdk.org/archives/test-report/>
List-Post: <mailto:test-report@dpdk.org>
List-Help: <mailto:test-report-request@dpdk.org?subject=help>
List-Subscribe: <https://mails.dpdk.org/listinfo/test-report>,
 <mailto:test-report-request@dpdk.org?subject=subscribe>
Errors-To: test-report-bounces@dpdk.org

Test-Label: iol-compile-amd64-testing
Test-Status: SUCCESS
http://dpdk.org/patch/142526

_Testing PASS_

Submitter: Jie Hai <haijie1@huawei.com>
Date: Friday, July 19 2024 09:04:15 
DPDK git baseline: Repo:dpdk
  Branch: master
  CommitID:39fe3417bd7a3e15a2a4f8fa543c6d72ee32eee1

142524-142526 --> testing pass

Upstream job id: Generic-DPDK-Compile-Meson#276707

Test environment and result as below:

+---------------------+--------------------+------------------+-------------------+----------------------+-------------------+
|     Environment     | dpdk_meson_compile | dpdk_compile_ovs | dpdk_compile_spdk | dpdk_mingw64_compile | dpdk_msvc_compile |
+=====================+====================+==================+===================+======================+===================+
| CentOS Stream 8     | PASS               | PASS             | PASS              | SKIPPED              | SKIPPED           |
+---------------------+--------------------+------------------+-------------------+----------------------+-------------------+
| CentOS Stream 9     | PASS               | PASS             | PASS              | SKIPPED              | SKIPPED           |
+---------------------+--------------------+------------------+-------------------+----------------------+-------------------+
| Debian Bullseye     | PASS               | PASS             | PASS              | SKIPPED              | SKIPPED           |
+---------------------+--------------------+------------------+-------------------+----------------------+-------------------+
| Debian 12           | PASS               | PASS             | PASS              | SKIPPED              | SKIPPED           |
+---------------------+--------------------+------------------+-------------------+----------------------+-------------------+
| Fedora 38           | PASS               | PASS             | PASS              | SKIPPED              | SKIPPED           |
+---------------------+--------------------+------------------+-------------------+----------------------+-------------------+
| Fedora 37           | PASS               | PASS             | PASS              | SKIPPED              | SKIPPED           |
+---------------------+--------------------+------------------+-------------------+----------------------+-------------------+
| Fedora 38 (Clang)   | PASS               | PASS             | PASS              | SKIPPED              | SKIPPED           |
+---------------------+--------------------+------------------+-------------------+----------------------+-------------------+
| Fedora 39 (Clang)   | PASS               | PASS             | PASS              | SKIPPED              | SKIPPED           |
+---------------------+--------------------+------------------+-------------------+----------------------+-------------------+
| Fedora 39           | PASS               | PASS             | PASS              | SKIPPED              | SKIPPED           |
+---------------------+--------------------+------------------+-------------------+----------------------+-------------------+
| Fedora 40 (Clang)   | PASS               | PASS             | PASS              | SKIPPED              | SKIPPED           |
+---------------------+--------------------+------------------+-------------------+----------------------+-------------------+
| Fedora 40           | PASS               | PASS             | PASS              | SKIPPED              | SKIPPED           |
+---------------------+--------------------+------------------+-------------------+----------------------+-------------------+
| openSUSE Leap 15    | PASS               | PASS             | SKIPPED           | SKIPPED              | SKIPPED           |
+---------------------+--------------------+------------------+-------------------+----------------------+-------------------+
| RHEL8               | PASS               | PASS             | SKIPPED           | SKIPPED              | SKIPPED           |
+---------------------+--------------------+------------------+-------------------+----------------------+-------------------+
| RHEL9               | PASS               | PASS             | SKIPPED           | SKIPPED              | SKIPPED           |
+---------------------+--------------------+------------------+-------------------+----------------------+-------------------+
| Ubuntu 20.04        | PASS               | PASS             | SKIPPED           | SKIPPED              | SKIPPED           |
+---------------------+--------------------+------------------+-------------------+----------------------+-------------------+
| Ubuntu 22.04        | PASS               | PASS             | PASS              | SKIPPED              | SKIPPED           |
+---------------------+--------------------+------------------+-------------------+----------------------+-------------------+
| Ubuntu 24.04        | PASS               | PASS             | PASS              | SKIPPED              | SKIPPED           |
+---------------------+--------------------+------------------+-------------------+----------------------+-------------------+
| Windows Server 2019 | PASS               | SKIPPED          | SKIPPED           | PASS                 | SKIPPED           |
+---------------------+--------------------+------------------+-------------------+----------------------+-------------------+
| Windows Server 2022 | PASS               | SKIPPED          | SKIPPED           | PASS                 | PASS              |
+---------------------+--------------------+------------------+-------------------+----------------------+-------------------+
| FreeBSD 13.3        | PASS               | SKIPPED          | SKIPPED           | SKIPPED              | SKIPPED           |
+---------------------+--------------------+------------------+-------------------+----------------------+-------------------+
| Alpine              | PASS               | PASS             | SKIPPED           | SKIPPED              | SKIPPED           |
+---------------------+--------------------+------------------+-------------------+----------------------+-------------------+
| FreeBSD 14.1        | PASS               | SKIPPED          | SKIPPED           | SKIPPED              | SKIPPED           |
+---------------------+--------------------+------------------+-------------------+----------------------+-------------------+


CentOS Stream 8
	Kernel: 5.4.0-167-generic
	Compiler: gcc 8.5.0 20210514

CentOS Stream 9
	Kernel: 5.4.0-167-generic
	Compiler: gcc 11.4.1 20230605

Debian Bullseye
	Kernel: 5.4.0-167-generic
	Compiler: gcc 10.2.1-6

Debian 12
	Kernel: Container Host Kernel
	Compiler: gcc 12.2.0

Fedora 38
	Kernel: Depends on container host
	Compiler: gcc 13.2.1

Fedora 37
	Kernel: Depends on container host system
	Compiler: gcc 12.3.1

Fedora 38 (Clang)
	Kernel: Depends on container host
	Compiler: clang 16.0.6

Fedora 39 (Clang)
	Kernel: Depends on container host
	Compiler: clang 17.0.6

Fedora 39
	Kernel: Depends on container host
	Compiler: gcc 13.2.1

Fedora 40 (Clang)
	Kernel: Depends on container host
	Compiler: clang 18.1.6

Fedora 40
	Kernel: Depends on container host
	Compiler: gcc 14.1.1

openSUSE Leap 15
	Kernel: 5.4.0-167-generic
	Compiler: gcc 7.5.0

RHEL8
	Kernel: 5.4.0-167-generic
	Compiler: gcc 8.5.0 20210514 (Red Hat 8.5.0-20)

RHEL9
	Kernel: Depends on container host
	Compiler: gcc 11.4.1

Ubuntu 20.04
	Kernel: 5.4.0-167-generic
	Compiler: gcc 9.4.0-1ubuntu1~20.04.1

Ubuntu 22.04
	Kernel: 5.4.0-167-generic
	Compiler: gcc 11.4.0

Ubuntu 24.04
	Kernel: 5.4.0-167-generic
	Compiler: gcc 13.2.0

Windows Server 2019
	Kernel: 10.0.17763
	Compiler: clang 14.0 and gcc 8.1.0 (MinGW)

Windows Server 2022
	Kernel: 10.0.20348.2031
	Compiler: clang 15.0.7, gcc 8.1.0 (MinGW), and MSVC VS 17.9

FreeBSD 13.3
	Kernel: 13.3-RELEASE-p1
	Compiler: clang 17.0.6

Alpine
	Kernel: 5.4.0-167-generic
	Compiler: gcc (Alpine 13.2.1_git20231014) 13.2.1 20231014

FreeBSD 14.1
	Kernel: 14.1
	Compiler: clang 18.1.5

To view detailed results, visit:
https://lab.dpdk.org/results/dashboard/patchsets/30563/

UNH-IOL DPDK Community Lab

To manage your email subscriptions, visit: 
https://lab.dpdk.org/results/dashboard/preferences/subscriptions/