From mboxrd@z Thu Jan  1 00:00:00 1970
Return-Path: <test-report-bounces@dpdk.org>
Received: from mails.dpdk.org (mails.dpdk.org [217.70.189.124])
	by inbox.dpdk.org (Postfix) with ESMTP id 1A70145656
	for <public@inbox.dpdk.org>; Fri, 19 Jul 2024 21:08:41 +0200 (CEST)
Received: from mails.dpdk.org (localhost [127.0.0.1])
	by mails.dpdk.org (Postfix) with ESMTP id 1364340DD5;
	Fri, 19 Jul 2024 21:08:41 +0200 (CEST)
Received: from mail-io1-f97.google.com (mail-io1-f97.google.com
 [209.85.166.97]) by mails.dpdk.org (Postfix) with ESMTP id 9CA4E4026B
 for <test-report@dpdk.org>; Fri, 19 Jul 2024 21:08:40 +0200 (CEST)
Received: by mail-io1-f97.google.com with SMTP id
 ca18e2360f4ac-8063553b837so89844039f.1
 for <test-report@dpdk.org>; Fri, 19 Jul 2024 12:08:40 -0700 (PDT)
DKIM-Signature: v=1; a=rsa-sha256; c=relaxed/relaxed;
 d=iol.unh.edu; s=unh-iol; t=1721416120; x=1722020920; darn=dpdk.org;
 h=references:in-reply-to:cc:to:from:subject:message-id:date:from:to
 :cc:subject:date:message-id:reply-to;
 bh=ABL5fdBP1EVFJ++Bb3r//vlk5dulVDWuQWmexVUYNLQ=;
 b=J2Zvf6fIQPT3juzu1ou0+LU46EXcp6cI7MUGt1CELZ7aw/A51+XhDs8TuTZ1wS1ENu
 OzTav1zYbUdWaVZkvph/Ve1yfc13XMbaJMYjHUZFTfQ86Nnv4jkLKInDEJyIPu4zPeP3
 6MwSSOZ3l0/gVuRM/Q2bHmWSq/HamXMO39b6I=
X-Google-DKIM-Signature: v=1; a=rsa-sha256; c=relaxed/relaxed;
 d=1e100.net; s=20230601; t=1721416120; x=1722020920;
 h=references:in-reply-to:cc:to:from:subject:message-id:date
 :x-gm-message-state:from:to:cc:subject:date:message-id:reply-to;
 bh=ABL5fdBP1EVFJ++Bb3r//vlk5dulVDWuQWmexVUYNLQ=;
 b=cS27HUvHoLReEqRqp732KUeya0efBwHLY5MT9O+tInVh0ckQAvS485VMnTD5ZVdXF/
 lIG9o8bSW6rqfQ0yNnzVpngbpvvKkspafviEH0yBti6KXh66ldiglNqOwoUGgqnDyat7
 2zJXpZRJHLmZu/BfEcUqXbukl6Goz4jEcQV1tz0eoMDYV1lYMH9bqrmmusk1XQECpa1A
 PPwDY4mxLPefUgkZg/ZGG0k8bTX5uhX7hpWSLGUkLh+ckD+mmfKkbsBsB9OJaFtMPXoH
 +5jQazln6AasE4u1t52Du3jKfY/CtBgMc7ea1JlKfI+yYwwWXHthiQBeXP/N91CKlXTc
 953A==
X-Gm-Message-State: AOJu0Yw0pgFWcvGvXAVk8fX3t0QhXDQyGwlDReutgUNzNTDjjrxBvSLs
 1IbRMa2/ZrkbY5Fa4Ftoo3zjj5KhbZFHOBc6tFNdtBgt8mNeztFoCWqvwO877hAiut/doaLWjKz
 f0x5/zRdnwuOG6MfXQNRoLXzOg18z/obFuYuo3hEyRChnNF1RA1AweXum
X-Google-Smtp-Source: AGHT+IHMZklI2awvKG+Cox2Rot3vIPtDFAdrCQ6m7NyJFM2ed+vIkwIsjASJ2AvfuHbnXwDRx3/xkMRKNdjg
X-Received: by 2002:a05:6602:3f86:b0:803:b44c:a6d5 with SMTP id
 ca18e2360f4ac-81aa63ef035mr118231739f.10.1721416120013; 
 Fri, 19 Jul 2024 12:08:40 -0700 (PDT)
Received: from postal.iol.unh.edu (postal.iol.unh.edu.
 [2606:4100:3880:1234::84]) by smtp-relay.gmail.com with ESMTPS id
 ca18e2360f4ac-819ac1ca60csm8281339f.15.2024.07.19.12.08.39
 (version=TLS1_2 cipher=ECDHE-ECDSA-AES128-GCM-SHA256 bits=128/128);
 Fri, 19 Jul 2024 12:08:39 -0700 (PDT)
X-Relaying-Domain: iol.unh.edu
Date: Fri, 19 Jul 2024 12:08:39 -0700 (PDT)
Message-ID: <669ab9b7.050a0220.408df.5057SMTPIN_ADDED_MISSING@mx.google.com>
Received: from [172.21.0.7] (unknown [172.18.0.240])
 by postal.iol.unh.edu (Postfix) with ESMTP id 804B760526E2;
 Fri, 19 Jul 2024 15:08:39 -0400 (EDT)
Subject: |PENDING| pw142524-142526 [PATCH] [v3,3/3] net/hns3: fix Rx packet w
From: dpdklab@iol.unh.edu
To: Test Report <test-report@dpdk.org>
Cc: dpdk-test-reports@iol.unh.edu
In-Reply-To: <20240719090415.1513301-4-haijie1@huawei.com>
References: <20240719090415.1513301-4-haijie1@huawei.com>
Content-Type: text/plain
X-BeenThere: test-report@dpdk.org
X-Mailman-Version: 2.1.29
Precedence: list
List-Id: automatic DPDK test reports <test-report.dpdk.org>
List-Unsubscribe: <https://mails.dpdk.org/options/test-report>,
 <mailto:test-report-request@dpdk.org?subject=unsubscribe>
List-Archive: <http://mails.dpdk.org/archives/test-report/>
List-Post: <mailto:test-report@dpdk.org>
List-Help: <mailto:test-report-request@dpdk.org?subject=help>
List-Subscribe: <https://mails.dpdk.org/listinfo/test-report>,
 <mailto:test-report-request@dpdk.org?subject=subscribe>
Errors-To: test-report-bounces@dpdk.org

Test-Label: iol-compile-arm64-testing
Test-Status: PENDING
http://dpdk.org/patch/142526

_Testing pending_

Submitter: Jie Hai <haijie1@huawei.com>
Date: Friday, July 19 2024 09:04:15 
DPDK git baseline: Repo:dpdk
  Branch: master
  CommitID:39fe3417bd7a3e15a2a4f8fa543c6d72ee32eee1

142524-142526 --> testing pending

Upstream job id: Generic-DPDK-Compile-Meson#276722

Test environment and result as below:

+----------------------------------------+--------------------+
|              Environment               | dpdk_meson_compile |
+========================================+====================+
| RHEL9 (ARM)                            | PASS               |
+----------------------------------------+--------------------+
| Ubuntu 20.04 ARM GCC Cross Compile     | PEND               |
+----------------------------------------+--------------------+
| Debian 12 with MUSDK                   | PASS               |
+----------------------------------------+--------------------+
| Fedora 38 (ARM)                        | PASS               |
+----------------------------------------+--------------------+
| Ubuntu 20.04 ARM SVE                   | PASS               |
+----------------------------------------+--------------------+
| Fedora 37 (ARM)                        | PASS               |
+----------------------------------------+--------------------+
| Fedora 39 (ARM)                        | PASS               |
+----------------------------------------+--------------------+
| Ubuntu 22.04 (ARM)                     | PASS               |
+----------------------------------------+--------------------+
| Ubuntu 20.04 aarch32 GCC Cross Compile | PASS               |
+----------------------------------------+--------------------+
| Fedora 39 (ARM Clang)                  | PEND               |
+----------------------------------------+--------------------+
| Ubuntu 20.04 (ARM)                     | PASS               |
+----------------------------------------+--------------------+
| CentOS Stream 9 (ARM)                  | PASS               |
+----------------------------------------+--------------------+
| Fedora 40 (ARM Clang)                  | PASS               |
+----------------------------------------+--------------------+
| Debian 11 (Buster) (ARM)               | PASS               |
+----------------------------------------+--------------------+
| Fedora 40 (ARM)                        | PASS               |
+----------------------------------------+--------------------+
| Debian 12 (arm)                        | PASS               |
+----------------------------------------+--------------------+
| Ubuntu 24.04 (ARM)                     | PASS               |
+----------------------------------------+--------------------+
| Ubuntu 20.04 ARM Clang Cross Compile   | PASS               |
+----------------------------------------+--------------------+
| Fedora 38 (ARM Clang)                  | PEND               |
+----------------------------------------+--------------------+


RHEL9 (ARM)
	Kernel: Depends on container host
	Compiler: gcc 11.4.1

Ubuntu 20.04 ARM GCC Cross Compile
	Kernel: 5.4.0-167-generic
	Compiler: aarch64-linux-gnu-gcc (Ubuntu 9.4.0-1ubuntu1~20.04.2) 9.4.0

Debian 12 with MUSDK
	Kernel: Container Host Kernel
	Compiler: gcc 12.2.0

Fedora 38 (ARM)
	Kernel: Depends on container host
	Compiler: gcc 13.2.1

Ubuntu 20.04 ARM SVE
	Kernel: 5.4.0-167-generic
	Compiler: gcc (Ubuntu 10.5.0-1ubuntu1~20.04) 10.5.0

Fedora 37 (ARM)
	Kernel: Depends on container host
	Compiler: gcc 12.3.1

Fedora 39 (ARM)
	Kernel: Depends on container host
	Compiler: gcc 13.2.1

Ubuntu 22.04 (ARM)
	Kernel: Container Host Kernel
	Compiler: gcc 11.4.0

Ubuntu 20.04 aarch32 GCC Cross Compile
	Kernel: 5.4.0-167-generic
	Compiler: gcc 9.4.0

Fedora 39 (ARM Clang)
	Kernel: Depends on container host
	Compiler: clang 17.0.6

Ubuntu 20.04 (ARM)
	Kernel: Container Host Kernel
	Compiler: gcc 9.4.0

CentOS Stream 9 (ARM)
	Kernel: Container Host Kernel
	Compiler: gcc 11.4.1

Fedora 40 (ARM Clang)
	Kernel: Depends on container host
	Compiler: clang 18.1.6

Debian 11 (Buster) (ARM)
	Kernel: Container Host Kernel
	Compiler: gcc 10.2.1

Fedora 40 (ARM)
	Kernel: Depends on container host
	Compiler: gcc 14.1.1

Debian 12 (arm)
	Kernel: Container Host Kernel
	Compiler: gcc 12.2.0

Ubuntu 24.04 (ARM)
	Kernel: 5.4.0-167-generic
	Compiler: gcc 13.2.0

Ubuntu 20.04 ARM Clang Cross Compile
	Kernel: 5.4.0-72-generic
	Compiler: clang 10.0.0-4ubuntu1

Fedora 38 (ARM Clang)
	Kernel: Depends on container host
	Compiler: clang 16.0.6

To view detailed results, visit:
https://lab.dpdk.org/results/dashboard/patchsets/30563/

UNH-IOL DPDK Community Lab

To manage your email subscriptions, visit: 
https://lab.dpdk.org/results/dashboard/preferences/subscriptions/