From mboxrd@z Thu Jan  1 00:00:00 1970
Return-Path: <test-report-bounces@dpdk.org>
Received: from mails.dpdk.org (mails.dpdk.org [217.70.189.124])
	by inbox.dpdk.org (Postfix) with ESMTP id 1875745656
	for <public@inbox.dpdk.org>; Fri, 19 Jul 2024 21:12:39 +0200 (CEST)
Received: from mails.dpdk.org (localhost [127.0.0.1])
	by mails.dpdk.org (Postfix) with ESMTP id 161B340DD5;
	Fri, 19 Jul 2024 21:12:39 +0200 (CEST)
Received: from mail-yb1-f227.google.com (mail-yb1-f227.google.com
 [209.85.219.227])
 by mails.dpdk.org (Postfix) with ESMTP id 9841C4026B
 for <test-report@dpdk.org>; Fri, 19 Jul 2024 21:12:37 +0200 (CEST)
Received: by mail-yb1-f227.google.com with SMTP id
 3f1490d57ef6-e0875f1e9edso4992276.1
 for <test-report@dpdk.org>; Fri, 19 Jul 2024 12:12:37 -0700 (PDT)
DKIM-Signature: v=1; a=rsa-sha256; c=relaxed/relaxed;
 d=iol.unh.edu; s=unh-iol; t=1721416357; x=1722021157; darn=dpdk.org;
 h=references:in-reply-to:cc:to:from:subject:message-id:date:from:to
 :cc:subject:date:message-id:reply-to;
 bh=dYUrBip7UkDZk9+xl5hN+bzhQofHYKqTN1D4oOsrW9I=;
 b=GObcj58AfH/iXIi6/5b7T3+Crkj8SPLuEODngKtjSeaIEkEFDZSAwMkCSVBUzf8ITW
 Rt1bqjfDwAhngRtnyVRwQ3Tfq/t5388j6Ez6l9oXpXISxP65azMNe6Tv3297pcqB4j9P
 gr0dDhvN0zyAlxv4gezCdFhBcjuN39Wpf0cf0=
X-Google-DKIM-Signature: v=1; a=rsa-sha256; c=relaxed/relaxed;
 d=1e100.net; s=20230601; t=1721416357; x=1722021157;
 h=references:in-reply-to:cc:to:from:subject:message-id:date
 :x-gm-message-state:from:to:cc:subject:date:message-id:reply-to;
 bh=dYUrBip7UkDZk9+xl5hN+bzhQofHYKqTN1D4oOsrW9I=;
 b=nvyukeTKCqyNA3+MKKvk9lf27W45Fh3QLdlybrs52jGGKRxhwCC/tasPxnz+64UIEu
 MsJyl6PUWi1sL3jh+A8bnEioQN4ALobEq7zjcqlyqDNJbZx7/XMt/Bmk8yWxyhUUmb/P
 RaUbzQYKUP6kodcJYNdhNDjZb6qq3jDpQkh6FiBdK0Jx9R7kcRCc1gVj4mraRTaA7I05
 AgvKBGPL3cOFcmK8XRwvIGOBB/xI8a6dyMaQZAQEYtVxXD5Ta5NAlmJh2cm653Y/rrvt
 Yhdaw5FMKzWKBKexQKDTD2n+mUPM19x4gP+bGUvdiXFgKaD26MCSpkvnNFZl9ZSsGFCr
 2b/A==
X-Gm-Message-State: AOJu0YxyhC1GV+7kHr5s7UGACw8xLGsyScnMR2SkJUT4xNLcDJ3bHgyr
 ZV9mx0pOHsROyes4hQSOLVRklLRQ5cXb98hHly++ik5/dVN0JxuG7lzi0ln56AkfEZBn1g8H2tC
 sQvt92RSUccEizweX/gcVjTbxy2mKhxIu0QQ3LNm9WA4yu77uXaZbcW98
X-Google-Smtp-Source: AGHT+IE6x9BdOKxW9qIZWTQmHA1/hDGNPhZJDOJbpooxGXyzksM8OZ6d61B6afUAOSuXwr6wnwHSyldNrKrC
X-Received: by 2002:a25:5f44:0:b0:df7:9946:b32c with SMTP id
 3f1490d57ef6-e087029eb5bmr698257276.29.1721416356883; 
 Fri, 19 Jul 2024 12:12:36 -0700 (PDT)
Received: from postal.iol.unh.edu (postal.iol.unh.edu.
 [2606:4100:3880:1234::84]) by smtp-relay.gmail.com with ESMTPS id
 6a1803df08f44-6b7ac78866dsm801376d6.14.2024.07.19.12.12.36
 (version=TLS1_2 cipher=ECDHE-ECDSA-AES128-GCM-SHA256 bits=128/128);
 Fri, 19 Jul 2024 12:12:36 -0700 (PDT)
X-Relaying-Domain: iol.unh.edu
Date: Fri, 19 Jul 2024 12:12:36 -0700 (PDT)
Message-ID: <669abaa4.050a0220.2ce4eb.4fdbSMTPIN_ADDED_MISSING@mx.google.com>
Received: from [172.21.0.6] (unknown [172.18.0.240])
 by postal.iol.unh.edu (Postfix) with ESMTP id 914F360526E2;
 Fri, 19 Jul 2024 15:12:36 -0400 (EDT)
Subject: |PENDING| pw142523 [PATCH] [v2] net/gve: Update Rx/Tx functions for 
From: dpdklab@iol.unh.edu
To: Test Report <test-report@dpdk.org>
Cc: dpdk-test-reports@iol.unh.edu
In-Reply-To: <1721364722-2387983-1-git-send-email-tathagat.dpdk@gmail.com>
References: <1721364722-2387983-1-git-send-email-tathagat.dpdk@gmail.com>
Content-Type: text/plain
X-BeenThere: test-report@dpdk.org
X-Mailman-Version: 2.1.29
Precedence: list
List-Id: automatic DPDK test reports <test-report.dpdk.org>
List-Unsubscribe: <https://mails.dpdk.org/options/test-report>,
 <mailto:test-report-request@dpdk.org?subject=unsubscribe>
List-Archive: <http://mails.dpdk.org/archives/test-report/>
List-Post: <mailto:test-report@dpdk.org>
List-Help: <mailto:test-report-request@dpdk.org?subject=help>
List-Subscribe: <https://mails.dpdk.org/listinfo/test-report>,
 <mailto:test-report-request@dpdk.org?subject=subscribe>
Errors-To: test-report-bounces@dpdk.org

Test-Label: iol-compile-arm64-testing
Test-Status: PENDING
http://dpdk.org/patch/142523

_Testing pending_

Submitter: priyadarshitathagat <tathagat.dpdk@gmail.com>
Date: Friday, July 19 2024 04:52:02 
DPDK git baseline: Repo:dpdk
  Branch: master
  CommitID:39fe3417bd7a3e15a2a4f8fa543c6d72ee32eee1

142523 --> testing pending

Upstream job id: Generic-DPDK-Compile-Meson#276742

Test environment and result as below:

+----------------------------------------+--------------------+
|              Environment               | dpdk_meson_compile |
+========================================+====================+
| RHEL9 (ARM)                            | PASS               |
+----------------------------------------+--------------------+
| Ubuntu 20.04 ARM GCC Cross Compile     | PASS               |
+----------------------------------------+--------------------+
| Ubuntu 20.04 ARM SVE                   | PASS               |
+----------------------------------------+--------------------+
| Debian 12 with MUSDK                   | PASS               |
+----------------------------------------+--------------------+
| Fedora 37 (ARM)                        | PASS               |
+----------------------------------------+--------------------+
| Fedora 38 (ARM)                        | PASS               |
+----------------------------------------+--------------------+
| Fedora 38 (ARM Clang)                  | PEND               |
+----------------------------------------+--------------------+
| Fedora 39 (ARM)                        | PASS               |
+----------------------------------------+--------------------+
| Fedora 39 (ARM Clang)                  | PEND               |
+----------------------------------------+--------------------+
| Fedora 40 (ARM)                        | PASS               |
+----------------------------------------+--------------------+
| Fedora 40 (ARM Clang)                  | PEND               |
+----------------------------------------+--------------------+
| Ubuntu 20.04 (ARM)                     | PASS               |
+----------------------------------------+--------------------+
| Ubuntu 22.04 (ARM)                     | PASS               |
+----------------------------------------+--------------------+
| Ubuntu 24.04 (ARM)                     | PASS               |
+----------------------------------------+--------------------+
| CentOS Stream 9 (ARM)                  | PASS               |
+----------------------------------------+--------------------+
| Debian 11 (Buster) (ARM)               | PASS               |
+----------------------------------------+--------------------+
| Debian 12 (arm)                        | PEND               |
+----------------------------------------+--------------------+
| Ubuntu 20.04 ARM Clang Cross Compile   | PEND               |
+----------------------------------------+--------------------+
| Ubuntu 20.04 aarch32 GCC Cross Compile | PEND               |
+----------------------------------------+--------------------+


RHEL9 (ARM)
	Kernel: Depends on container host
	Compiler: gcc 11.4.1

Ubuntu 20.04 ARM GCC Cross Compile
	Kernel: 5.4.0-167-generic
	Compiler: aarch64-linux-gnu-gcc (Ubuntu 9.4.0-1ubuntu1~20.04.2) 9.4.0

Ubuntu 20.04 ARM SVE
	Kernel: 5.4.0-167-generic
	Compiler: gcc (Ubuntu 10.5.0-1ubuntu1~20.04) 10.5.0

Debian 12 with MUSDK
	Kernel: Container Host Kernel
	Compiler: gcc 12.2.0

Fedora 37 (ARM)
	Kernel: Depends on container host
	Compiler: gcc 12.3.1

Fedora 38 (ARM)
	Kernel: Depends on container host
	Compiler: gcc 13.2.1

Fedora 38 (ARM Clang)
	Kernel: Depends on container host
	Compiler: clang 16.0.6

Fedora 39 (ARM)
	Kernel: Depends on container host
	Compiler: gcc 13.2.1

Fedora 39 (ARM Clang)
	Kernel: Depends on container host
	Compiler: clang 17.0.6

Fedora 40 (ARM)
	Kernel: Depends on container host
	Compiler: gcc 14.1.1

Fedora 40 (ARM Clang)
	Kernel: Depends on container host
	Compiler: clang 18.1.6

Ubuntu 20.04 (ARM)
	Kernel: Container Host Kernel
	Compiler: gcc 9.4.0

Ubuntu 22.04 (ARM)
	Kernel: Container Host Kernel
	Compiler: gcc 11.4.0

Ubuntu 24.04 (ARM)
	Kernel: 5.4.0-167-generic
	Compiler: gcc 13.2.0

CentOS Stream 9 (ARM)
	Kernel: Container Host Kernel
	Compiler: gcc 11.4.1

Debian 11 (Buster) (ARM)
	Kernel: Container Host Kernel
	Compiler: gcc 10.2.1

Debian 12 (arm)
	Kernel: Container Host Kernel
	Compiler: gcc 12.2.0

Ubuntu 20.04 ARM Clang Cross Compile
	Kernel: 5.4.0-72-generic
	Compiler: clang 10.0.0-4ubuntu1

Ubuntu 20.04 aarch32 GCC Cross Compile
	Kernel: 5.4.0-167-generic
	Compiler: gcc 9.4.0

To view detailed results, visit:
https://lab.dpdk.org/results/dashboard/patchsets/30562/

UNH-IOL DPDK Community Lab

To manage your email subscriptions, visit: 
https://lab.dpdk.org/results/dashboard/preferences/subscriptions/