From mboxrd@z Thu Jan  1 00:00:00 1970
Return-Path: <test-report-bounces@dpdk.org>
Received: from mails.dpdk.org (mails.dpdk.org [217.70.189.124])
	by inbox.dpdk.org (Postfix) with ESMTP id 47EBB45658
	for <public@inbox.dpdk.org>; Fri, 19 Jul 2024 22:15:07 +0200 (CEST)
Received: from mails.dpdk.org (localhost [127.0.0.1])
	by mails.dpdk.org (Postfix) with ESMTP id 4305540DD5;
	Fri, 19 Jul 2024 22:15:07 +0200 (CEST)
Received: from mail-ot1-f98.google.com (mail-ot1-f98.google.com
 [209.85.210.98]) by mails.dpdk.org (Postfix) with ESMTP id 7CE034026B
 for <test-report@dpdk.org>; Fri, 19 Jul 2024 22:15:06 +0200 (CEST)
Received: by mail-ot1-f98.google.com with SMTP id
 46e09a7af769-7035e281970so1087933a34.0
 for <test-report@dpdk.org>; Fri, 19 Jul 2024 13:15:06 -0700 (PDT)
DKIM-Signature: v=1; a=rsa-sha256; c=relaxed/relaxed;
 d=iol.unh.edu; s=unh-iol; t=1721420106; x=1722024906; darn=dpdk.org;
 h=references:in-reply-to:cc:to:from:subject:message-id:date:from:to
 :cc:subject:date:message-id:reply-to;
 bh=Nnm1daVDCVwfxMXBuL0jsy962B8jd6nDo+UTnRHWHZ8=;
 b=LKLzA2MDyMJ0EqCSganskLllOkqQ7wxB6cOIHKSpsklfTIMeKXP2o6iLuXl3SIKNT1
 /Ld3ctzXci4Fm/StZ3yeqvgDRjhmF/upEGFULGSJDjqUWOjKNszOZGM03bYZmRHm6wmW
 TDEwKN4xsJcR5D/xPkZEjoSLBIZpVllylcjWs=
X-Google-DKIM-Signature: v=1; a=rsa-sha256; c=relaxed/relaxed;
 d=1e100.net; s=20230601; t=1721420106; x=1722024906;
 h=references:in-reply-to:cc:to:from:subject:message-id:date
 :x-gm-message-state:from:to:cc:subject:date:message-id:reply-to;
 bh=Nnm1daVDCVwfxMXBuL0jsy962B8jd6nDo+UTnRHWHZ8=;
 b=AN755CYKq8SLlw4d/Nha6dv5AAKk2vExO3onPqmCq6t/eDZ0EfJFQG32G1H/bVb/C4
 K1vrkElfQsMjnl4FoUZvVdcVqdhZERjLeq8kR8IF2Plr+DaNgPdQdnnk0erJH56NbdEJ
 xlrDIaIMbb+WKzTaZ6VdpDocFHz9VWvuuX5073HCuf474eUmTch6tFASI0mMwGi08k+6
 dKUP9C1+K3lq2QGfvb2yjkBK+vEk7JMWhfClmPiWf+Tk0bDcpl1i+EYmCMF5c+Uo3/h/
 Sj23YQix4DBoZ8LGsfNhyGhfGxuVZ7rhF3QEGCoijoyxDJKfLArg5bEJYozIZTyS1H6b
 zJyQ==
X-Gm-Message-State: AOJu0YxNPELcJsobHCX2x0QAaqKsHUbbq9EiWzDYLZtLpW8M1GS1Nxcs
 Mz+Z+yK2zpJR95fG2JEtOMJZNdULfLGe60/Im6VhwBpKXYp0jnLvIOGj7YJ41B75WpK3jnKuhll
 p+oNfPAjmYopMoIjGi4cvbyd5nIDDF+UmifKlrptx
X-Google-Smtp-Source: AGHT+IFZSDyIUGzvmJKhezv2sWOvYTZRiHtoACkpna5wtpWVcrocFDEyZdznb1dZzIkZKyB1vZsYBvoddHxG
X-Received: by 2002:a05:6870:9a1e:b0:260:25ef:c5a0 with SMTP id
 586e51a60fabf-26121b1ee70mr402957fac.5.1721420105727; 
 Fri, 19 Jul 2024 13:15:05 -0700 (PDT)
Received: from postal.iol.unh.edu (postal.iol.unh.edu. [132.177.123.84])
 by smtp-relay.gmail.com with ESMTPS id
 586e51a60fabf-2610cb483e3sm110918fac.45.2024.07.19.13.15.05
 (version=TLS1_2 cipher=ECDHE-ECDSA-AES128-GCM-SHA256 bits=128/128);
 Fri, 19 Jul 2024 13:15:05 -0700 (PDT)
X-Relaying-Domain: iol.unh.edu
Date: Fri, 19 Jul 2024 13:15:05 -0700 (PDT)
Message-ID: <669ac949.050a0220.cbf71.6d5bSMTPIN_ADDED_MISSING@mx.google.com>
Received: from [172.21.0.9] (unknown [172.18.0.240])
 by postal.iol.unh.edu (Postfix) with ESMTP id 5522C60526E2;
 Fri, 19 Jul 2024 16:15:05 -0400 (EDT)
Subject: |PENDING| pw142557 [PATCH] net/ice: fix DCF init for E830 devices
From: dpdklab@iol.unh.edu
To: Test Report <test-report@dpdk.org>
Cc: dpdk-test-reports@iol.unh.edu
In-Reply-To: <20240719134427.10512-1-ian.stokes@intel.com>
References: <20240719134427.10512-1-ian.stokes@intel.com>
Content-Type: text/plain
X-BeenThere: test-report@dpdk.org
X-Mailman-Version: 2.1.29
Precedence: list
List-Id: automatic DPDK test reports <test-report.dpdk.org>
List-Unsubscribe: <https://mails.dpdk.org/options/test-report>,
 <mailto:test-report-request@dpdk.org?subject=unsubscribe>
List-Archive: <http://mails.dpdk.org/archives/test-report/>
List-Post: <mailto:test-report@dpdk.org>
List-Help: <mailto:test-report-request@dpdk.org?subject=help>
List-Subscribe: <https://mails.dpdk.org/listinfo/test-report>,
 <mailto:test-report-request@dpdk.org?subject=subscribe>
Errors-To: test-report-bounces@dpdk.org

Test-Label: iol-unit-amd64-testing
Test-Status: PENDING
http://dpdk.org/patch/142557

_Testing pending_

Submitter: Ian Stokes <ian.stokes@intel.com>
Date: Friday, July 19 2024 13:44:27 
DPDK git baseline: Repo:dpdk
  Branch: master
  CommitID:fa8d2f7f28524a6c8defa3dcd94f5aa131aae084

142557 --> testing pending

Upstream job id: Generic-Unit-Test-DPDK#242046

Test environment and result as below:

+---------------------+----------------+
|     Environment     | dpdk_unit_test |
+=====================+================+
| Windows Server 2022 | PASS           |
+---------------------+----------------+
| CentOS Stream 8     | PASS           |
+---------------------+----------------+
| CentOS Stream 9     | PASS           |
+---------------------+----------------+
| Debian Bullseye     | PASS           |
+---------------------+----------------+
| Fedora 37           | PASS           |
+---------------------+----------------+
| Debian 12           | PASS           |
+---------------------+----------------+
| Fedora 38           | PASS           |
+---------------------+----------------+
| Windows Server 2019 | PASS           |
+---------------------+----------------+
| Fedora 38 (Clang)   | PEND           |
+---------------------+----------------+
| Fedora 39           | PEND           |
+---------------------+----------------+
| RHEL8               | PASS           |
+---------------------+----------------+
| Fedora 40 (Clang)   | PEND           |
+---------------------+----------------+
| Ubuntu 24.04        | PASS           |
+---------------------+----------------+
| Fedora 39 (Clang)   | PEND           |
+---------------------+----------------+
| Fedora 40           | PEND           |
+---------------------+----------------+
| openSUSE Leap 15    | PEND           |
+---------------------+----------------+
| Ubuntu 20.04        | PEND           |
+---------------------+----------------+
| Ubuntu 22.04        | PEND           |
+---------------------+----------------+
| RHEL9               | PEND           |
+---------------------+----------------+


Windows Server 2022
	Kernel: 10.0.20348.2031
	Compiler: clang 15.0.7, gcc 8.1.0 (MinGW), and MSVC VS 17.9

CentOS Stream 8
	Kernel: 5.4.0-167-generic
	Compiler: gcc 8.5.0 20210514

CentOS Stream 9
	Kernel: 5.4.0-167-generic
	Compiler: gcc 11.4.1 20230605

Debian Bullseye
	Kernel: 5.4.0-167-generic
	Compiler: gcc 10.2.1-6

Fedora 37
	Kernel: Depends on container host system
	Compiler: gcc 12.3.1

Debian 12
	Kernel: Container Host Kernel
	Compiler: gcc 12.2.0

Fedora 38
	Kernel: Depends on container host
	Compiler: gcc 13.2.1

Windows Server 2019
	Kernel: 10.0.17763
	Compiler: clang 14.0 and gcc 8.1.0 (MinGW)

Fedora 38 (Clang)
	Kernel: Depends on container host
	Compiler: clang 16.0.6

Fedora 39
	Kernel: Depends on container host
	Compiler: gcc 13.2.1

RHEL8
	Kernel: 5.4.0-167-generic
	Compiler: gcc 8.5.0 20210514 (Red Hat 8.5.0-20)

Fedora 40 (Clang)
	Kernel: Depends on container host
	Compiler: clang 18.1.6

Ubuntu 24.04
	Kernel: 5.4.0-167-generic
	Compiler: gcc 13.2.0

Fedora 39 (Clang)
	Kernel: Depends on container host
	Compiler: clang 17.0.6

Fedora 40
	Kernel: Depends on container host
	Compiler: gcc 14.1.1

openSUSE Leap 15
	Kernel: 5.4.0-167-generic
	Compiler: gcc 7.5.0

Ubuntu 20.04
	Kernel: 5.4.0-167-generic
	Compiler: gcc 9.4.0-1ubuntu1~20.04.1

Ubuntu 22.04
	Kernel: 5.4.0-167-generic
	Compiler: gcc 11.4.0

RHEL9
	Kernel: Depends on container host
	Compiler: gcc 11.4.1

To view detailed results, visit:
https://lab.dpdk.org/results/dashboard/patchsets/30565/

UNH-IOL DPDK Community Lab

To manage your email subscriptions, visit: 
https://lab.dpdk.org/results/dashboard/preferences/subscriptions/