From mboxrd@z Thu Jan  1 00:00:00 1970
Return-Path: <test-report-bounces@dpdk.org>
Received: from mails.dpdk.org (mails.dpdk.org [217.70.189.124])
	by inbox.dpdk.org (Postfix) with ESMTP id 89A404566A
	for <public@inbox.dpdk.org>; Sun, 21 Jul 2024 05:16:20 +0200 (CEST)
Received: from mails.dpdk.org (localhost [127.0.0.1])
	by mails.dpdk.org (Postfix) with ESMTP id 819984014F;
	Sun, 21 Jul 2024 05:16:20 +0200 (CEST)
Received: from mail-vk1-f225.google.com (mail-vk1-f225.google.com
 [209.85.221.225])
 by mails.dpdk.org (Postfix) with ESMTP id 542BE40041
 for <test-report@dpdk.org>; Sun, 21 Jul 2024 05:16:16 +0200 (CEST)
Received: by mail-vk1-f225.google.com with SMTP id
 71dfb90a1353d-4ef2006dcdbso1048501e0c.3
 for <test-report@dpdk.org>; Sat, 20 Jul 2024 20:16:16 -0700 (PDT)
DKIM-Signature: v=1; a=rsa-sha256; c=relaxed/relaxed;
 d=iol.unh.edu; s=unh-iol; t=1721531775; x=1722136575; darn=dpdk.org;
 h=references:in-reply-to:cc:to:from:subject:message-id:date:from:to
 :cc:subject:date:message-id:reply-to;
 bh=z6+oWK8VgoxiTxfB2RhaZ65aYhs6s46Eb9+AIudLdTQ=;
 b=WRoEg5IOHwy0ktHnjRpAwny74Vo27EWvpggoIZfYwlPnEKq/VGr9xF4Zrn5qgwQ/kx
 EZwU3mizb9nN3rLLo9goy0i6CGFeaBFlgDVj4iyhzsErJHMXmE3p++AGpm96FLtlkeyf
 3AbM1QB/qWvj6zyIDV62Ry9gOdzJDbXGe/Idk=
X-Google-DKIM-Signature: v=1; a=rsa-sha256; c=relaxed/relaxed;
 d=1e100.net; s=20230601; t=1721531775; x=1722136575;
 h=references:in-reply-to:cc:to:from:subject:message-id:date
 :x-gm-message-state:from:to:cc:subject:date:message-id:reply-to;
 bh=z6+oWK8VgoxiTxfB2RhaZ65aYhs6s46Eb9+AIudLdTQ=;
 b=O0rmofDfIRpSzNCF0fAlCj3na5dfcZ/MqlUm6Z+/dcp/0KwiuXaQN77XhOC0G3jry+
 uopzM51lm7Rl7akA/4iXoJ1WRUOBIiEhd1V8860ucQDZHdtZSTaGDzP/2bf2m1a35OYr
 1d3fOLqY8s1+e+RUbaf2ZOjYSVyR5Yrztr8dTN04cqkcvnNfLG2OytY0MUTrauESQV52
 bywq1B76kzutLj56UYN3nSIcx6WSW5vlI7Ce5spYs2RJJj+ljD0kpHqrNSlkn1bf65xX
 1qmoHysLdKrxqbpYa915hyYZ7WiAvnczvJCXR0qrVYknZW1bK/Se5DBxC5xxB5/kYofw
 WL7Q==
X-Gm-Message-State: AOJu0YygXNYQnvWWvlZYH7NfRGSfqy8bFIV7tB6nS678sHKbZXeK+Hm4
 gSC4mVY/h+/J4o8eKO0fipeG2cGtv8mi8tJxyu6xm8r0fJNzQisouz14vKafvdGeyT2h4KmeQbj
 +p/HsJ5dTEh+lm681tQFD+iLH8Vtg0ZIEhEQIDd1L
X-Google-Smtp-Source: AGHT+IGTLVs4mnNSjmbhhl/LNXClDmI3HMoy4A+21ijM0pqhutt/i1kK73vzEBWEPg+dxTWefIuMcNA1wrKB
X-Received: by 2002:a05:6122:3389:b0:4f5:1a15:b9cd with SMTP id
 71dfb90a1353d-4f51a15bccdmr892640e0c.10.1721531775274; 
 Sat, 20 Jul 2024 20:16:15 -0700 (PDT)
Received: from postal.iol.unh.edu (postal.iol.unh.edu. [132.177.123.84])
 by smtp-relay.gmail.com with ESMTPS id
 71dfb90a1353d-4f4fa006120sm247374e0c.10.2024.07.20.20.16.15
 (version=TLS1_2 cipher=ECDHE-ECDSA-AES128-GCM-SHA256 bits=128/128);
 Sat, 20 Jul 2024 20:16:15 -0700 (PDT)
X-Relaying-Domain: iol.unh.edu
Date: Sat, 20 Jul 2024 20:16:15 -0700 (PDT)
Message-ID: <669c7d7f.050a0220.8f0f7.15c7SMTPIN_ADDED_MISSING@mx.google.com>
Received: from [172.21.0.8] (unknown [172.18.0.240])
 by postal.iol.unh.edu (Postfix) with ESMTP id E96366052500;
 Sat, 20 Jul 2024 23:16:14 -0400 (EDT)
Subject: |PENDING| pw142563 [PATCH] power: fix number of uncore freqs
From: dpdklab@iol.unh.edu
To: Test Report <test-report@dpdk.org>
Cc: dpdk-test-reports@iol.unh.edu
In-Reply-To: <20240721021806.67465-1-stephen@networkplumber.org>
References: <20240721021806.67465-1-stephen@networkplumber.org>
Content-Type: text/plain
X-BeenThere: test-report@dpdk.org
X-Mailman-Version: 2.1.29
Precedence: list
List-Id: automatic DPDK test reports <test-report.dpdk.org>
List-Unsubscribe: <https://mails.dpdk.org/options/test-report>,
 <mailto:test-report-request@dpdk.org?subject=unsubscribe>
List-Archive: <http://mails.dpdk.org/archives/test-report/>
List-Post: <mailto:test-report@dpdk.org>
List-Help: <mailto:test-report-request@dpdk.org?subject=help>
List-Subscribe: <https://mails.dpdk.org/listinfo/test-report>,
 <mailto:test-report-request@dpdk.org?subject=subscribe>
Errors-To: test-report-bounces@dpdk.org

Test-Label: iol-abi-testing
Test-Status: PENDING
http://dpdk.org/patch/142563

_Testing pending_

Submitter: Stephen Hemminger <stephen@networkplumber.org>
Date: Sunday, July 21 2024 02:18:06 
DPDK git baseline: Repo:dpdk
  Branch: master
  CommitID:fa8d2f7f28524a6c8defa3dcd94f5aa131aae084

142563 --> testing pending

Upstream job id: Generic-DPDK-Compile-ABI#99602

Test environment and result as below:

+-------------------+----------+
|    Environment    | abi_test |
+===================+==========+
| CentOS Stream 8   | PASS     |
+-------------------+----------+
| CentOS Stream 9   | PASS     |
+-------------------+----------+
| Debian Bullseye   | PASS     |
+-------------------+----------+
| Debian 12         | PASS     |
+-------------------+----------+
| Fedora 37         | PEND     |
+-------------------+----------+
| Fedora 38 (Clang) | PASS     |
+-------------------+----------+
| Fedora 38         | PASS     |
+-------------------+----------+
| Fedora 39 (Clang) | PASS     |
+-------------------+----------+
| openSUSE Leap 15  | PASS     |
+-------------------+----------+
| Fedora 39         | PASS     |
+-------------------+----------+
| Fedora 40         | PEND     |
+-------------------+----------+
| RHEL9             | PASS     |
+-------------------+----------+
| RHEL8             | PASS     |
+-------------------+----------+
| Ubuntu 22.04      | PASS     |
+-------------------+----------+
| Ubuntu 24.04      | PASS     |
+-------------------+----------+
| Fedora 40 (Clang) | PEND     |
+-------------------+----------+


CentOS Stream 8
	Kernel: 5.4.0-167-generic
	Compiler: gcc 8.5.0 20210514

CentOS Stream 9
	Kernel: 5.4.0-167-generic
	Compiler: gcc 11.4.1 20230605

Debian Bullseye
	Kernel: 5.4.0-167-generic
	Compiler: gcc 10.2.1-6

Debian 12
	Kernel: Container Host Kernel
	Compiler: gcc 12.2.0

Fedora 37
	Kernel: Depends on container host system
	Compiler: gcc 12.3.1

Fedora 38 (Clang)
	Kernel: Depends on container host
	Compiler: clang 16.0.6

Fedora 38
	Kernel: Depends on container host
	Compiler: gcc 13.2.1

Fedora 39 (Clang)
	Kernel: Depends on container host
	Compiler: clang 17.0.6

openSUSE Leap 15
	Kernel: 5.4.0-167-generic
	Compiler: gcc 7.5.0

Fedora 39
	Kernel: Depends on container host
	Compiler: gcc 13.2.1

Fedora 40
	Kernel: Depends on container host
	Compiler: gcc 14.1.1

RHEL9
	Kernel: Depends on container host
	Compiler: gcc 11.4.1

RHEL8
	Kernel: 5.4.0-167-generic
	Compiler: gcc 8.5.0 20210514 (Red Hat 8.5.0-20)

Ubuntu 22.04
	Kernel: 5.4.0-167-generic
	Compiler: gcc 11.4.0

Ubuntu 24.04
	Kernel: 5.4.0-167-generic
	Compiler: gcc 13.2.0

Fedora 40 (Clang)
	Kernel: Depends on container host
	Compiler: clang 18.1.6

To view detailed results, visit:
https://lab.dpdk.org/results/dashboard/patchsets/30568/

UNH-IOL DPDK Community Lab

To manage your email subscriptions, visit: 
https://lab.dpdk.org/results/dashboard/preferences/subscriptions/