From mboxrd@z Thu Jan  1 00:00:00 1970
Return-Path: <test-report-bounces@dpdk.org>
Received: from mails.dpdk.org (mails.dpdk.org [217.70.189.124])
	by inbox.dpdk.org (Postfix) with ESMTP id 58E6A4566A
	for <public@inbox.dpdk.org>; Sun, 21 Jul 2024 05:55:43 +0200 (CEST)
Received: from mails.dpdk.org (localhost [127.0.0.1])
	by mails.dpdk.org (Postfix) with ESMTP id 5360B4014F;
	Sun, 21 Jul 2024 05:55:43 +0200 (CEST)
Received: from mail-pl1-f228.google.com (mail-pl1-f228.google.com
 [209.85.214.228])
 by mails.dpdk.org (Postfix) with ESMTP id 3AA9C40041
 for <test-report@dpdk.org>; Sun, 21 Jul 2024 05:55:42 +0200 (CEST)
Received: by mail-pl1-f228.google.com with SMTP id
 d9443c01a7336-1fd78c165eeso7711845ad.2
 for <test-report@dpdk.org>; Sat, 20 Jul 2024 20:55:42 -0700 (PDT)
DKIM-Signature: v=1; a=rsa-sha256; c=relaxed/relaxed;
 d=iol.unh.edu; s=unh-iol; t=1721534141; x=1722138941; darn=dpdk.org;
 h=references:in-reply-to:cc:to:from:subject:message-id:date:from:to
 :cc:subject:date:message-id:reply-to;
 bh=frPqH5XcEfy5WtwJI3ESr+CW4rzkhOY+gtgl+HdNFc4=;
 b=JyyX1+ti32PhomZ/vUa4uJvVBorR3UWjUz9DZwOQoZAMgq9T6v9mTZ/nIyVUw36neC
 TFgJf5yYgzlVXLtwDKq1Ltavfas6gEpq3caTmnsBUGzegZjpyHEL2josd2naAnXvrEg8
 Cmr7hkHwIawKHOe3RcMS0yhIlAFivIl0maaZo=
X-Google-DKIM-Signature: v=1; a=rsa-sha256; c=relaxed/relaxed;
 d=1e100.net; s=20230601; t=1721534141; x=1722138941;
 h=references:in-reply-to:cc:to:from:subject:message-id:date
 :x-gm-message-state:from:to:cc:subject:date:message-id:reply-to;
 bh=frPqH5XcEfy5WtwJI3ESr+CW4rzkhOY+gtgl+HdNFc4=;
 b=AsgLAgsQd1OCk/wmbvcm45a2GlZDWt4WAnLAC3IsJFPookj0ejnlRpHAtwF+E7xnb1
 J6TqLji89a+5a6spIHsC8nzIXcAyr3XOpUUaOqqkUukwu2PQAtBxtzo2eWz8kCLHBclJ
 nTwKZfsTpjIMvfQlYXe1uxw6mf1+1aWkpS0rxUHdVn4CI+zC84Qw5VPb5BV2D9LJQewF
 fZJ79zOXSZ1bERGeEzEw6Laoe/Wr7W7zXw4n8Lc3/qOvGysvtQQPf0i9tyxAs/+Kn/us
 vXT0t9eYzntrOOlZHqiE7MxoNNBfPJ9bm/MDf76aTX4duhYNzabGF1PSecRw7J+ho0Cc
 quIg==
X-Gm-Message-State: AOJu0YxaCYONfNRp+jQHGYbuy638ew+IOll9qNqEv+QnfefLebJquDBp
 xQSALHHc9l1tsq09EmFhVlMsxDuCHWI0U+hyfyjgro2VGvZzXZT8L7d44YIBi2ArpEpMpJLUgKn
 YTaeCzKOxi8XQLGYJYJVax5bA+Mx0SNVc9A7ETz8L
X-Google-Smtp-Source: AGHT+IFKaH2s0+UC6nugSY4p0eue+2rkPK71gvHKXS8HDRmkmGZmKAncWlbTIfpH5uw6OsgRldaaIRuzahTC
X-Received: by 2002:a17:902:d58b:b0:1fd:6f08:f7f3 with SMTP id
 d9443c01a7336-1fd7463d3acmr39934655ad.59.1721534141263; 
 Sat, 20 Jul 2024 20:55:41 -0700 (PDT)
Received: from postal.iol.unh.edu (postal.iol.unh.edu. [132.177.123.84])
 by smtp-relay.gmail.com with ESMTPS id
 d9443c01a7336-1fd6f24b38asm1030975ad.5.2024.07.20.20.55.41
 (version=TLS1_2 cipher=ECDHE-ECDSA-AES128-GCM-SHA256 bits=128/128);
 Sat, 20 Jul 2024 20:55:41 -0700 (PDT)
X-Relaying-Domain: iol.unh.edu
Date: Sat, 20 Jul 2024 20:55:41 -0700 (PDT)
Message-ID: <669c86bd.170a0220.98af2.728cSMTPIN_ADDED_MISSING@mx.google.com>
Received: from [172.17.0.2] (unknown [172.18.0.217])
 by postal.iol.unh.edu (Postfix) with ESMTP id 789676052500;
 Sat, 20 Jul 2024 23:55:40 -0400 (EDT)
Subject: |SUCCESS| pw142563 [PATCH] power: fix number of uncore freqs
From: dpdklab@iol.unh.edu
To: Test Report <test-report@dpdk.org>
Cc: dpdk-test-reports@iol.unh.edu
In-Reply-To: <20240721021806.67465-1-stephen@networkplumber.org>
References: <20240721021806.67465-1-stephen@networkplumber.org>
Content-Type: text/plain
X-BeenThere: test-report@dpdk.org
X-Mailman-Version: 2.1.29
Precedence: list
List-Id: automatic DPDK test reports <test-report.dpdk.org>
List-Unsubscribe: <https://mails.dpdk.org/options/test-report>,
 <mailto:test-report-request@dpdk.org?subject=unsubscribe>
List-Archive: <http://mails.dpdk.org/archives/test-report/>
List-Post: <mailto:test-report@dpdk.org>
List-Help: <mailto:test-report-request@dpdk.org?subject=help>
List-Subscribe: <https://mails.dpdk.org/listinfo/test-report>,
 <mailto:test-report-request@dpdk.org?subject=subscribe>
Errors-To: test-report-bounces@dpdk.org

Test-Label: iol-unit-amd64-testing
Test-Status: SUCCESS
http://dpdk.org/patch/142563

_Testing PASS_

Submitter: Stephen Hemminger <stephen@networkplumber.org>
Date: Sunday, July 21 2024 02:18:06 
DPDK git baseline: Repo:dpdk
  Branch: master
  CommitID:fa8d2f7f28524a6c8defa3dcd94f5aa131aae084

142563 --> testing pass

Upstream job id: Generic-Unit-Test-DPDK#242315

Test environment and result as below:

+---------------------+----------------+
|     Environment     | dpdk_unit_test |
+=====================+================+
| Windows Server 2019 | PASS           |
+---------------------+----------------+
| Windows Server 2022 | PASS           |
+---------------------+----------------+
| CentOS Stream 8     | PASS           |
+---------------------+----------------+
| CentOS Stream 9     | PASS           |
+---------------------+----------------+
| Debian Bullseye     | PASS           |
+---------------------+----------------+
| Fedora 37           | PASS           |
+---------------------+----------------+
| Debian 12           | PASS           |
+---------------------+----------------+
| Fedora 38 (Clang)   | PASS           |
+---------------------+----------------+
| Fedora 39           | PASS           |
+---------------------+----------------+
| Fedora 38           | PASS           |
+---------------------+----------------+
| Fedora 39 (Clang)   | PASS           |
+---------------------+----------------+
| Fedora 40           | PASS           |
+---------------------+----------------+
| openSUSE Leap 15    | PASS           |
+---------------------+----------------+
| Fedora 40 (Clang)   | PASS           |
+---------------------+----------------+
| RHEL9               | PASS           |
+---------------------+----------------+
| RHEL8               | PASS           |
+---------------------+----------------+
| Ubuntu 20.04        | PASS           |
+---------------------+----------------+
| Ubuntu 22.04        | PASS           |
+---------------------+----------------+
| Ubuntu 24.04        | PASS           |
+---------------------+----------------+


Windows Server 2019
	Kernel: 10.0.17763
	Compiler: clang 14.0 and gcc 8.1.0 (MinGW)

Windows Server 2022
	Kernel: 10.0.20348.2031
	Compiler: clang 15.0.7, gcc 8.1.0 (MinGW), and MSVC VS 17.9

CentOS Stream 8
	Kernel: 5.4.0-167-generic
	Compiler: gcc 8.5.0 20210514

CentOS Stream 9
	Kernel: 5.4.0-167-generic
	Compiler: gcc 11.4.1 20230605

Debian Bullseye
	Kernel: 5.4.0-167-generic
	Compiler: gcc 10.2.1-6

Fedora 37
	Kernel: Depends on container host system
	Compiler: gcc 12.3.1

Debian 12
	Kernel: Container Host Kernel
	Compiler: gcc 12.2.0

Fedora 38 (Clang)
	Kernel: Depends on container host
	Compiler: clang 16.0.6

Fedora 39
	Kernel: Depends on container host
	Compiler: gcc 13.2.1

Fedora 38
	Kernel: Depends on container host
	Compiler: gcc 13.2.1

Fedora 39 (Clang)
	Kernel: Depends on container host
	Compiler: clang 17.0.6

Fedora 40
	Kernel: Depends on container host
	Compiler: gcc 14.1.1

openSUSE Leap 15
	Kernel: 5.4.0-167-generic
	Compiler: gcc 7.5.0

Fedora 40 (Clang)
	Kernel: Depends on container host
	Compiler: clang 18.1.6

RHEL9
	Kernel: Depends on container host
	Compiler: gcc 11.4.1

RHEL8
	Kernel: 5.4.0-167-generic
	Compiler: gcc 8.5.0 20210514 (Red Hat 8.5.0-20)

Ubuntu 20.04
	Kernel: 5.4.0-167-generic
	Compiler: gcc 9.4.0-1ubuntu1~20.04.1

Ubuntu 22.04
	Kernel: 5.4.0-167-generic
	Compiler: gcc 11.4.0

Ubuntu 24.04
	Kernel: 5.4.0-167-generic
	Compiler: gcc 13.2.0

To view detailed results, visit:
https://lab.dpdk.org/results/dashboard/patchsets/30568/

UNH-IOL DPDK Community Lab

To manage your email subscriptions, visit: 
https://lab.dpdk.org/results/dashboard/preferences/subscriptions/