From mboxrd@z Thu Jan  1 00:00:00 1970
Return-Path: <test-report-bounces@dpdk.org>
Received: from mails.dpdk.org (mails.dpdk.org [217.70.189.124])
	by inbox.dpdk.org (Postfix) with ESMTP id 46DAC4566B
	for <public@inbox.dpdk.org>; Sun, 21 Jul 2024 06:32:32 +0200 (CEST)
Received: from mails.dpdk.org (localhost [127.0.0.1])
	by mails.dpdk.org (Postfix) with ESMTP id BBE51409FA;
	Sun, 21 Jul 2024 06:32:31 +0200 (CEST)
Received: from mail-yw1-f225.google.com (mail-yw1-f225.google.com
 [209.85.128.225])
 by mails.dpdk.org (Postfix) with ESMTP id 7A72440041
 for <test-report@dpdk.org>; Sun, 21 Jul 2024 06:27:15 +0200 (CEST)
Received: by mail-yw1-f225.google.com with SMTP id
 00721157ae682-6510c0c8e29so30483417b3.0
 for <test-report@dpdk.org>; Sat, 20 Jul 2024 21:27:15 -0700 (PDT)
DKIM-Signature: v=1; a=rsa-sha256; c=relaxed/relaxed;
 d=iol.unh.edu; s=unh-iol; t=1721536035; x=1722140835; darn=dpdk.org;
 h=references:in-reply-to:cc:to:from:subject:message-id:date:from:to
 :cc:subject:date:message-id:reply-to;
 bh=1afeR7YQ2lGDFdSfXAFVPqyvMhtD9yfq0MNRCvm9jBc=;
 b=OqKGrkMhPuYxBqfO9ajGhYHGg0EMJ+ygswCeISpNwRPT7oVGFqjgl7IYw5oPeYuBK1
 5NFlZbHOnSYVQnY7NWbi7pOQd0fr1AmHcUcfarsUA1UFkqhzwsq34rqcJo4SOpZ0mrfk
 xr8FrWFE7FIPTqwDPuxZSgEj1srWbe+mvXn1k=
X-Google-DKIM-Signature: v=1; a=rsa-sha256; c=relaxed/relaxed;
 d=1e100.net; s=20230601; t=1721536035; x=1722140835;
 h=references:in-reply-to:cc:to:from:subject:message-id:date
 :x-gm-message-state:from:to:cc:subject:date:message-id:reply-to;
 bh=1afeR7YQ2lGDFdSfXAFVPqyvMhtD9yfq0MNRCvm9jBc=;
 b=U/3mcndDtoQ6iCP04Ec5tJYLh+OrUPilC0m8PvPHdjgTgeWXtsYtrhtHLvDr2rV7vw
 b1navyrgmLSYNyAqeYzoKHSZjponS9u1Kw8I8mPJg2Ti328kMxhHRe/WVND5g3tqfnbs
 5Vs9LQA5oVwCOzrOS3kUcjG6wmRTgxwNIB3D56YlSg6hP2ludhUMfJDvzo1Dac73ASuR
 E2A8XLJgr+H30wsAxlrBnVeZdyy6eh2myQ2uvaMU9Osqj+506cfR9wewG6Fat0/Jx2eZ
 wpRMQ59lAv2fwi9gVde74D3ETIOsIv+neIb4odtV3bg+CGrx2CJW1b0/Z7+vIjwMJuhW
 2xzQ==
X-Gm-Message-State: AOJu0Yyezq9AVDlcWfSjLRfa+OHbT0pSvT19yFZX8PArfUzZln2SAaDP
 qZFCgFFhvO1ym9rvZ0OEBjiBp4VWAmWV+QcwJiKnL4r25XjehiELZjqFG59jFx6zBfRf/y+QFTH
 duFaahnKvWiilptRY3jM4C5R41C9zt+IlV7Oifg4A
X-Google-Smtp-Source: AGHT+IFR5kEuwpqVdKYE8N4ER4BWktHR1Ylfr+EzkK2c61lt2DW4euvtGqMmwonTsKI+CAWmNka+kGSpH1nV
X-Received: by 2002:a81:4424:0:b0:64a:791b:60ce with SMTP id
 00721157ae682-66ad9fee52cmr30206427b3.30.1721536034899; 
 Sat, 20 Jul 2024 21:27:14 -0700 (PDT)
Received: from postal.iol.unh.edu (postal.iol.unh.edu. [132.177.123.84])
 by smtp-relay.gmail.com with ESMTPS id
 00721157ae682-66953ec6672sm1300527b3.64.2024.07.20.21.27.14
 (version=TLS1_2 cipher=ECDHE-ECDSA-AES128-GCM-SHA256 bits=128/128);
 Sat, 20 Jul 2024 21:27:14 -0700 (PDT)
X-Relaying-Domain: iol.unh.edu
Date: Sat, 20 Jul 2024 21:27:14 -0700 (PDT)
Message-ID: <669c8e22.810a0220.245355.7da7SMTPIN_ADDED_MISSING@mx.google.com>
Received: from [172.21.0.6] (unknown [172.18.0.240])
 by postal.iol.unh.edu (Postfix) with ESMTP id 8A23B6052500;
 Sun, 21 Jul 2024 00:27:14 -0400 (EDT)
Subject: |SUCCESS| pw142563 [PATCH] power: fix number of uncore freqs
From: dpdklab@iol.unh.edu
To: Test Report <test-report@dpdk.org>
Cc: dpdk-test-reports@iol.unh.edu
In-Reply-To: <20240721021806.67465-1-stephen@networkplumber.org>
References: <20240721021806.67465-1-stephen@networkplumber.org>
Content-Type: text/plain
X-BeenThere: test-report@dpdk.org
X-Mailman-Version: 2.1.29
Precedence: list
List-Id: automatic DPDK test reports <test-report.dpdk.org>
List-Unsubscribe: <https://mails.dpdk.org/options/test-report>,
 <mailto:test-report-request@dpdk.org?subject=unsubscribe>
List-Archive: <http://mails.dpdk.org/archives/test-report/>
List-Post: <mailto:test-report@dpdk.org>
List-Help: <mailto:test-report-request@dpdk.org?subject=help>
List-Subscribe: <https://mails.dpdk.org/listinfo/test-report>,
 <mailto:test-report-request@dpdk.org?subject=subscribe>
Errors-To: test-report-bounces@dpdk.org

Test-Label: iol-compile-arm64-testing
Test-Status: SUCCESS
http://dpdk.org/patch/142563

_Testing PASS_

Submitter: Stephen Hemminger <stephen@networkplumber.org>
Date: Sunday, July 21 2024 02:18:06 
DPDK git baseline: Repo:dpdk
  Branch: master
  CommitID:fa8d2f7f28524a6c8defa3dcd94f5aa131aae084

142563 --> testing pass

Upstream job id: Generic-DPDK-Compile-Meson#277120

Test environment and result as below:

+----------------------------------------+--------------------+
|              Environment               | dpdk_meson_compile |
+========================================+====================+
| RHEL9 (ARM)                            | PASS               |
+----------------------------------------+--------------------+
| Ubuntu 20.04 ARM SVE                   | PASS               |
+----------------------------------------+--------------------+
| Ubuntu 20.04 ARM GCC Cross Compile     | PASS               |
+----------------------------------------+--------------------+
| Fedora 37 (ARM)                        | PASS               |
+----------------------------------------+--------------------+
| Debian 12 with MUSDK                   | PASS               |
+----------------------------------------+--------------------+
| Fedora 38 (ARM Clang)                  | PASS               |
+----------------------------------------+--------------------+
| Fedora 39 (ARM)                        | PASS               |
+----------------------------------------+--------------------+
| Fedora 38 (ARM)                        | PASS               |
+----------------------------------------+--------------------+
| Ubuntu 20.04 (ARM)                     | PASS               |
+----------------------------------------+--------------------+
| Fedora 40 (ARM)                        | PASS               |
+----------------------------------------+--------------------+
| Ubuntu 22.04 (ARM)                     | PASS               |
+----------------------------------------+--------------------+
| Fedora 40 (ARM Clang)                  | PASS               |
+----------------------------------------+--------------------+
| Fedora 39 (ARM Clang)                  | PASS               |
+----------------------------------------+--------------------+
| Debian 11 (Buster) (ARM)               | PASS               |
+----------------------------------------+--------------------+
| Ubuntu 24.04 (ARM)                     | PASS               |
+----------------------------------------+--------------------+
| CentOS Stream 9 (ARM)                  | PASS               |
+----------------------------------------+--------------------+
| Debian 12 (arm)                        | PASS               |
+----------------------------------------+--------------------+
| Ubuntu 20.04 ARM Clang Cross Compile   | PASS               |
+----------------------------------------+--------------------+
| Ubuntu 20.04 aarch32 GCC Cross Compile | PASS               |
+----------------------------------------+--------------------+


RHEL9 (ARM)
	Kernel: Depends on container host
	Compiler: gcc 11.4.1

Ubuntu 20.04 ARM SVE
	Kernel: 5.4.0-167-generic
	Compiler: gcc (Ubuntu 10.5.0-1ubuntu1~20.04) 10.5.0

Ubuntu 20.04 ARM GCC Cross Compile
	Kernel: 5.4.0-167-generic
	Compiler: aarch64-linux-gnu-gcc (Ubuntu 9.4.0-1ubuntu1~20.04.2) 9.4.0

Fedora 37 (ARM)
	Kernel: Depends on container host
	Compiler: gcc 12.3.1

Debian 12 with MUSDK
	Kernel: Container Host Kernel
	Compiler: gcc 12.2.0

Fedora 38 (ARM Clang)
	Kernel: Depends on container host
	Compiler: clang 16.0.6

Fedora 39 (ARM)
	Kernel: Depends on container host
	Compiler: gcc 13.2.1

Fedora 38 (ARM)
	Kernel: Depends on container host
	Compiler: gcc 13.2.1

Ubuntu 20.04 (ARM)
	Kernel: Container Host Kernel
	Compiler: gcc 9.4.0

Fedora 40 (ARM)
	Kernel: Depends on container host
	Compiler: gcc 14.1.1

Ubuntu 22.04 (ARM)
	Kernel: Container Host Kernel
	Compiler: gcc 11.4.0

Fedora 40 (ARM Clang)
	Kernel: Depends on container host
	Compiler: clang 18.1.6

Fedora 39 (ARM Clang)
	Kernel: Depends on container host
	Compiler: clang 17.0.6

Debian 11 (Buster) (ARM)
	Kernel: Container Host Kernel
	Compiler: gcc 10.2.1

Ubuntu 24.04 (ARM)
	Kernel: 5.4.0-167-generic
	Compiler: gcc 13.2.0

CentOS Stream 9 (ARM)
	Kernel: Container Host Kernel
	Compiler: gcc 11.4.1

Debian 12 (arm)
	Kernel: Container Host Kernel
	Compiler: gcc 12.2.0

Ubuntu 20.04 ARM Clang Cross Compile
	Kernel: 5.4.0-72-generic
	Compiler: clang 10.0.0-4ubuntu1

Ubuntu 20.04 aarch32 GCC Cross Compile
	Kernel: 5.4.0-167-generic
	Compiler: gcc 9.4.0

To view detailed results, visit:
https://lab.dpdk.org/results/dashboard/patchsets/30568/

UNH-IOL DPDK Community Lab

To manage your email subscriptions, visit: 
https://lab.dpdk.org/results/dashboard/preferences/subscriptions/