From mboxrd@z Thu Jan  1 00:00:00 1970
Return-Path: <test-report-bounces@dpdk.org>
Received: from mails.dpdk.org (mails.dpdk.org [217.70.189.124])
	by inbox.dpdk.org (Postfix) with ESMTP id 5F39B45674
	for <public@inbox.dpdk.org>; Sun, 21 Jul 2024 12:28:19 +0200 (CEST)
Received: from mails.dpdk.org (localhost [127.0.0.1])
	by mails.dpdk.org (Postfix) with ESMTP id 5672E402DD;
	Sun, 21 Jul 2024 12:28:19 +0200 (CEST)
Received: from mail-vk1-f227.google.com (mail-vk1-f227.google.com
 [209.85.221.227])
 by mails.dpdk.org (Postfix) with ESMTP id F2BC94014F
 for <test-report@dpdk.org>; Sun, 21 Jul 2024 12:28:17 +0200 (CEST)
Received: by mail-vk1-f227.google.com with SMTP id
 71dfb90a1353d-4f51af903a7so225796e0c.1
 for <test-report@dpdk.org>; Sun, 21 Jul 2024 03:28:17 -0700 (PDT)
DKIM-Signature: v=1; a=rsa-sha256; c=relaxed/relaxed;
 d=iol.unh.edu; s=unh-iol; t=1721557697; x=1722162497; darn=dpdk.org;
 h=references:in-reply-to:cc:to:from:subject:message-id:date:from:to
 :cc:subject:date:message-id:reply-to;
 bh=KWxl82Z90Hx9CtN3d1nU3NqyGtCGDXUzaqTaV3RtfAc=;
 b=MGOeF8To6BaYhtHLA7rY38Xpm4C3GuA5sXuUTsrfxPO+KsPfzR5Yc2R1ogLGHDHCUm
 dgsDD4iD2MXfwkKO7ErDv3Z9w5FDpo7TSA9T/HbDMcIknIa+6KqJYxGTac1bFCwgbQ5i
 bxLzp72PLrrcXofANu+kf+D3EL7KyQwP1NSq4=
X-Google-DKIM-Signature: v=1; a=rsa-sha256; c=relaxed/relaxed;
 d=1e100.net; s=20230601; t=1721557697; x=1722162497;
 h=references:in-reply-to:cc:to:from:subject:message-id:date
 :x-gm-message-state:from:to:cc:subject:date:message-id:reply-to;
 bh=KWxl82Z90Hx9CtN3d1nU3NqyGtCGDXUzaqTaV3RtfAc=;
 b=dkKpHMeRqUKtkxm7rGcbxvxgi8i8TlqLnEjkJd1Ay3p9yALtSIUiVNw05MGlxFqUL5
 2tpIdkcBwMCQi2T9CShw4Bfzbdp7aikgfS4P/rcUC2n3sg70PhWa2m1IxEcoJEWGppTi
 B3xO8a795HLfqefN6f+isHSkrgj23Ex6INwOrUmiICPxroY2NaF4fKY+7xaKpTit0Ya2
 FXj6bK3i0eWC8+wMiGzChfZy1PuBF0Ps4Hos+EFB8bRFh280JXK6A3PJY1pvHtW9iOFR
 orqYH8zytTjgYGwbFdig5TtbDAOA3FM3AxlB1cR2RC8iKBAn6CSKGvxBkJY2/69e0+3w
 9h9w==
X-Gm-Message-State: AOJu0YwYetYlRp7rWAJPeXskFClgu6XRgKQkNIDDOvP+M01/tG7tY4/k
 Y+AiBoVCgWPeJwvWrvYehDfcb1A8clqto+MnOMU19gvBtF1S/pAr43lvHcA219ak2F4t8OUP7DT
 DjzHKosbZACWQ2r3VpZI85fqi7oDoOqVsFtHzjJK6
X-Google-Smtp-Source: AGHT+IGlXJAoOW4SDwAHS7EH7HeFft37vMNmqzUq/qxQMqFr86RrG7DcIUkVThgedc9K0eD23s9NcIndqNOx
X-Received: by 2002:a05:6122:338a:b0:4d3:34f4:7e99 with SMTP id
 71dfb90a1353d-4f50634d796mr2380133e0c.0.1721557695801; 
 Sun, 21 Jul 2024 03:28:15 -0700 (PDT)
Received: from postal.iol.unh.edu (postal.iol.unh.edu. [132.177.123.84])
 by smtp-relay.gmail.com with ESMTPS id
 71dfb90a1353d-4f4f9e7b65fsm287456e0c.8.2024.07.21.03.28.15
 (version=TLS1_2 cipher=ECDHE-ECDSA-AES128-GCM-SHA256 bits=128/128);
 Sun, 21 Jul 2024 03:28:15 -0700 (PDT)
X-Relaying-Domain: iol.unh.edu
Date: Sun, 21 Jul 2024 03:28:15 -0700 (PDT)
Message-ID: <669ce2bf.050a0220.2eb27.24d3SMTPIN_ADDED_MISSING@mx.google.com>
Received: from [172.21.0.6] (unknown [172.18.0.240])
 by postal.iol.unh.edu (Postfix) with ESMTP id 422E460524C8;
 Sun, 21 Jul 2024 06:28:15 -0400 (EDT)
Subject: |PENDING| pw142564-142565 [PATCH] [2/2] doc: give full width to NIC 
From: dpdklab@iol.unh.edu
To: Test Report <test-report@dpdk.org>
Cc: dpdk-test-reports@iol.unh.edu
In-Reply-To: <20240721095351.355639-3-thomas@monjalon.net>
References: <20240721095351.355639-3-thomas@monjalon.net>
Content-Type: text/plain
X-BeenThere: test-report@dpdk.org
X-Mailman-Version: 2.1.29
Precedence: list
List-Id: automatic DPDK test reports <test-report.dpdk.org>
List-Unsubscribe: <https://mails.dpdk.org/options/test-report>,
 <mailto:test-report-request@dpdk.org?subject=unsubscribe>
List-Archive: <http://mails.dpdk.org/archives/test-report/>
List-Post: <mailto:test-report@dpdk.org>
List-Help: <mailto:test-report-request@dpdk.org?subject=help>
List-Subscribe: <https://mails.dpdk.org/listinfo/test-report>,
 <mailto:test-report-request@dpdk.org?subject=subscribe>
Errors-To: test-report-bounces@dpdk.org

Test-Label: iol-abi-testing
Test-Status: PENDING
http://dpdk.org/patch/142565

_Testing pending_

Submitter: Thomas Monjalon <thomas@monjalon.net>
Date: Sunday, July 21 2024 09:15:22 
DPDK git baseline: Repo:dpdk
  Branch: master
  CommitID:fa8d2f7f28524a6c8defa3dcd94f5aa131aae084

142564-142565 --> testing pending

Upstream job id: Generic-DPDK-Compile-ABI#99612

Test environment and result as below:

+-------------------+----------+
|    Environment    | abi_test |
+===================+==========+
| CentOS Stream 8   | PASS     |
+-------------------+----------+
| Fedora 40         | PEND     |
+-------------------+----------+
| CentOS Stream 9   | PASS     |
+-------------------+----------+
| Debian Bullseye   | PASS     |
+-------------------+----------+
| Fedora 38 (Clang) | PEND     |
+-------------------+----------+
| Debian 12         | PEND     |
+-------------------+----------+
| Fedora 38         | PEND     |
+-------------------+----------+
| Fedora 37         | PEND     |
+-------------------+----------+
| Fedora 39 (Clang) | PEND     |
+-------------------+----------+
| Fedora 39         | PEND     |
+-------------------+----------+
| Fedora 40 (Clang) | PEND     |
+-------------------+----------+
| RHEL8             | PEND     |
+-------------------+----------+
| openSUSE Leap 15  | PEND     |
+-------------------+----------+
| RHEL9             | PEND     |
+-------------------+----------+
| Ubuntu 24.04      | PEND     |
+-------------------+----------+
| Ubuntu 22.04      | PEND     |
+-------------------+----------+


CentOS Stream 8
	Kernel: 5.4.0-167-generic
	Compiler: gcc 8.5.0 20210514

Fedora 40
	Kernel: Depends on container host
	Compiler: gcc 14.1.1

CentOS Stream 9
	Kernel: 5.4.0-167-generic
	Compiler: gcc 11.4.1 20230605

Debian Bullseye
	Kernel: 5.4.0-167-generic
	Compiler: gcc 10.2.1-6

Fedora 38 (Clang)
	Kernel: Depends on container host
	Compiler: clang 16.0.6

Debian 12
	Kernel: Container Host Kernel
	Compiler: gcc 12.2.0

Fedora 38
	Kernel: Depends on container host
	Compiler: gcc 13.2.1

Fedora 37
	Kernel: Depends on container host system
	Compiler: gcc 12.3.1

Fedora 39 (Clang)
	Kernel: Depends on container host
	Compiler: clang 17.0.6

Fedora 39
	Kernel: Depends on container host
	Compiler: gcc 13.2.1

Fedora 40 (Clang)
	Kernel: Depends on container host
	Compiler: clang 18.1.6

RHEL8
	Kernel: 5.4.0-167-generic
	Compiler: gcc 8.5.0 20210514 (Red Hat 8.5.0-20)

openSUSE Leap 15
	Kernel: 5.4.0-167-generic
	Compiler: gcc 7.5.0

RHEL9
	Kernel: Depends on container host
	Compiler: gcc 11.4.1

Ubuntu 24.04
	Kernel: 5.4.0-167-generic
	Compiler: gcc 13.2.0

Ubuntu 22.04
	Kernel: 5.4.0-167-generic
	Compiler: gcc 11.4.0

To view detailed results, visit:
https://lab.dpdk.org/results/dashboard/patchsets/30569/

UNH-IOL DPDK Community Lab

To manage your email subscriptions, visit: 
https://lab.dpdk.org/results/dashboard/preferences/subscriptions/