From mboxrd@z Thu Jan  1 00:00:00 1970
Return-Path: <test-report-bounces@dpdk.org>
Received: from mails.dpdk.org (mails.dpdk.org [217.70.189.124])
	by inbox.dpdk.org (Postfix) with ESMTP id 24E1645674
	for <public@inbox.dpdk.org>; Sun, 21 Jul 2024 12:48:37 +0200 (CEST)
Received: from mails.dpdk.org (localhost [127.0.0.1])
	by mails.dpdk.org (Postfix) with ESMTP id 22175427C0;
	Sun, 21 Jul 2024 12:48:37 +0200 (CEST)
Received: from mail-vk1-f228.google.com (mail-vk1-f228.google.com
 [209.85.221.228])
 by mails.dpdk.org (Postfix) with ESMTP id D00314029C
 for <test-report@dpdk.org>; Sun, 21 Jul 2024 12:48:31 +0200 (CEST)
Received: by mail-vk1-f228.google.com with SMTP id
 71dfb90a1353d-4f51c839727so110197e0c.0
 for <test-report@dpdk.org>; Sun, 21 Jul 2024 03:48:31 -0700 (PDT)
DKIM-Signature: v=1; a=rsa-sha256; c=relaxed/relaxed;
 d=iol.unh.edu; s=unh-iol; t=1721558911; x=1722163711; darn=dpdk.org;
 h=references:in-reply-to:cc:to:from:subject:message-id:date:from:to
 :cc:subject:date:message-id:reply-to;
 bh=fMaU+LcwIYaZbFo0hd9STOLNPE0zL36xrRNF5WaFHcg=;
 b=QxJVm8weJo8rpVTrq5ZxcPvmauBFbHATW1HM5rl0p5Rb9tm3u2ZkzUR5F71WUSSYTb
 WXB1lWJVgjmFRxFpEEw1egVw8Q0schzeI/aK9vSfRce0euUMJn7MvhhzcXOg2Qy2GjWt
 Y2zdMQRJ2ByZSKcTnXgKv2sPGXCabu2QRySw0=
X-Google-DKIM-Signature: v=1; a=rsa-sha256; c=relaxed/relaxed;
 d=1e100.net; s=20230601; t=1721558911; x=1722163711;
 h=references:in-reply-to:cc:to:from:subject:message-id:date
 :x-gm-message-state:from:to:cc:subject:date:message-id:reply-to;
 bh=fMaU+LcwIYaZbFo0hd9STOLNPE0zL36xrRNF5WaFHcg=;
 b=HTDMJYWlwhQIdA5tGYS+3Sp+uAQeSG8MgEB2QhQZA6ARbrtIRKczaQ5msff1YslBF6
 BdqTPNrlS3QHwFtFJKoy6vVtfiSG/yTNlJ9tdhm3VVE9F96VTZOaQVpsuBEkNzommDK+
 9I47BBoqZgB8g2mkKDlMJPciKrrAzmP6fXGF8FEuE63tizxxFanX7iHH7bp7s6JY+RlZ
 e00uRE/ZYN/v5bBC1/aH4EQbMaWH+PSvXamZJdHwDxnJwy/IPG6FWqULp7EY1C5gMgfa
 PyfCMTES/Hhdvq833e3HYRRAfCWJ99u65TKBvb9WvDAajk2rD+KCj64+3cxShXUZd8eT
 zryw==
X-Gm-Message-State: AOJu0YwAB4gNjL+3NKPqBTXs9egvRQ+H4dgk1B5ofY8SQtgLoscGNEpf
 llLEkY5vcauFGYqB/LftBol/0Iz2qFXkgP9tG1PQVgKvwkyGQOJ36iUte44DDTMglHr5pV9pMGZ
 ViKw0U20mGqdp82siyE3ZZyCSINWHi7duyVgJqwBXmMjDYHIit/+kzEhZ
X-Google-Smtp-Source: AGHT+IGEuLpbGdfhWAkf/ldGsYFZzzHCryDLmGYsUshWlYReG9iUd1KrY/Np60hNxY/XgV/i+2c6htZfCwF4
X-Received: by 2002:a05:6122:1ad5:b0:4ef:594a:a706 with SMTP id
 71dfb90a1353d-4f506873a3cmr4680603e0c.14.1721558911011; 
 Sun, 21 Jul 2024 03:48:31 -0700 (PDT)
Received: from postal.iol.unh.edu (postal.iol.unh.edu.
 [2606:4100:3880:1234::84]) by smtp-relay.gmail.com with ESMTPS id
 71dfb90a1353d-4f50d1b7f88sm158772e0c.9.2024.07.21.03.48.30
 (version=TLS1_2 cipher=ECDHE-ECDSA-AES128-GCM-SHA256 bits=128/128);
 Sun, 21 Jul 2024 03:48:30 -0700 (PDT)
X-Relaying-Domain: iol.unh.edu
Date: Sun, 21 Jul 2024 03:48:30 -0700 (PDT)
Message-ID: <669ce77e.050a0220.a508c.afa8SMTPIN_ADDED_MISSING@mx.google.com>
Received: from [172.21.0.8] (unknown [172.18.0.240])
 by postal.iol.unh.edu (Postfix) with ESMTP id AA94060524C8;
 Sun, 21 Jul 2024 06:48:30 -0400 (EDT)
Subject: |PENDING| pw142564-142565 [PATCH] [2/2] doc: give full width to NIC 
From: dpdklab@iol.unh.edu
To: Test Report <test-report@dpdk.org>
Cc: dpdk-test-reports@iol.unh.edu
In-Reply-To: <20240721095351.355639-3-thomas@monjalon.net>
References: <20240721095351.355639-3-thomas@monjalon.net>
Content-Type: text/plain
X-BeenThere: test-report@dpdk.org
X-Mailman-Version: 2.1.29
Precedence: list
List-Id: automatic DPDK test reports <test-report.dpdk.org>
List-Unsubscribe: <https://mails.dpdk.org/options/test-report>,
 <mailto:test-report-request@dpdk.org?subject=unsubscribe>
List-Archive: <http://mails.dpdk.org/archives/test-report/>
List-Post: <mailto:test-report@dpdk.org>
List-Help: <mailto:test-report-request@dpdk.org?subject=help>
List-Subscribe: <https://mails.dpdk.org/listinfo/test-report>,
 <mailto:test-report-request@dpdk.org?subject=subscribe>
Errors-To: test-report-bounces@dpdk.org

Test-Label: iol-abi-testing
Test-Status: PENDING
http://dpdk.org/patch/142565

_Testing pending_

Submitter: Thomas Monjalon <thomas@monjalon.net>
Date: Sunday, July 21 2024 09:15:22 
DPDK git baseline: Repo:dpdk
  Branch: master
  CommitID:fa8d2f7f28524a6c8defa3dcd94f5aa131aae084

142564-142565 --> testing pending

Upstream job id: Generic-DPDK-Compile-ABI#99622

Test environment and result as below:

+-------------------+----------+
|    Environment    | abi_test |
+===================+==========+
| CentOS Stream 8   | PASS     |
+-------------------+----------+
| Fedora 40         | PEND     |
+-------------------+----------+
| CentOS Stream 9   | PASS     |
+-------------------+----------+
| Debian Bullseye   | PASS     |
+-------------------+----------+
| Fedora 38 (Clang) | PEND     |
+-------------------+----------+
| Debian 12         | PEND     |
+-------------------+----------+
| Fedora 38         | PASS     |
+-------------------+----------+
| Fedora 37         | PEND     |
+-------------------+----------+
| Fedora 39 (Clang) | PASS     |
+-------------------+----------+
| Fedora 39         | PEND     |
+-------------------+----------+
| Fedora 40 (Clang) | PASS     |
+-------------------+----------+
| RHEL8             | PEND     |
+-------------------+----------+
| openSUSE Leap 15  | PASS     |
+-------------------+----------+
| RHEL9             | PEND     |
+-------------------+----------+
| Ubuntu 24.04      | PEND     |
+-------------------+----------+
| Ubuntu 22.04      | PEND     |
+-------------------+----------+


CentOS Stream 8
	Kernel: 5.4.0-167-generic
	Compiler: gcc 8.5.0 20210514

Fedora 40
	Kernel: Depends on container host
	Compiler: gcc 14.1.1

CentOS Stream 9
	Kernel: 5.4.0-167-generic
	Compiler: gcc 11.4.1 20230605

Debian Bullseye
	Kernel: 5.4.0-167-generic
	Compiler: gcc 10.2.1-6

Fedora 38 (Clang)
	Kernel: Depends on container host
	Compiler: clang 16.0.6

Debian 12
	Kernel: Container Host Kernel
	Compiler: gcc 12.2.0

Fedora 38
	Kernel: Depends on container host
	Compiler: gcc 13.2.1

Fedora 37
	Kernel: Depends on container host system
	Compiler: gcc 12.3.1

Fedora 39 (Clang)
	Kernel: Depends on container host
	Compiler: clang 17.0.6

Fedora 39
	Kernel: Depends on container host
	Compiler: gcc 13.2.1

Fedora 40 (Clang)
	Kernel: Depends on container host
	Compiler: clang 18.1.6

RHEL8
	Kernel: 5.4.0-167-generic
	Compiler: gcc 8.5.0 20210514 (Red Hat 8.5.0-20)

openSUSE Leap 15
	Kernel: 5.4.0-167-generic
	Compiler: gcc 7.5.0

RHEL9
	Kernel: Depends on container host
	Compiler: gcc 11.4.1

Ubuntu 24.04
	Kernel: 5.4.0-167-generic
	Compiler: gcc 13.2.0

Ubuntu 22.04
	Kernel: 5.4.0-167-generic
	Compiler: gcc 11.4.0

To view detailed results, visit:
https://lab.dpdk.org/results/dashboard/patchsets/30569/

UNH-IOL DPDK Community Lab

To manage your email subscriptions, visit: 
https://lab.dpdk.org/results/dashboard/preferences/subscriptions/