From mboxrd@z Thu Jan  1 00:00:00 1970
Return-Path: <test-report-bounces@dpdk.org>
Received: from mails.dpdk.org (mails.dpdk.org [217.70.189.124])
	by inbox.dpdk.org (Postfix) with ESMTP id 4F28145674
	for <public@inbox.dpdk.org>; Sun, 21 Jul 2024 12:54:25 +0200 (CEST)
Received: from mails.dpdk.org (localhost [127.0.0.1])
	by mails.dpdk.org (Postfix) with ESMTP id 4B0D24068A;
	Sun, 21 Jul 2024 12:54:25 +0200 (CEST)
Received: from mail-qv1-f98.google.com (mail-qv1-f98.google.com
 [209.85.219.98]) by mails.dpdk.org (Postfix) with ESMTP id 92E6C4029C
 for <test-report@dpdk.org>; Sun, 21 Jul 2024 12:54:15 +0200 (CEST)
Received: by mail-qv1-f98.google.com with SMTP id
 6a1803df08f44-6b7af49e815so15427786d6.0
 for <test-report@dpdk.org>; Sun, 21 Jul 2024 03:54:15 -0700 (PDT)
DKIM-Signature: v=1; a=rsa-sha256; c=relaxed/relaxed;
 d=iol.unh.edu; s=unh-iol; t=1721559255; x=1722164055; darn=dpdk.org;
 h=references:in-reply-to:cc:to:from:subject:message-id:date:from:to
 :cc:subject:date:message-id:reply-to;
 bh=0ND7nJLyQbzFYTRInaa/MIHzYFhViN21cWNVajApITc=;
 b=F+mZ9X0Xiv8OghGgSK+WghrnxznVUcMtaKijzOdzrB2snjKYXPghJWOCcDjNPtsQrA
 LRPdngzb9j4Q/y3Db/D2DSeYvtyTGW7VltF5T5/eGZ/eRDlrh0f18KTPH509yWQrz9xn
 /Hy0ZwvID7JaP9zE2/hqWboQwAgRSwZDkRWcA=
X-Google-DKIM-Signature: v=1; a=rsa-sha256; c=relaxed/relaxed;
 d=1e100.net; s=20230601; t=1721559255; x=1722164055;
 h=references:in-reply-to:cc:to:from:subject:message-id:date
 :x-gm-message-state:from:to:cc:subject:date:message-id:reply-to;
 bh=0ND7nJLyQbzFYTRInaa/MIHzYFhViN21cWNVajApITc=;
 b=XrtdNFdK8sLSJrZ0TySFIh4qiwAMr1j5eXMoUjrP0qo1iaHWMN+lTzN7/FdDBLUnxX
 RXY3uGGVcYz5tiuGCdj9yiAnRr0CrCYrdYKTQzDdCj8gn2jNyJfp4kiA8ZGBDvWyaPix
 OcVPkWPxq2r7xfcZWZZnRjFK5d91GljiTssjH7Pb0StiMZDShwfdAMMsF7UMcRgNV2J5
 MNKGb65t5+Fl4A+r8sCzpY2nyqPVZAaqsChY0CPUdK+aYjjasAWtp5i/HyhhUO4GpD1p
 Ia86J4lAKLA435wJ2XBf1KTaSiohQqHonXlTWGipT0Twwlm6amyG+mnbWHkAbSvks1qF
 a2ww==
X-Gm-Message-State: AOJu0YyDtu8AG/F59hcHbsJZk6jkFQBbI8gLcDJcgVvuR72A1MXTChgl
 w0mpuxlXtfSycbgUxUd7YfmhwTpLKBxROwQnNkM0oqqyk5M9a9FIo2DUzBXOF4oicDFvlmQZ4Bb
 KvPXsmOMBmN3LB5D5SA3a61QtV5YxqccpCzy76X+9
X-Google-Smtp-Source: AGHT+IF5CTsapZ7GWmceL8Xcah1gEYmBarbMC/aVNZ9fLOsZbDZ3do0FNpH+mZg4shRXEHYafcCbvzIbtnkH
X-Received: by 2002:ad4:5f86:0:b0:6b2:cab4:4ccf with SMTP id
 6a1803df08f44-6b95a5d41f8mr72672596d6.26.1721559254960; 
 Sun, 21 Jul 2024 03:54:14 -0700 (PDT)
Received: from postal.iol.unh.edu (postal.iol.unh.edu. [132.177.123.84])
 by smtp-relay.gmail.com with ESMTPS id
 6a1803df08f44-6b7ac788e91sm2541266d6.12.2024.07.21.03.54.14
 (version=TLS1_2 cipher=ECDHE-ECDSA-AES128-GCM-SHA256 bits=128/128);
 Sun, 21 Jul 2024 03:54:14 -0700 (PDT)
X-Relaying-Domain: iol.unh.edu
Date: Sun, 21 Jul 2024 03:54:14 -0700 (PDT)
Message-ID: <669ce8d6.050a0220.3c9dfd.0a4cSMTPIN_ADDED_MISSING@mx.google.com>
Received: from [172.21.0.6] (unknown [172.18.0.240])
 by postal.iol.unh.edu (Postfix) with ESMTP id A84DC60524C8;
 Sun, 21 Jul 2024 06:54:14 -0400 (EDT)
Subject: |PENDING| pw142564-142565 [PATCH] [2/2] doc: give full width to NIC 
From: dpdklab@iol.unh.edu
To: Test Report <test-report@dpdk.org>
Cc: dpdk-test-reports@iol.unh.edu
In-Reply-To: <20240721095351.355639-3-thomas@monjalon.net>
References: <20240721095351.355639-3-thomas@monjalon.net>
Content-Type: text/plain
X-BeenThere: test-report@dpdk.org
X-Mailman-Version: 2.1.29
Precedence: list
List-Id: automatic DPDK test reports <test-report.dpdk.org>
List-Unsubscribe: <https://mails.dpdk.org/options/test-report>,
 <mailto:test-report-request@dpdk.org?subject=unsubscribe>
List-Archive: <http://mails.dpdk.org/archives/test-report/>
List-Post: <mailto:test-report@dpdk.org>
List-Help: <mailto:test-report-request@dpdk.org?subject=help>
List-Subscribe: <https://mails.dpdk.org/listinfo/test-report>,
 <mailto:test-report-request@dpdk.org?subject=subscribe>
Errors-To: test-report-bounces@dpdk.org

Test-Label: iol-unit-arm64-testing
Test-Status: PENDING
http://dpdk.org/patch/142565

_Testing pending_

Submitter: Thomas Monjalon <thomas@monjalon.net>
Date: Sunday, July 21 2024 09:15:22 
DPDK git baseline: Repo:dpdk
  Branch: master
  CommitID:fa8d2f7f28524a6c8defa3dcd94f5aa131aae084

142564-142565 --> testing pending

Upstream job id: Generic-Unit-Test-DPDK#242408

Test environment and result as below:

+-----------------------------+--------------+----------------+------------------------------+---------------------------+
|         Environment         | lpm_autotest | dpdk_unit_test | cryptodev_sw_snow3g_autotest | cryptodev_sw_zuc_autotest |
+=============================+==============+================+==============================+===========================+
| Ubuntu 20.04 ARM SVE        | PEND         | SKIPPED        | SKIPPED                      | SKIPPED                   |
+-----------------------------+--------------+----------------+------------------------------+---------------------------+
| Debian 11 (Buster) (ARM)    | SKIPPED      | PASS           | SKIPPED                      | SKIPPED                   |
+-----------------------------+--------------+----------------+------------------------------+---------------------------+
| 32-bit Ubuntu 20.04.4 (ARM) | SKIPPED      | PEND           | SKIPPED                      | SKIPPED                   |
+-----------------------------+--------------+----------------+------------------------------+---------------------------+
| CentOS Stream 9 (ARM)       | SKIPPED      | PEND           | SKIPPED                      | SKIPPED                   |
+-----------------------------+--------------+----------------+------------------------------+---------------------------+
| Fedora 38 (ARM Clang)       | SKIPPED      | PEND           | SKIPPED                      | SKIPPED                   |
+-----------------------------+--------------+----------------+------------------------------+---------------------------+
| Debian 12 (arm)             | SKIPPED      | PEND           | PASS                         | PASS                      |
+-----------------------------+--------------+----------------+------------------------------+---------------------------+
| Fedora 37 (ARM)             | SKIPPED      | PEND           | SKIPPED                      | SKIPPED                   |
+-----------------------------+--------------+----------------+------------------------------+---------------------------+
| Fedora 39 (ARM)             | SKIPPED      | PEND           | SKIPPED                      | SKIPPED                   |
+-----------------------------+--------------+----------------+------------------------------+---------------------------+
| Fedora 38 (ARM)             | SKIPPED      | PEND           | SKIPPED                      | SKIPPED                   |
+-----------------------------+--------------+----------------+------------------------------+---------------------------+
| Fedora 39 (ARM Clang)       | SKIPPED      | PEND           | SKIPPED                      | SKIPPED                   |
+-----------------------------+--------------+----------------+------------------------------+---------------------------+


Ubuntu 20.04 ARM SVE
	Kernel: 5.4.0-167-generic
	Compiler: gcc (Ubuntu 10.5.0-1ubuntu1~20.04) 10.5.0

Debian 11 (Buster) (ARM)
	Kernel: Container Host Kernel
	Compiler: gcc 10.2.1

32-bit Ubuntu 20.04.4 (ARM)
	Kernel: 5.4.0-155-generic aarch64
	Compiler: gcc 9.4

CentOS Stream 9 (ARM)
	Kernel: Container Host Kernel
	Compiler: gcc 11.4.1

Fedora 38 (ARM Clang)
	Kernel: Depends on container host
	Compiler: clang 16.0.6

Debian 12 (arm)
	Kernel: Container Host Kernel
	Compiler: gcc 12.2.0

Fedora 37 (ARM)
	Kernel: Depends on container host
	Compiler: gcc 12.3.1

Fedora 39 (ARM)
	Kernel: Depends on container host
	Compiler: gcc 13.2.1

Fedora 38 (ARM)
	Kernel: Depends on container host
	Compiler: gcc 13.2.1

Fedora 39 (ARM Clang)
	Kernel: Depends on container host
	Compiler: clang 17.0.6

To view detailed results, visit:
https://lab.dpdk.org/results/dashboard/patchsets/30569/

UNH-IOL DPDK Community Lab

To manage your email subscriptions, visit: 
https://lab.dpdk.org/results/dashboard/preferences/subscriptions/