From mboxrd@z Thu Jan  1 00:00:00 1970
Return-Path: <test-report-bounces@dpdk.org>
Received: from mails.dpdk.org (mails.dpdk.org [217.70.189.124])
	by inbox.dpdk.org (Postfix) with ESMTP id C653245674
	for <public@inbox.dpdk.org>; Sun, 21 Jul 2024 13:18:09 +0200 (CEST)
Received: from mails.dpdk.org (localhost [127.0.0.1])
	by mails.dpdk.org (Postfix) with ESMTP id C2DAC4068A;
	Sun, 21 Jul 2024 13:18:09 +0200 (CEST)
Received: from mail-io1-f97.google.com (mail-io1-f97.google.com
 [209.85.166.97]) by mails.dpdk.org (Postfix) with ESMTP id 27B814029C
 for <test-report@dpdk.org>; Sun, 21 Jul 2024 13:18:09 +0200 (CEST)
Received: by mail-io1-f97.google.com with SMTP id
 ca18e2360f4ac-816ca307407so111784539f.2
 for <test-report@dpdk.org>; Sun, 21 Jul 2024 04:18:09 -0700 (PDT)
DKIM-Signature: v=1; a=rsa-sha256; c=relaxed/relaxed;
 d=iol.unh.edu; s=unh-iol; t=1721560688; x=1722165488; darn=dpdk.org;
 h=references:in-reply-to:cc:to:from:subject:message-id:date:from:to
 :cc:subject:date:message-id:reply-to;
 bh=GeiXYD0QnRtJ0+iZhYiHk5N0QSS7CcB/bqsI03KoE50=;
 b=EHSvmHMGztGXo4GjFWbr5zRXpZ7okNjCcFP4DK4Z9ZQbHKIkPHQpySOA9fy42k1YrR
 HuJ//aKtJVZK/66DsqbqDxzACQimYDyMDCI+AEYA4zbBkZVtI19NPNxaZ6l/oWB9oYd7
 tyaGBbUD0N+dcIgJi5V38jV56WMRLD7fSJKnw=
X-Google-DKIM-Signature: v=1; a=rsa-sha256; c=relaxed/relaxed;
 d=1e100.net; s=20230601; t=1721560688; x=1722165488;
 h=references:in-reply-to:cc:to:from:subject:message-id:date
 :x-gm-message-state:from:to:cc:subject:date:message-id:reply-to;
 bh=GeiXYD0QnRtJ0+iZhYiHk5N0QSS7CcB/bqsI03KoE50=;
 b=pV6duTc4nvRMpUdRjuv5bhjkAWNgGf0Jf4xBFcrBfjtSxBMT26sqATRzKar5CIEBNN
 TBSFsaM5XVRMyB/bW5LIWTpX8vQGqMXx6Se6XPPjD0aOyRS3I24fDYlNDmDzzo1KneK/
 WzbPif3VgLkT5S7sY6AodrdahGOHUBg60f+IybUeYjoo2B8PdI4RhIRByc/X1mnRl+ri
 BZOhiIupsis+k4uJ0DXkxjBKZ8dCniTwCfn3djGLzD0Fqx5ycUtnbQRNRsm0L2sX/gRh
 vB8cdfs7x/OEU4Yd0+6va6PkuBMCFZ3WYH4QzWwg/ePDacnq1tgnA/sFbt1nc/fbMaiq
 UMEw==
X-Gm-Message-State: AOJu0YwLb7xT6MigAGaQHQNSH9ceLf8jxiK5ZD/OZhm1U0+z6O/0SZlV
 AmYz63F5VDPPIZujbFWbVu+vn1YUTMeamHAFFZaQYuHz0pkeIWJjCXOKO7j18RgCfw/gcrcopZc
 yR7xgpj7lKRhUNO3pUNQ9IKD3qhYe7s3Z8ubF1KsT
X-Google-Smtp-Source: AGHT+IE40TWJ/oWeRK/7/V8TZ9/Ipw2uZYEWnOEvqRiOCYseQFNVb1Q51rpD3pzwkgYEy+hFz6TyOVj5Ztcc
X-Received: by 2002:a05:6602:3689:b0:804:fd88:3b08 with SMTP id
 ca18e2360f4ac-81b35039044mr438943739f.10.1721560688521; 
 Sun, 21 Jul 2024 04:18:08 -0700 (PDT)
Received: from postal.iol.unh.edu (postal.iol.unh.edu. [132.177.123.84])
 by smtp-relay.gmail.com with ESMTPS id
 ca18e2360f4ac-819ac1cd8f8sm18905439f.17.2024.07.21.04.18.08
 (version=TLS1_2 cipher=ECDHE-ECDSA-AES128-GCM-SHA256 bits=128/128);
 Sun, 21 Jul 2024 04:18:08 -0700 (PDT)
X-Relaying-Domain: iol.unh.edu
Date: Sun, 21 Jul 2024 04:18:08 -0700 (PDT)
Message-ID: <669cee70.050a0220.2673a.c67eSMTPIN_ADDED_MISSING@mx.google.com>
Received: from [172.17.0.5] (unknown [172.18.0.217])
 by postal.iol.unh.edu (Postfix) with ESMTP id EC08A60524C8;
 Sun, 21 Jul 2024 07:18:07 -0400 (EDT)
Subject: |PENDING| pw142564-142565 [PATCH] [2/2] doc: give full width to NIC 
From: dpdklab@iol.unh.edu
To: Test Report <test-report@dpdk.org>
Cc: dpdk-test-reports@iol.unh.edu
In-Reply-To: <20240721095351.355639-3-thomas@monjalon.net>
References: <20240721095351.355639-3-thomas@monjalon.net>
Content-Type: text/plain
X-BeenThere: test-report@dpdk.org
X-Mailman-Version: 2.1.29
Precedence: list
List-Id: automatic DPDK test reports <test-report.dpdk.org>
List-Unsubscribe: <https://mails.dpdk.org/options/test-report>,
 <mailto:test-report-request@dpdk.org?subject=unsubscribe>
List-Archive: <http://mails.dpdk.org/archives/test-report/>
List-Post: <mailto:test-report@dpdk.org>
List-Help: <mailto:test-report-request@dpdk.org?subject=help>
List-Subscribe: <https://mails.dpdk.org/listinfo/test-report>,
 <mailto:test-report-request@dpdk.org?subject=subscribe>
Errors-To: test-report-bounces@dpdk.org

Test-Label: iol-unit-arm64-testing
Test-Status: PENDING
http://dpdk.org/patch/142565

_Testing pending_

Submitter: Thomas Monjalon <thomas@monjalon.net>
Date: Sunday, July 21 2024 09:15:22 
DPDK git baseline: Repo:dpdk
  Branch: master
  CommitID:fa8d2f7f28524a6c8defa3dcd94f5aa131aae084

142564-142565 --> testing pending

Upstream job id: Generic-Unit-Test-DPDK#242434

Test environment and result as below:

+-----------------------------+--------------+----------------+------------------------------+---------------------------+
|         Environment         | lpm_autotest | dpdk_unit_test | cryptodev_sw_snow3g_autotest | cryptodev_sw_zuc_autotest |
+=============================+==============+================+==============================+===========================+
| Ubuntu 20.04 ARM SVE        | PEND         | SKIPPED        | SKIPPED                      | SKIPPED                   |
+-----------------------------+--------------+----------------+------------------------------+---------------------------+
| Debian 11 (Buster) (ARM)    | SKIPPED      | PASS           | SKIPPED                      | SKIPPED                   |
+-----------------------------+--------------+----------------+------------------------------+---------------------------+
| 32-bit Ubuntu 20.04.4 (ARM) | SKIPPED      | PEND           | SKIPPED                      | SKIPPED                   |
+-----------------------------+--------------+----------------+------------------------------+---------------------------+
| CentOS Stream 9 (ARM)       | SKIPPED      | PASS           | SKIPPED                      | SKIPPED                   |
+-----------------------------+--------------+----------------+------------------------------+---------------------------+
| Fedora 38 (ARM Clang)       | SKIPPED      | PEND           | SKIPPED                      | SKIPPED                   |
+-----------------------------+--------------+----------------+------------------------------+---------------------------+
| Debian 12 (arm)             | SKIPPED      | PASS           | PASS                         | PASS                      |
+-----------------------------+--------------+----------------+------------------------------+---------------------------+
| Fedora 37 (ARM)             | SKIPPED      | PASS           | SKIPPED                      | SKIPPED                   |
+-----------------------------+--------------+----------------+------------------------------+---------------------------+
| Fedora 39 (ARM)             | SKIPPED      | PASS           | SKIPPED                      | SKIPPED                   |
+-----------------------------+--------------+----------------+------------------------------+---------------------------+
| Fedora 38 (ARM)             | SKIPPED      | PASS           | SKIPPED                      | SKIPPED                   |
+-----------------------------+--------------+----------------+------------------------------+---------------------------+
| Fedora 39 (ARM Clang)       | SKIPPED      | PEND           | SKIPPED                      | SKIPPED                   |
+-----------------------------+--------------+----------------+------------------------------+---------------------------+
| Fedora 40 (ARM)             | SKIPPED      | PASS           | SKIPPED                      | SKIPPED                   |
+-----------------------------+--------------+----------------+------------------------------+---------------------------+
| Fedora 40 (ARM Clang)       | SKIPPED      | PEND           | SKIPPED                      | SKIPPED                   |
+-----------------------------+--------------+----------------+------------------------------+---------------------------+
| Ubuntu 24.04 (ARM)          | SKIPPED      | PASS           | SKIPPED                      | SKIPPED                   |
+-----------------------------+--------------+----------------+------------------------------+---------------------------+
| RHEL9 (ARM)                 | SKIPPED      | PEND           | SKIPPED                      | SKIPPED                   |
+-----------------------------+--------------+----------------+------------------------------+---------------------------+
| Ubuntu 20.04 (ARM)          | SKIPPED      | PEND           | SKIPPED                      | SKIPPED                   |
+-----------------------------+--------------+----------------+------------------------------+---------------------------+
| Ubuntu 22.04 (ARM)          | SKIPPED      | PEND           | SKIPPED                      | SKIPPED                   |
+-----------------------------+--------------+----------------+------------------------------+---------------------------+


Ubuntu 20.04 ARM SVE
	Kernel: 5.4.0-167-generic
	Compiler: gcc (Ubuntu 10.5.0-1ubuntu1~20.04) 10.5.0

Debian 11 (Buster) (ARM)
	Kernel: Container Host Kernel
	Compiler: gcc 10.2.1

32-bit Ubuntu 20.04.4 (ARM)
	Kernel: 5.4.0-155-generic aarch64
	Compiler: gcc 9.4

CentOS Stream 9 (ARM)
	Kernel: Container Host Kernel
	Compiler: gcc 11.4.1

Fedora 38 (ARM Clang)
	Kernel: Depends on container host
	Compiler: clang 16.0.6

Debian 12 (arm)
	Kernel: Container Host Kernel
	Compiler: gcc 12.2.0

Fedora 37 (ARM)
	Kernel: Depends on container host
	Compiler: gcc 12.3.1

Fedora 39 (ARM)
	Kernel: Depends on container host
	Compiler: gcc 13.2.1

Fedora 38 (ARM)
	Kernel: Depends on container host
	Compiler: gcc 13.2.1

Fedora 39 (ARM Clang)
	Kernel: Depends on container host
	Compiler: clang 17.0.6

Fedora 40 (ARM)
	Kernel: Depends on container host
	Compiler: gcc 14.1.1

Fedora 40 (ARM Clang)
	Kernel: Depends on container host
	Compiler: clang 18.1.6

Ubuntu 24.04 (ARM)
	Kernel: 5.4.0-167-generic
	Compiler: gcc 13.2.0

RHEL9 (ARM)
	Kernel: Depends on container host
	Compiler: gcc 11.4.1

Ubuntu 20.04 (ARM)
	Kernel: Container Host Kernel
	Compiler: gcc 9.4.0

Ubuntu 22.04 (ARM)
	Kernel: Container Host Kernel
	Compiler: gcc 11.4.0

To view detailed results, visit:
https://lab.dpdk.org/results/dashboard/patchsets/30569/

UNH-IOL DPDK Community Lab

To manage your email subscriptions, visit: 
https://lab.dpdk.org/results/dashboard/preferences/subscriptions/