From mboxrd@z Thu Jan  1 00:00:00 1970
Return-Path: <test-report-bounces@dpdk.org>
Received: from mails.dpdk.org (mails.dpdk.org [217.70.189.124])
	by inbox.dpdk.org (Postfix) with ESMTP id 6DC2B45674
	for <public@inbox.dpdk.org>; Sun, 21 Jul 2024 13:27:12 +0200 (CEST)
Received: from mails.dpdk.org (localhost [127.0.0.1])
	by mails.dpdk.org (Postfix) with ESMTP id 6996C4068A;
	Sun, 21 Jul 2024 13:27:12 +0200 (CEST)
Received: from mail-pl1-f225.google.com (mail-pl1-f225.google.com
 [209.85.214.225])
 by mails.dpdk.org (Postfix) with ESMTP id CAA8E4029C
 for <test-report@dpdk.org>; Sun, 21 Jul 2024 13:27:11 +0200 (CEST)
Received: by mail-pl1-f225.google.com with SMTP id
 d9443c01a7336-1fb3b7d0d3aso19075935ad.2
 for <test-report@dpdk.org>; Sun, 21 Jul 2024 04:27:11 -0700 (PDT)
DKIM-Signature: v=1; a=rsa-sha256; c=relaxed/relaxed;
 d=iol.unh.edu; s=unh-iol; t=1721561231; x=1722166031; darn=dpdk.org;
 h=references:in-reply-to:cc:to:from:subject:message-id:date:from:to
 :cc:subject:date:message-id:reply-to;
 bh=xAriQ4GHFjb5xM+sPPmofAMdDhHVggCukhDm6UiLUF0=;
 b=GV7TIHiJ2SkrJ4AVy0ypIvJmWdeShE0EHIq3JHWwg+K4yfvykKLswYzFWJAXXDtEO7
 1tCHzc7zg+eXc0zH3YaR4/gSfacgie4eejcUKQHkv8aD6dyBAqfFXKugY97TZYc85I9J
 rhTEcXJVFcLy5pRnumN+KSsQffnEXsDGilHgA=
X-Google-DKIM-Signature: v=1; a=rsa-sha256; c=relaxed/relaxed;
 d=1e100.net; s=20230601; t=1721561231; x=1722166031;
 h=references:in-reply-to:cc:to:from:subject:message-id:date
 :x-gm-message-state:from:to:cc:subject:date:message-id:reply-to;
 bh=xAriQ4GHFjb5xM+sPPmofAMdDhHVggCukhDm6UiLUF0=;
 b=lq+w2Kn0ZfZSryfB2COXqXGIY+acN9ieXlofQ5wcMJT4m+bi13ErMrWwDULnqZcpFD
 JnjBDNvv8EuYEWkVL2DFPMjPzvWRu/E6ybo49eouSVchq5ZQBBWp2kONBNlhDTOL0mko
 DIyrNKW8flrIWeqvsBJDDkZQRzyZoGHpK6VbWLIcmYG0lOHQ4Bhprje0SZOlwQ8abpcC
 QZr8mjJxaatZjm24UfkChWv+mZOUJ9FTQzv0HDxRh0Fyl0MvFCkeHhAmG7ckhMtWNlgJ
 RMOQ5lSSmAfMwSjeQIrl4Drvii6XZXkLYq9Ck8Meyxn+0n6jQvGjaAHbtk+uawsT0Rnm
 EyDw==
X-Gm-Message-State: AOJu0Yx7SW8EU72jM9JZ4GlgbQBYdpfqfYig4Gq6fiVcPxUl+5MIe1/a
 h688wYPhwUpSvM9mrLa2BFwSF9rliMZ8xbZ7jP4Gsgmaqbo9HBGkuEHKgbdQhH3lBLirmcYFRwX
 d8F2HQzlBJaZiZ43OKj/jC1+umP+ml6AlQ+6m9pPC
X-Google-Smtp-Source: AGHT+IGAoZ5n9/P2yfQyugtPRsv4wjhUfqigYOO9uhuznb6S464nLKpF1lpXbDS6vd1AypDTehHG73/3InWf
X-Received: by 2002:a17:902:cec2:b0:1fd:656d:2340 with SMTP id
 d9443c01a7336-1fd7465baa5mr50524085ad.61.1721561231078; 
 Sun, 21 Jul 2024 04:27:11 -0700 (PDT)
Received: from postal.iol.unh.edu (postal.iol.unh.edu. [132.177.123.84])
 by smtp-relay.gmail.com with ESMTPS id
 d9443c01a7336-1fd6f290d7esm1359725ad.73.2024.07.21.04.27.10
 (version=TLS1_2 cipher=ECDHE-ECDSA-AES128-GCM-SHA256 bits=128/128);
 Sun, 21 Jul 2024 04:27:11 -0700 (PDT)
X-Relaying-Domain: iol.unh.edu
Date: Sun, 21 Jul 2024 04:27:11 -0700 (PDT)
Message-ID: <669cf08f.170a0220.163e09.8642SMTPIN_ADDED_MISSING@mx.google.com>
Received: from [172.17.0.3] (unknown [172.18.0.217])
 by postal.iol.unh.edu (Postfix) with ESMTP id 3FF4460524C8;
 Sun, 21 Jul 2024 07:27:10 -0400 (EDT)
Subject: |PENDING| pw142564-142565 [PATCH] [2/2] doc: give full width to NIC 
From: dpdklab@iol.unh.edu
To: Test Report <test-report@dpdk.org>
Cc: dpdk-test-reports@iol.unh.edu
In-Reply-To: <20240721095351.355639-3-thomas@monjalon.net>
References: <20240721095351.355639-3-thomas@monjalon.net>
Content-Type: text/plain
X-BeenThere: test-report@dpdk.org
X-Mailman-Version: 2.1.29
Precedence: list
List-Id: automatic DPDK test reports <test-report.dpdk.org>
List-Unsubscribe: <https://mails.dpdk.org/options/test-report>,
 <mailto:test-report-request@dpdk.org?subject=unsubscribe>
List-Archive: <http://mails.dpdk.org/archives/test-report/>
List-Post: <mailto:test-report@dpdk.org>
List-Help: <mailto:test-report-request@dpdk.org?subject=help>
List-Subscribe: <https://mails.dpdk.org/listinfo/test-report>,
 <mailto:test-report-request@dpdk.org?subject=subscribe>
Errors-To: test-report-bounces@dpdk.org

Test-Label: iol-unit-amd64-testing
Test-Status: PENDING
http://dpdk.org/patch/142565

_Testing pending_

Submitter: Thomas Monjalon <thomas@monjalon.net>
Date: Sunday, July 21 2024 09:15:22 
DPDK git baseline: Repo:dpdk
  Branch: master
  CommitID:fa8d2f7f28524a6c8defa3dcd94f5aa131aae084

142564-142565 --> testing pending

Upstream job id: Generic-Unit-Test-DPDK#242421

Test environment and result as below:

+---------------------+----------------+
|     Environment     | dpdk_unit_test |
+=====================+================+
| Windows Server 2022 | PASS           |
+---------------------+----------------+
| Windows Server 2019 | PASS           |
+---------------------+----------------+
| CentOS Stream 9     | PASS           |
+---------------------+----------------+
| Debian Bullseye     | PASS           |
+---------------------+----------------+
| CentOS Stream 8     | PASS           |
+---------------------+----------------+
| Debian 12           | PASS           |
+---------------------+----------------+
| Fedora 39           | PASS           |
+---------------------+----------------+
| Fedora 39 (Clang)   | PASS           |
+---------------------+----------------+
| Fedora 38 (Clang)   | PEND           |
+---------------------+----------------+
| Fedora 40           | PASS           |
+---------------------+----------------+
| Fedora 37           | PEND           |
+---------------------+----------------+
| Fedora 38           | PEND           |
+---------------------+----------------+
| Fedora 40 (Clang)   | PEND           |
+---------------------+----------------+
| Ubuntu 20.04        | PEND           |
+---------------------+----------------+
| RHEL8               | PEND           |
+---------------------+----------------+
| RHEL9               | PEND           |
+---------------------+----------------+
| openSUSE Leap 15    | PEND           |
+---------------------+----------------+
| Ubuntu 22.04        | PEND           |
+---------------------+----------------+
| Ubuntu 24.04        | PEND           |
+---------------------+----------------+


Windows Server 2022
	Kernel: 10.0.20348.2031
	Compiler: clang 15.0.7, gcc 8.1.0 (MinGW), and MSVC VS 17.9

Windows Server 2019
	Kernel: 10.0.17763
	Compiler: clang 14.0 and gcc 8.1.0 (MinGW)

CentOS Stream 9
	Kernel: 5.4.0-167-generic
	Compiler: gcc 11.4.1 20230605

Debian Bullseye
	Kernel: 5.4.0-167-generic
	Compiler: gcc 10.2.1-6

CentOS Stream 8
	Kernel: 5.4.0-167-generic
	Compiler: gcc 8.5.0 20210514

Debian 12
	Kernel: Container Host Kernel
	Compiler: gcc 12.2.0

Fedora 39
	Kernel: Depends on container host
	Compiler: gcc 13.2.1

Fedora 39 (Clang)
	Kernel: Depends on container host
	Compiler: clang 17.0.6

Fedora 38 (Clang)
	Kernel: Depends on container host
	Compiler: clang 16.0.6

Fedora 40
	Kernel: Depends on container host
	Compiler: gcc 14.1.1

Fedora 37
	Kernel: Depends on container host system
	Compiler: gcc 12.3.1

Fedora 38
	Kernel: Depends on container host
	Compiler: gcc 13.2.1

Fedora 40 (Clang)
	Kernel: Depends on container host
	Compiler: clang 18.1.6

Ubuntu 20.04
	Kernel: 5.4.0-167-generic
	Compiler: gcc 9.4.0-1ubuntu1~20.04.1

RHEL8
	Kernel: 5.4.0-167-generic
	Compiler: gcc 8.5.0 20210514 (Red Hat 8.5.0-20)

RHEL9
	Kernel: Depends on container host
	Compiler: gcc 11.4.1

openSUSE Leap 15
	Kernel: 5.4.0-167-generic
	Compiler: gcc 7.5.0

Ubuntu 22.04
	Kernel: 5.4.0-167-generic
	Compiler: gcc 11.4.0

Ubuntu 24.04
	Kernel: 5.4.0-167-generic
	Compiler: gcc 13.2.0

To view detailed results, visit:
https://lab.dpdk.org/results/dashboard/patchsets/30569/

UNH-IOL DPDK Community Lab

To manage your email subscriptions, visit: 
https://lab.dpdk.org/results/dashboard/preferences/subscriptions/