From mboxrd@z Thu Jan  1 00:00:00 1970
Return-Path: <test-report-bounces@dpdk.org>
Received: from mails.dpdk.org (mails.dpdk.org [217.70.189.124])
	by inbox.dpdk.org (Postfix) with ESMTP id B71E245681
	for <public@inbox.dpdk.org>; Mon, 22 Jul 2024 12:31:42 +0200 (CEST)
Received: from mails.dpdk.org (localhost [127.0.0.1])
	by mails.dpdk.org (Postfix) with ESMTP id 6015242EB1;
	Mon, 22 Jul 2024 12:31:42 +0200 (CEST)
Received: from mail-pl1-f228.google.com (mail-pl1-f228.google.com
 [209.85.214.228])
 by mails.dpdk.org (Postfix) with ESMTP id 52C46402CD
 for <test-report@dpdk.org>; Mon, 22 Jul 2024 11:51:40 +0200 (CEST)
Received: by mail-pl1-f228.google.com with SMTP id
 d9443c01a7336-1fbc3a9d23bso24345405ad.1
 for <test-report@dpdk.org>; Mon, 22 Jul 2024 02:51:40 -0700 (PDT)
DKIM-Signature: v=1; a=rsa-sha256; c=relaxed/relaxed;
 d=iol.unh.edu; s=unh-iol; t=1721641899; x=1722246699; darn=dpdk.org;
 h=references:in-reply-to:cc:to:from:subject:message-id:date:from:to
 :cc:subject:date:message-id:reply-to;
 bh=a0IN048yQdr9dmWDb5q5RMVgWhnAHAcc+bmtsLL9BJs=;
 b=DKXRZcHiz0H80q0W92mC711mCOeCAdWQIyAPfnCHhcT8aDMZwm0DyMYfai08F78xeS
 1BJc9CQsg+EldKLcZDNHbUP9aNfyJQcadk7wrKMgpaVTmY4tAlVauX27uDbD+iWlgt/v
 uLWYv7MmbcsL55Nujs4Z0SzTbqxI2UqX14a+g=
X-Google-DKIM-Signature: v=1; a=rsa-sha256; c=relaxed/relaxed;
 d=1e100.net; s=20230601; t=1721641899; x=1722246699;
 h=references:in-reply-to:cc:to:from:subject:message-id:date
 :x-gm-message-state:from:to:cc:subject:date:message-id:reply-to;
 bh=a0IN048yQdr9dmWDb5q5RMVgWhnAHAcc+bmtsLL9BJs=;
 b=RRtP/c/FX4Bmx0b0+hMJ9Kg4i5K4JnVtXhq6IuwWY+SRg7BHNBCjNahzGch5iM0Q/T
 /5BC3ZnWCvQirVQaytalwRTUpQ+ZBzkXf85vc5UhG7rfGWq6NyEbWzxXly+xMRL7AY2N
 EPPkJewogRECv8EwrmAGd0G8pAaJpbCAvh0buTwqWEe52/CGsGOBpkRJpQNLKwcCXxmI
 hNP6oGUGZBwLUlaOSWhdltMLUqmlKFYGE9PZF2sPeHuXuY+yXmpxpn2jsHLfhuFMfyZp
 QFLlnDO9aUvY9fevmnu/UAGg/q/tOJK4iKl0B/o5KK/aMyN2iVZZ+eIWqgKWEK9EMCAI
 hSRw==
X-Gm-Message-State: AOJu0Yz6rD7jfoviCRAuzhmkZqw/fT3gpVgly6ngfa1rqCjCKoYlAu7p
 QOTY+J13GzeWMmuxhe1Ifvo1OrzzHgQ5I4B4gMMmZHAPi3dVwspcSZBEZlWgaxu7/Q9ymWupVo3
 B/DYNFRg2eAXX87bXU8orhHFN3e/H2YG1pHqWgeQQ
X-Google-Smtp-Source: AGHT+IEKz7nuciiGeKO8UY+USufVZlqNsFs78MVzcrQ3+UE4/RL96/2bXC0NkPtGb9Yqjj+/fqpNFqgYwIQx
X-Received: by 2002:a17:90a:a895:b0:2c9:6ecf:89b8 with SMTP id
 98e67ed59e1d1-2cd274e43f4mr2524373a91.38.1721641899524; 
 Mon, 22 Jul 2024 02:51:39 -0700 (PDT)
Received: from postal.iol.unh.edu (postal.iol.unh.edu. [132.177.123.84])
 by smtp-relay.gmail.com with ESMTPS id
 98e67ed59e1d1-2cb77342f23sm484913a91.9.2024.07.22.02.51.39
 (version=TLS1_2 cipher=ECDHE-ECDSA-AES128-GCM-SHA256 bits=128/128);
 Mon, 22 Jul 2024 02:51:39 -0700 (PDT)
X-Relaying-Domain: iol.unh.edu
Date: Mon, 22 Jul 2024 02:51:39 -0700 (PDT)
Message-ID: <669e2bab.170a0220.8b51c.9abdSMTPIN_ADDED_MISSING@mx.google.com>
Received: from [172.21.0.7] (unknown [172.18.0.240])
 by postal.iol.unh.edu (Postfix) with ESMTP id AF9F46052500;
 Mon, 22 Jul 2024 05:51:38 -0400 (EDT)
Subject: |PENDING| pw142574-142576 [PATCH] [v3,3/3] net/ice: fix return value
From: dpdklab@iol.unh.edu
To: Test Report <test-report@dpdk.org>
Cc: dpdk-test-reports@iol.unh.edu
In-Reply-To: <20240722082836.176515-3-vladimir.medvedkin@intel.com>
References: <20240722082836.176515-3-vladimir.medvedkin@intel.com>
Content-Type: text/plain
X-BeenThere: test-report@dpdk.org
X-Mailman-Version: 2.1.29
Precedence: list
List-Id: automatic DPDK test reports <test-report.dpdk.org>
List-Unsubscribe: <https://mails.dpdk.org/options/test-report>,
 <mailto:test-report-request@dpdk.org?subject=unsubscribe>
List-Archive: <http://mails.dpdk.org/archives/test-report/>
List-Post: <mailto:test-report@dpdk.org>
List-Help: <mailto:test-report-request@dpdk.org?subject=help>
List-Subscribe: <https://mails.dpdk.org/listinfo/test-report>,
 <mailto:test-report-request@dpdk.org?subject=subscribe>
Errors-To: test-report-bounces@dpdk.org

Test-Label: iol-compile-amd64-testing
Test-Status: PENDING
http://dpdk.org/patch/142576

_Testing pending_

Submitter: Vladimir Medvedkin <vladimir.medvedkin@intel.com>
Date: Monday, July 22 2024 08:28:36 
DPDK git baseline: Repo:dpdk
  Branch: master
  CommitID:fa8d2f7f28524a6c8defa3dcd94f5aa131aae084

142574-142576 --> testing pending

Upstream job id: Windows-Compile-DPDK-Mingw64#20897

Test environment and result as below:

+---------------------+----------------------+-------------------+--------------------+
|     Environment     | dpdk_mingw64_compile | dpdk_msvc_compile | dpdk_meson_compile |
+=====================+======================+===================+====================+
| Windows Server 2019 | PASS                 | SKIPPED           | PEND               |
+---------------------+----------------------+-------------------+--------------------+
| Windows Server 2022 | PEND                 | PASS              | PEND               |
+---------------------+----------------------+-------------------+--------------------+
| FreeBSD 13.3        | SKIPPED              | SKIPPED           | PASS               |
+---------------------+----------------------+-------------------+--------------------+
| FreeBSD 14.1        | SKIPPED              | SKIPPED           | PASS               |
+---------------------+----------------------+-------------------+--------------------+


Windows Server 2019
	Kernel: 10.0.17763
	Compiler: clang 14.0 and gcc 8.1.0 (MinGW)

Windows Server 2022
	Kernel: 10.0.20348.2031
	Compiler: clang 15.0.7, gcc 8.1.0 (MinGW), and MSVC VS 17.9

FreeBSD 13.3
	Kernel: 13.3-RELEASE-p1
	Compiler: clang 17.0.6

FreeBSD 14.1
	Kernel: 14.1
	Compiler: clang 18.1.5

To view detailed results, visit:
https://lab.dpdk.org/results/dashboard/patchsets/30571/

UNH-IOL DPDK Community Lab

To manage your email subscriptions, visit: 
https://lab.dpdk.org/results/dashboard/preferences/subscriptions/