From mboxrd@z Thu Jan  1 00:00:00 1970
Return-Path: <test-report-bounces@dpdk.org>
Received: from mails.dpdk.org (mails.dpdk.org [217.70.189.124])
	by inbox.dpdk.org (Postfix) with ESMTP id 005594567F
	for <public@inbox.dpdk.org>; Mon, 22 Jul 2024 12:31:42 +0200 (CEST)
Received: from mails.dpdk.org (localhost [127.0.0.1])
	by mails.dpdk.org (Postfix) with ESMTP id BB21942ED8;
	Mon, 22 Jul 2024 12:31:42 +0200 (CEST)
Received: from mail-yb1-f228.google.com (mail-yb1-f228.google.com
 [209.85.219.228])
 by mails.dpdk.org (Postfix) with ESMTP id 15B2B402CD
 for <test-report@dpdk.org>; Mon, 22 Jul 2024 11:53:06 +0200 (CEST)
Received: by mail-yb1-f228.google.com with SMTP id
 3f1490d57ef6-e0874f138aeso1302445276.2
 for <test-report@dpdk.org>; Mon, 22 Jul 2024 02:53:06 -0700 (PDT)
DKIM-Signature: v=1; a=rsa-sha256; c=relaxed/relaxed;
 d=iol.unh.edu; s=unh-iol; t=1721641985; x=1722246785; darn=dpdk.org;
 h=references:in-reply-to:cc:to:from:subject:message-id:date:from:to
 :cc:subject:date:message-id:reply-to;
 bh=KDjzv/T7/8UpNcMl0Em6tbsgGjGbkDcYVK6sjKwvADQ=;
 b=T29yL4WR6QOneuNH5pMXEHxSaLS/XE2i++nOGUZrPD2zZycWfCiAmVuc1Vq8VpQsRK
 ThAE/Zu6eqsIl6aYg3aKuiXY2kfNgjzxptVTKPIVEefWryE415/KFwWufGW3JWKceSzY
 Ioi8eqVa4g4IpOAo2d1etjDOZKhnIEkRC9his=
X-Google-DKIM-Signature: v=1; a=rsa-sha256; c=relaxed/relaxed;
 d=1e100.net; s=20230601; t=1721641985; x=1722246785;
 h=references:in-reply-to:cc:to:from:subject:message-id:date
 :x-gm-message-state:from:to:cc:subject:date:message-id:reply-to;
 bh=KDjzv/T7/8UpNcMl0Em6tbsgGjGbkDcYVK6sjKwvADQ=;
 b=nolOtenWFRA2/jwQud5I565K5o8sHVGfVzsu3UmsEA1fOXDewBzuaCQBq1A9rgUuVC
 Bgvtyr6SSD4duB9ArCpRSXhdvGorEynI1bObbTjEXHAUe9q4eMhsxI4FGwfVnfzFE5Pr
 q4lnanS5DBkFMIrEy22lNN+RNoLXwjPuJy5HeOQ/GDZUakovQMFHAb078swFpJEW+cLp
 LKF9uJuoQb13s1gZ59biDS1QOERABFvkT++OUDEehaX2vRsEAW9QjB6/0QWwriYf5XVO
 yuuAf/l6oRM8SzHEzrvwdUgx/6LQUTlsljfq4g/UT5uQa/fcQJIrT8PIQ9aD3lCxgwqu
 JYLA==
X-Gm-Message-State: AOJu0YwIEWAXLfsyceolVFeT3JMLrcd9nYUfNhARpWgULMixbutlg+lP
 fAjkaDx1PncKwMdSn79UPUXGlPTHKFFw1HwN4+Ucsc+FpToq1/4WoqIUNCQ1pEG1bMrtXDjv2GY
 wYwd+0tV6sMklaUCi679/ZMo0Xh3Zj27oJT0OPCYS
X-Google-Smtp-Source: AGHT+IF2rF2Tm7QBol60/z2mZT3y60xbz4KQh+0b3Zvnya0m6ZPQyz5QZ75n5+UAB5UOn6QmqNRgzsZ09uZh
X-Received: by 2002:a05:6902:1502:b0:e08:84b0:9880 with SMTP id
 3f1490d57ef6-e0884b0a660mr3782110276.30.1721641985409; 
 Mon, 22 Jul 2024 02:53:05 -0700 (PDT)
Received: from postal.iol.unh.edu (postal.iol.unh.edu. [132.177.123.84])
 by smtp-relay.gmail.com with ESMTPS id
 6a1803df08f44-6b7ac9bbefasm3532586d6.63.2024.07.22.02.53.05
 (version=TLS1_2 cipher=ECDHE-ECDSA-AES128-GCM-SHA256 bits=128/128);
 Mon, 22 Jul 2024 02:53:05 -0700 (PDT)
X-Relaying-Domain: iol.unh.edu
Date: Mon, 22 Jul 2024 02:53:05 -0700 (PDT)
Message-ID: <669e2c01.050a0220.1cbe50.4d36SMTPIN_ADDED_MISSING@mx.google.com>
Received: from [172.21.0.8] (unknown [172.18.0.240])
 by postal.iol.unh.edu (Postfix) with ESMTP id 1DC196052500;
 Mon, 22 Jul 2024 05:53:05 -0400 (EDT)
Subject: |PENDING| pw142574-142576 [PATCH] [v3,3/3] net/ice: fix return value
From: dpdklab@iol.unh.edu
To: Test Report <test-report@dpdk.org>
Cc: dpdk-test-reports@iol.unh.edu
In-Reply-To: <20240722082836.176515-3-vladimir.medvedkin@intel.com>
References: <20240722082836.176515-3-vladimir.medvedkin@intel.com>
Content-Type: text/plain
X-BeenThere: test-report@dpdk.org
X-Mailman-Version: 2.1.29
Precedence: list
List-Id: automatic DPDK test reports <test-report.dpdk.org>
List-Unsubscribe: <https://mails.dpdk.org/options/test-report>,
 <mailto:test-report-request@dpdk.org?subject=unsubscribe>
List-Archive: <http://mails.dpdk.org/archives/test-report/>
List-Post: <mailto:test-report@dpdk.org>
List-Help: <mailto:test-report-request@dpdk.org?subject=help>
List-Subscribe: <https://mails.dpdk.org/listinfo/test-report>,
 <mailto:test-report-request@dpdk.org?subject=subscribe>
Errors-To: test-report-bounces@dpdk.org

Test-Label: iol-compile-amd64-testing
Test-Status: PENDING
http://dpdk.org/patch/142576

_Testing pending_

Submitter: Vladimir Medvedkin <vladimir.medvedkin@intel.com>
Date: Monday, July 22 2024 08:28:36 
DPDK git baseline: Repo:dpdk
  Branch: master
  CommitID:fa8d2f7f28524a6c8defa3dcd94f5aa131aae084

142574-142576 --> testing pending

Upstream job id: Generic-VM-DPDK-Compile-Meson#28129

Test environment and result as below:

+---------------------+----------------------+-------------------+--------------------+
|     Environment     | dpdk_mingw64_compile | dpdk_msvc_compile | dpdk_meson_compile |
+=====================+======================+===================+====================+
| Windows Server 2019 | PASS                 | SKIPPED           | PEND               |
+---------------------+----------------------+-------------------+--------------------+
| Windows Server 2022 | PEND                 | PASS              | PEND               |
+---------------------+----------------------+-------------------+--------------------+
| FreeBSD 13.3        | SKIPPED              | SKIPPED           | PASS               |
+---------------------+----------------------+-------------------+--------------------+
| FreeBSD 14.1        | SKIPPED              | SKIPPED           | PASS               |
+---------------------+----------------------+-------------------+--------------------+


Windows Server 2019
	Kernel: 10.0.17763
	Compiler: clang 14.0 and gcc 8.1.0 (MinGW)

Windows Server 2022
	Kernel: 10.0.20348.2031
	Compiler: clang 15.0.7, gcc 8.1.0 (MinGW), and MSVC VS 17.9

FreeBSD 13.3
	Kernel: 13.3-RELEASE-p1
	Compiler: clang 17.0.6

FreeBSD 14.1
	Kernel: 14.1
	Compiler: clang 18.1.5

To view detailed results, visit:
https://lab.dpdk.org/results/dashboard/patchsets/30571/

UNH-IOL DPDK Community Lab

To manage your email subscriptions, visit: 
https://lab.dpdk.org/results/dashboard/preferences/subscriptions/