From mboxrd@z Thu Jan  1 00:00:00 1970
Return-Path: <test-report-bounces@dpdk.org>
Received: from mails.dpdk.org (mails.dpdk.org [217.70.189.124])
	by inbox.dpdk.org (Postfix) with ESMTP id 739374567F
	for <public@inbox.dpdk.org>; Mon, 22 Jul 2024 12:58:36 +0200 (CEST)
Received: from mails.dpdk.org (localhost [127.0.0.1])
	by mails.dpdk.org (Postfix) with ESMTP id 6642240E50;
	Mon, 22 Jul 2024 12:58:36 +0200 (CEST)
Received: from mail-qk1-f226.google.com (mail-qk1-f226.google.com
 [209.85.222.226])
 by mails.dpdk.org (Postfix) with ESMTP id D85814027F
 for <test-report@dpdk.org>; Mon, 22 Jul 2024 12:43:22 +0200 (CEST)
Received: by mail-qk1-f226.google.com with SMTP id
 af79cd13be357-79f15e7c89cso239347185a.1
 for <test-report@dpdk.org>; Mon, 22 Jul 2024 03:43:22 -0700 (PDT)
DKIM-Signature: v=1; a=rsa-sha256; c=relaxed/relaxed;
 d=iol.unh.edu; s=unh-iol; t=1721645002; x=1722249802; darn=dpdk.org;
 h=references:in-reply-to:cc:to:from:subject:message-id:date:from:to
 :cc:subject:date:message-id:reply-to;
 bh=vtPyFRZWo7z8MCFMmXA5yjvtkvOO0tFWHb9U3MDlS+E=;
 b=EYzBIVwXnlnWdSnzHYoQzB6ES9UWBN4nk/KrbJph1couqEvLhpBM5lPdtSUYUQdMYq
 V0dTt2UipaaS1S7JyprOinoMmhDupAt472QYaiT/PridyfwS30fcGndxgyTRl1RT5L8J
 /HYRYYMTQLKGI2zk1qCsCJ8OusaOqxYJYptsA=
X-Google-DKIM-Signature: v=1; a=rsa-sha256; c=relaxed/relaxed;
 d=1e100.net; s=20230601; t=1721645002; x=1722249802;
 h=references:in-reply-to:cc:to:from:subject:message-id:date
 :x-gm-message-state:from:to:cc:subject:date:message-id:reply-to;
 bh=vtPyFRZWo7z8MCFMmXA5yjvtkvOO0tFWHb9U3MDlS+E=;
 b=aEZu7T4bsrk2w+Flr3MGSEVttpz89aWChCHG7orOYZQADHeGDsyEoJoSZ+ngKT6Fcp
 ltkuIBs+Bo1l7priFdzjMMDublkihgcYMUkMQsgjZOIspEEapOSbarHTnD2wuRP3JQsY
 QLEPxY2lV6YavbA5HkavMzKRFbcl7e7HbIux5gCLSSGVpEMivjWRmR0DbLcSMxsDZtXp
 dowhlQSMn5idgCi+r4SdFLb14wm24nqg6UhTXKisXXxermcuT7PFb341u79PfCn5jfXK
 jYzs2xbO9oMhT8w6yDjHf/espl3NCrUWHgWuqcSeyPz8C4qnLJN9PYPH+ttHML6ZZm/0
 4KhQ==
X-Gm-Message-State: AOJu0YySpqpHrjPYJ1Mocyqu3fqpNvacrF/rows2E1oZqrh74TrbumTc
 creJYGwDaCQj0ZBn1UaEVrJGPhDvduJZ+qFNu3nwf4M4HivNflbPvcnzYuva0zQPHVeuFgYe2d8
 cI4uXwBRTCxxPlXNYYSs8KPUk3nrjefUMC1GWMuH6
X-Google-Smtp-Source: AGHT+IHVPO09LmYaPakn7OOTL49LOCYgQ+H0L8g1gj7Cr4+flzKXhNbOS+hn1MAT3qsIM0K59hS/Dodz+4w/
X-Received: by 2002:ac8:58cb:0:b0:447:e478:a4e3 with SMTP id
 d75a77b69052e-44fa52814f3mr78644661cf.21.1721645002139; 
 Mon, 22 Jul 2024 03:43:22 -0700 (PDT)
Received: from postal.iol.unh.edu (postal.iol.unh.edu. [132.177.123.84])
 by smtp-relay.gmail.com with ESMTPS id
 d75a77b69052e-44f9cd05005sm3216651cf.12.2024.07.22.03.43.22
 (version=TLS1_2 cipher=ECDHE-ECDSA-AES128-GCM-SHA256 bits=128/128);
 Mon, 22 Jul 2024 03:43:22 -0700 (PDT)
X-Relaying-Domain: iol.unh.edu
Date: Mon, 22 Jul 2024 03:43:22 -0700 (PDT)
Message-ID: <669e37ca.c80a0220.6c90d.24dfSMTPIN_ADDED_MISSING@mx.google.com>
Received: from [172.21.0.7] (unknown [172.18.0.240])
 by postal.iol.unh.edu (Postfix) with ESMTP id D4D806052500;
 Mon, 22 Jul 2024 06:43:21 -0400 (EDT)
Subject: |PENDING| pw142574-142576 [PATCH] [v3,3/3] net/ice: fix return value
From: dpdklab@iol.unh.edu
To: Test Report <test-report@dpdk.org>
Cc: dpdk-test-reports@iol.unh.edu
In-Reply-To: <20240722082836.176515-3-vladimir.medvedkin@intel.com>
References: <20240722082836.176515-3-vladimir.medvedkin@intel.com>
Content-Type: text/plain
X-BeenThere: test-report@dpdk.org
X-Mailman-Version: 2.1.29
Precedence: list
List-Id: automatic DPDK test reports <test-report.dpdk.org>
List-Unsubscribe: <https://mails.dpdk.org/options/test-report>,
 <mailto:test-report-request@dpdk.org?subject=unsubscribe>
List-Archive: <http://mails.dpdk.org/archives/test-report/>
List-Post: <mailto:test-report@dpdk.org>
List-Help: <mailto:test-report-request@dpdk.org?subject=help>
List-Subscribe: <https://mails.dpdk.org/listinfo/test-report>,
 <mailto:test-report-request@dpdk.org?subject=subscribe>
Errors-To: test-report-bounces@dpdk.org

Test-Label: iol-compile-amd64-testing
Test-Status: PENDING
http://dpdk.org/patch/142576

_Testing pending_

Submitter: Vladimir Medvedkin <vladimir.medvedkin@intel.com>
Date: Monday, July 22 2024 08:28:36 
DPDK git baseline: Repo:dpdk
  Branch: master
  CommitID:fa8d2f7f28524a6c8defa3dcd94f5aa131aae084

142574-142576 --> testing pending

Upstream job id: Generic-DPDK-Compile-Meson#277502

Test environment and result as below:

+---------------------+----------------------+-------------------+--------------------+------------------+-------------------+
|     Environment     | dpdk_mingw64_compile | dpdk_msvc_compile | dpdk_meson_compile | dpdk_compile_ovs | dpdk_compile_spdk |
+=====================+======================+===================+====================+==================+===================+
| Windows Server 2019 | PASS                 | SKIPPED           | PASS               | SKIPPED          | SKIPPED           |
+---------------------+----------------------+-------------------+--------------------+------------------+-------------------+
| Windows Server 2022 | PASS                 | PASS              | PASS               | SKIPPED          | SKIPPED           |
+---------------------+----------------------+-------------------+--------------------+------------------+-------------------+
| FreeBSD 13.3        | SKIPPED              | SKIPPED           | PASS               | SKIPPED          | SKIPPED           |
+---------------------+----------------------+-------------------+--------------------+------------------+-------------------+
| FreeBSD 14.1        | SKIPPED              | SKIPPED           | PASS               | SKIPPED          | SKIPPED           |
+---------------------+----------------------+-------------------+--------------------+------------------+-------------------+
| CentOS Stream 8     | SKIPPED              | SKIPPED           | PASS               | PASS             | PASS              |
+---------------------+----------------------+-------------------+--------------------+------------------+-------------------+
| CentOS Stream 9     | SKIPPED              | SKIPPED           | PASS               | PASS             | PASS              |
+---------------------+----------------------+-------------------+--------------------+------------------+-------------------+
| Debian Bullseye     | SKIPPED              | SKIPPED           | PASS               | PASS             | PASS              |
+---------------------+----------------------+-------------------+--------------------+------------------+-------------------+
| Debian 12           | SKIPPED              | SKIPPED           | PASS               | PASS             | PASS              |
+---------------------+----------------------+-------------------+--------------------+------------------+-------------------+
| Fedora 37           | SKIPPED              | SKIPPED           | PASS               | PASS             | PASS              |
+---------------------+----------------------+-------------------+--------------------+------------------+-------------------+
| Fedora 38 (Clang)   | SKIPPED              | SKIPPED           | PASS               | PASS             | PASS              |
+---------------------+----------------------+-------------------+--------------------+------------------+-------------------+
| Fedora 38           | SKIPPED              | SKIPPED           | PEND               | PEND             | PEND              |
+---------------------+----------------------+-------------------+--------------------+------------------+-------------------+
| Fedora 39 (Clang)   | SKIPPED              | SKIPPED           | PEND               | PEND             | PEND              |
+---------------------+----------------------+-------------------+--------------------+------------------+-------------------+
| Fedora 39           | SKIPPED              | SKIPPED           | PASS               | PASS             | PASS              |
+---------------------+----------------------+-------------------+--------------------+------------------+-------------------+
| Fedora 40 (Clang)   | SKIPPED              | SKIPPED           | PEND               | PEND             | PEND              |
+---------------------+----------------------+-------------------+--------------------+------------------+-------------------+
| Fedora 40           | SKIPPED              | SKIPPED           | PASS               | PASS             | PASS              |
+---------------------+----------------------+-------------------+--------------------+------------------+-------------------+
| openSUSE Leap 15    | SKIPPED              | SKIPPED           | PASS               | PASS             | SKIPPED           |
+---------------------+----------------------+-------------------+--------------------+------------------+-------------------+
| RHEL8               | SKIPPED              | SKIPPED           | PASS               | PASS             | SKIPPED           |
+---------------------+----------------------+-------------------+--------------------+------------------+-------------------+
| RHEL9               | SKIPPED              | SKIPPED           | PASS               | PASS             | SKIPPED           |
+---------------------+----------------------+-------------------+--------------------+------------------+-------------------+
| Ubuntu 20.04        | SKIPPED              | SKIPPED           | PASS               | PASS             | SKIPPED           |
+---------------------+----------------------+-------------------+--------------------+------------------+-------------------+
| Ubuntu 22.04        | SKIPPED              | SKIPPED           | PEND               | PEND             | PEND              |
+---------------------+----------------------+-------------------+--------------------+------------------+-------------------+
| Ubuntu 24.04        | SKIPPED              | SKIPPED           | PEND               | PEND             | PEND              |
+---------------------+----------------------+-------------------+--------------------+------------------+-------------------+
| Alpine              | SKIPPED              | SKIPPED           | PEND               | PEND             | SKIPPED           |
+---------------------+----------------------+-------------------+--------------------+------------------+-------------------+


Windows Server 2019
	Kernel: 10.0.17763
	Compiler: clang 14.0 and gcc 8.1.0 (MinGW)

Windows Server 2022
	Kernel: 10.0.20348.2031
	Compiler: clang 15.0.7, gcc 8.1.0 (MinGW), and MSVC VS 17.9

FreeBSD 13.3
	Kernel: 13.3-RELEASE-p1
	Compiler: clang 17.0.6

FreeBSD 14.1
	Kernel: 14.1
	Compiler: clang 18.1.5

CentOS Stream 8
	Kernel: 5.4.0-167-generic
	Compiler: gcc 8.5.0 20210514

CentOS Stream 9
	Kernel: 5.4.0-167-generic
	Compiler: gcc 11.4.1 20230605

Debian Bullseye
	Kernel: 5.4.0-167-generic
	Compiler: gcc 10.2.1-6

Debian 12
	Kernel: Container Host Kernel
	Compiler: gcc 12.2.0

Fedora 37
	Kernel: Depends on container host system
	Compiler: gcc 12.3.1

Fedora 38 (Clang)
	Kernel: Depends on container host
	Compiler: clang 16.0.6

Fedora 38
	Kernel: Depends on container host
	Compiler: gcc 13.2.1

Fedora 39 (Clang)
	Kernel: Depends on container host
	Compiler: clang 17.0.6

Fedora 39
	Kernel: Depends on container host
	Compiler: gcc 13.2.1

Fedora 40 (Clang)
	Kernel: Depends on container host
	Compiler: clang 18.1.6

Fedora 40
	Kernel: Depends on container host
	Compiler: gcc 14.1.1

openSUSE Leap 15
	Kernel: 5.4.0-167-generic
	Compiler: gcc 7.5.0

RHEL8
	Kernel: 5.4.0-167-generic
	Compiler: gcc 8.5.0 20210514 (Red Hat 8.5.0-20)

RHEL9
	Kernel: Depends on container host
	Compiler: gcc 11.4.1

Ubuntu 20.04
	Kernel: 5.4.0-167-generic
	Compiler: gcc 9.4.0-1ubuntu1~20.04.1

Ubuntu 22.04
	Kernel: 5.4.0-167-generic
	Compiler: gcc 11.4.0

Ubuntu 24.04
	Kernel: 5.4.0-167-generic
	Compiler: gcc 13.2.0

Alpine
	Kernel: 5.4.0-167-generic
	Compiler: gcc (Alpine 13.2.1_git20231014) 13.2.1 20231014

To view detailed results, visit:
https://lab.dpdk.org/results/dashboard/patchsets/30571/

UNH-IOL DPDK Community Lab

To manage your email subscriptions, visit: 
https://lab.dpdk.org/results/dashboard/preferences/subscriptions/