From mboxrd@z Thu Jan  1 00:00:00 1970
Return-Path: <test-report-bounces@dpdk.org>
Received: from mails.dpdk.org (mails.dpdk.org [217.70.189.124])
	by inbox.dpdk.org (Postfix) with ESMTP id 410CD4567F
	for <public@inbox.dpdk.org>; Mon, 22 Jul 2024 12:56:42 +0200 (CEST)
Received: from mails.dpdk.org (localhost [127.0.0.1])
	by mails.dpdk.org (Postfix) with ESMTP id 044A440E64;
	Mon, 22 Jul 2024 12:56:41 +0200 (CEST)
Received: from mail-yw1-f225.google.com (mail-yw1-f225.google.com
 [209.85.128.225])
 by mails.dpdk.org (Postfix) with ESMTP id 31CA14027F
 for <test-report@dpdk.org>; Mon, 22 Jul 2024 12:46:08 +0200 (CEST)
Received: by mail-yw1-f225.google.com with SMTP id
 00721157ae682-65f8626780aso42519727b3.3
 for <test-report@dpdk.org>; Mon, 22 Jul 2024 03:46:08 -0700 (PDT)
DKIM-Signature: v=1; a=rsa-sha256; c=relaxed/relaxed;
 d=iol.unh.edu; s=unh-iol; t=1721645167; x=1722249967; darn=dpdk.org;
 h=references:in-reply-to:cc:to:from:subject:message-id:date:from:to
 :cc:subject:date:message-id:reply-to;
 bh=P1Ra8mqH8i8FOYRfgMZ53lpjLR2rlA/yeeI0axnhuUY=;
 b=dhfsXgHw7VSKUG9dxxGSkweR4eur8MU62erO7bmJvvcrGIMQQiF6DDHT8Bh3l/asui
 Fs/tY7kPPPJRNL/lEelG8xFJIiU45KDOLMmUV0yhHnyHse/AsuWwN/6L54m6Z82OGsPz
 d59bF7ugvJ7NEDnNj+Oyey8z44U2VVTRzbQxQ=
X-Google-DKIM-Signature: v=1; a=rsa-sha256; c=relaxed/relaxed;
 d=1e100.net; s=20230601; t=1721645167; x=1722249967;
 h=references:in-reply-to:cc:to:from:subject:message-id:date
 :x-gm-message-state:from:to:cc:subject:date:message-id:reply-to;
 bh=P1Ra8mqH8i8FOYRfgMZ53lpjLR2rlA/yeeI0axnhuUY=;
 b=i5k8LwnYQKcUqtWLN4Ywh9tCuNLG2dXhkMU0dZGiQTc+AJe8iU0/bIxfzwHVJmc01q
 xC7yQylGoFEX51XeXfJDMLyxLrE15zDbQLIGBvchvSzoPSaNOcJWLakq6gw179KP8O4d
 zld3PqJDbiGo02U49ix8FqBo/3IBGuQFPQKCU680XeKyqhQE+2GsXmwb2/udG2QHlUNE
 VCtiXBhXaxNlSXxS463pnoVLrgQvlpZy1JOO7EUEQIRgBScLxJdvscLj4QAaHTrSxJBI
 zIC4TnvcG5t3AEHqv3dMARvxiKlK5D5a3eH6zyfbyg0VmcNRtD4nYnb+5eOpM+20l+Xy
 BQoQ==
X-Gm-Message-State: AOJu0YyHLPeIWdhw0ZBl1wQQ8zrtMXBnyPmY4L+AcVjQ+W9t2iBJiAaB
 4g4SYnCn9Icu8RLVMXAQjmG/QE8/pj4he2qRhX9g43um2n7r/0GRMUeVZuieJIJ6lupKD3AwNrp
 KQcYfk2VOWr8/cEARAsBnLBiGbOBar8DHw95q78NCRQVkbY4Zia7iMrts
X-Google-Smtp-Source: AGHT+IHItiVi0smgbNVSztQhBOrXshu8H70cjZsSCyVgd+nfrNJS8dosj/hZhi+ZSkG5NPGeeeUyp+CVRop1
X-Received: by 2002:a05:690c:458a:b0:620:2cfb:7a0e with SMTP id
 00721157ae682-66a688a5b65mr74332537b3.40.1721645167497; 
 Mon, 22 Jul 2024 03:46:07 -0700 (PDT)
Received: from postal.iol.unh.edu (postal.iol.unh.edu.
 [2606:4100:3880:1234::84]) by smtp-relay.gmail.com with ESMTPS id
 00721157ae682-66951b884d7sm2759037b3.1.2024.07.22.03.46.07
 (version=TLS1_2 cipher=ECDHE-ECDSA-AES128-GCM-SHA256 bits=128/128);
 Mon, 22 Jul 2024 03:46:07 -0700 (PDT)
X-Relaying-Domain: iol.unh.edu
Date: Mon, 22 Jul 2024 03:46:07 -0700 (PDT)
Message-ID: <669e386f.050a0220.3c2c5.e4baSMTPIN_ADDED_MISSING@mx.google.com>
Received: from [172.17.0.3] (unknown [172.18.0.217])
 by postal.iol.unh.edu (Postfix) with ESMTP id 1DDC56052500;
 Mon, 22 Jul 2024 06:46:07 -0400 (EDT)
Subject: |PENDING| pw142574-142576 [PATCH] [v3,3/3] net/ice: fix return value
From: dpdklab@iol.unh.edu
To: Test Report <test-report@dpdk.org>
Cc: dpdk-test-reports@iol.unh.edu
In-Reply-To: <20240722082836.176515-3-vladimir.medvedkin@intel.com>
References: <20240722082836.176515-3-vladimir.medvedkin@intel.com>
Content-Type: text/plain
X-BeenThere: test-report@dpdk.org
X-Mailman-Version: 2.1.29
Precedence: list
List-Id: automatic DPDK test reports <test-report.dpdk.org>
List-Unsubscribe: <https://mails.dpdk.org/options/test-report>,
 <mailto:test-report-request@dpdk.org?subject=unsubscribe>
List-Archive: <http://mails.dpdk.org/archives/test-report/>
List-Post: <mailto:test-report@dpdk.org>
List-Help: <mailto:test-report-request@dpdk.org?subject=help>
List-Subscribe: <https://mails.dpdk.org/listinfo/test-report>,
 <mailto:test-report-request@dpdk.org?subject=subscribe>
Errors-To: test-report-bounces@dpdk.org

Test-Label: iol-unit-arm64-testing
Test-Status: PENDING
http://dpdk.org/patch/142576

_Testing pending_

Submitter: Vladimir Medvedkin <vladimir.medvedkin@intel.com>
Date: Monday, July 22 2024 08:28:36 
DPDK git baseline: Repo:dpdk
  Branch: master
  CommitID:fa8d2f7f28524a6c8defa3dcd94f5aa131aae084

142574-142576 --> testing pending

Upstream job id: Generic-Unit-Test-DPDK#242641

Test environment and result as below:

+-----------------------------+----------------+---------------------------+------------------------------+--------------+
|         Environment         | dpdk_unit_test | cryptodev_sw_zuc_autotest | cryptodev_sw_snow3g_autotest | lpm_autotest |
+=============================+================+===========================+==============================+==============+
| Debian 11 (Buster) (ARM)    | PASS           | SKIPPED                   | SKIPPED                      | SKIPPED      |
+-----------------------------+----------------+---------------------------+------------------------------+--------------+
| CentOS Stream 9 (ARM)       | PASS           | SKIPPED                   | SKIPPED                      | SKIPPED      |
+-----------------------------+----------------+---------------------------+------------------------------+--------------+
| Debian 12 (arm)             | PASS           | PASS                      | PASS                         | SKIPPED      |
+-----------------------------+----------------+---------------------------+------------------------------+--------------+
| Fedora 40 (ARM)             | PASS           | SKIPPED                   | SKIPPED                      | SKIPPED      |
+-----------------------------+----------------+---------------------------+------------------------------+--------------+
| Fedora 39 (ARM Clang)       | PASS           | SKIPPED                   | SKIPPED                      | SKIPPED      |
+-----------------------------+----------------+---------------------------+------------------------------+--------------+
| Fedora 37 (ARM)             | PASS           | SKIPPED                   | SKIPPED                      | SKIPPED      |
+-----------------------------+----------------+---------------------------+------------------------------+--------------+
| Fedora 38 (ARM Clang)       | PASS           | SKIPPED                   | SKIPPED                      | SKIPPED      |
+-----------------------------+----------------+---------------------------+------------------------------+--------------+
| Fedora 39 (ARM)             | PASS           | SKIPPED                   | SKIPPED                      | SKIPPED      |
+-----------------------------+----------------+---------------------------+------------------------------+--------------+
| Fedora 38 (ARM)             | PASS           | SKIPPED                   | SKIPPED                      | SKIPPED      |
+-----------------------------+----------------+---------------------------+------------------------------+--------------+
| Fedora 40 (ARM Clang)       | PEND           | SKIPPED                   | SKIPPED                      | SKIPPED      |
+-----------------------------+----------------+---------------------------+------------------------------+--------------+
| RHEL9 (ARM)                 | PASS           | SKIPPED                   | SKIPPED                      | SKIPPED      |
+-----------------------------+----------------+---------------------------+------------------------------+--------------+
| 32-bit Ubuntu 20.04.4 (ARM) | PASS           | SKIPPED                   | SKIPPED                      | SKIPPED      |
+-----------------------------+----------------+---------------------------+------------------------------+--------------+
| Ubuntu 20.04 (ARM)          | PASS           | SKIPPED                   | SKIPPED                      | SKIPPED      |
+-----------------------------+----------------+---------------------------+------------------------------+--------------+
| Ubuntu 22.04 (ARM)          | PEND           | SKIPPED                   | SKIPPED                      | SKIPPED      |
+-----------------------------+----------------+---------------------------+------------------------------+--------------+
| Ubuntu 24.04 (ARM)          | PEND           | SKIPPED                   | SKIPPED                      | SKIPPED      |
+-----------------------------+----------------+---------------------------+------------------------------+--------------+
| Ubuntu 20.04 ARM SVE        | SKIPPED        | SKIPPED                   | SKIPPED                      | PEND         |
+-----------------------------+----------------+---------------------------+------------------------------+--------------+


Debian 11 (Buster) (ARM)
	Kernel: Container Host Kernel
	Compiler: gcc 10.2.1

CentOS Stream 9 (ARM)
	Kernel: Container Host Kernel
	Compiler: gcc 11.4.1

Debian 12 (arm)
	Kernel: Container Host Kernel
	Compiler: gcc 12.2.0

Fedora 40 (ARM)
	Kernel: Depends on container host
	Compiler: gcc 14.1.1

Fedora 39 (ARM Clang)
	Kernel: Depends on container host
	Compiler: clang 17.0.6

Fedora 37 (ARM)
	Kernel: Depends on container host
	Compiler: gcc 12.3.1

Fedora 38 (ARM Clang)
	Kernel: Depends on container host
	Compiler: clang 16.0.6

Fedora 39 (ARM)
	Kernel: Depends on container host
	Compiler: gcc 13.2.1

Fedora 38 (ARM)
	Kernel: Depends on container host
	Compiler: gcc 13.2.1

Fedora 40 (ARM Clang)
	Kernel: Depends on container host
	Compiler: clang 18.1.6

RHEL9 (ARM)
	Kernel: Depends on container host
	Compiler: gcc 11.4.1

32-bit Ubuntu 20.04.4 (ARM)
	Kernel: 5.4.0-155-generic aarch64
	Compiler: gcc 9.4

Ubuntu 20.04 (ARM)
	Kernel: Container Host Kernel
	Compiler: gcc 9.4.0

Ubuntu 22.04 (ARM)
	Kernel: Container Host Kernel
	Compiler: gcc 11.4.0

Ubuntu 24.04 (ARM)
	Kernel: 5.4.0-167-generic
	Compiler: gcc 13.2.0

Ubuntu 20.04 ARM SVE
	Kernel: 5.4.0-167-generic
	Compiler: gcc (Ubuntu 10.5.0-1ubuntu1~20.04) 10.5.0

To view detailed results, visit:
https://lab.dpdk.org/results/dashboard/patchsets/30571/

UNH-IOL DPDK Community Lab

To manage your email subscriptions, visit: 
https://lab.dpdk.org/results/dashboard/preferences/subscriptions/