From mboxrd@z Thu Jan  1 00:00:00 1970
Return-Path: <test-report-bounces@dpdk.org>
Received: from mails.dpdk.org (mails.dpdk.org [217.70.189.124])
	by inbox.dpdk.org (Postfix) with ESMTP id DA78D4567F
	for <public@inbox.dpdk.org>; Mon, 22 Jul 2024 13:50:38 +0200 (CEST)
Received: from mails.dpdk.org (localhost [127.0.0.1])
	by mails.dpdk.org (Postfix) with ESMTP id D638A400D7;
	Mon, 22 Jul 2024 13:50:38 +0200 (CEST)
Received: from mail-pl1-f226.google.com (mail-pl1-f226.google.com
 [209.85.214.226])
 by mails.dpdk.org (Postfix) with ESMTP id 3FFA54003C
 for <test-report@dpdk.org>; Mon, 22 Jul 2024 13:50:29 +0200 (CEST)
Received: by mail-pl1-f226.google.com with SMTP id
 d9443c01a7336-1fc2a194750so39617875ad.1
 for <test-report@dpdk.org>; Mon, 22 Jul 2024 04:50:29 -0700 (PDT)
DKIM-Signature: v=1; a=rsa-sha256; c=relaxed/relaxed;
 d=iol.unh.edu; s=unh-iol; t=1721649028; x=1722253828; darn=dpdk.org;
 h=references:in-reply-to:cc:to:from:subject:message-id:date:from:to
 :cc:subject:date:message-id:reply-to;
 bh=hnO5OjimdL+rxNvBt9G95LoYx/ZF2kwohfftxnEbIEY=;
 b=RwXVqR07n509fEkAQT/M+MbafGZut0Fy7u13V+qeGaSjhs/9SV1c9tRU4JWuGPGlGb
 DT2GWBrYCKp9tnx5H9DTUIEFqxswgm9Ti93l02N87JYrq1fKNjgr2o2ONzx3/vn6rAZW
 XW9CdEIFzVhdb4vSUtFpnOD3Tqngfi0vWvaRA=
X-Google-DKIM-Signature: v=1; a=rsa-sha256; c=relaxed/relaxed;
 d=1e100.net; s=20230601; t=1721649028; x=1722253828;
 h=references:in-reply-to:cc:to:from:subject:message-id:date
 :x-gm-message-state:from:to:cc:subject:date:message-id:reply-to;
 bh=hnO5OjimdL+rxNvBt9G95LoYx/ZF2kwohfftxnEbIEY=;
 b=qae85pC7ne1kfUwMALQ800diyG5SUNUutV+qDxg6Gk+QETzSwL5IZ7mlmMKDT5mHN0
 T/0DmMXMyCjHNymu5oIkps3sTALEsZ6oWXbo4+J8AQrDSAVXKk/PdQFJYSUAjLjhcdgw
 v+Knn01fiYEdatfOspzZAM2elXm1w+D2rKbxuvD8cmzQUHVrKucfZ7wfd/vz2ZG2K8QO
 CUnVwxkHiOtb1zxtGFiyVexxhSxlN1PKYozuHlvey70qSql+cjnPzXUp4BkviDWcKm03
 HyvU2Y+rAe/mpKDcAVW3dDd/q1TDVxmnFXURpeZH7IYKmvrXaZx0CcyQU4klwBiIyfm0
 m9vQ==
X-Gm-Message-State: AOJu0YyLvZtFNIu7HL9CxI9gWJ/KZ3971H/2aTIboyP/Rl2MaxayDLdZ
 LJCoqhDMTjKU+jLwcPfYGGicZ8hZljZWVIM5dMGzsNgJiXF+XTxg64FRQlK/49X5JgZusEJ+4V8
 SjWBa8Axx3mTZzGQgwidauQq/L+k6MUbFg6YEdg9/1PurDTnacjYi3zDz
X-Google-Smtp-Source: AGHT+IG/WJIdoF/zEEmHpR9ezE6rr4K56FUbprVnsS4TMmiXT1ST0ALcwscUZwprAPX7GlH/9idKR0+LLrMJ
X-Received: by 2002:a17:902:e844:b0:1fc:544d:4e2b with SMTP id
 d9443c01a7336-1fd7457c94cmr58663505ad.33.1721649028444; 
 Mon, 22 Jul 2024 04:50:28 -0700 (PDT)
Received: from postal.iol.unh.edu (postal.iol.unh.edu.
 [2606:4100:3880:1234::84]) by smtp-relay.gmail.com with ESMTPS id
 d9443c01a7336-1fd6f31a6fesm2364745ad.112.2024.07.22.04.50.28
 (version=TLS1_2 cipher=ECDHE-ECDSA-AES128-GCM-SHA256 bits=128/128);
 Mon, 22 Jul 2024 04:50:28 -0700 (PDT)
X-Relaying-Domain: iol.unh.edu
Date: Mon, 22 Jul 2024 04:50:28 -0700 (PDT)
Message-ID: <669e4784.170a0220.302e80.d315SMTPIN_ADDED_MISSING@mx.google.com>
Received: from [172.21.0.8] (unknown [172.18.0.240])
 by postal.iol.unh.edu (Postfix) with ESMTP id A4D306052500;
 Mon, 22 Jul 2024 07:50:27 -0400 (EDT)
Subject: |PENDING| pw142579-142581 [PATCH] [v4,3/3] net/ice: fix return value
From: dpdklab@iol.unh.edu
To: Test Report <test-report@dpdk.org>
Cc: dpdk-test-reports@iol.unh.edu
In-Reply-To: <20240722105950.199804-3-vladimir.medvedkin@intel.com>
References: <20240722105950.199804-3-vladimir.medvedkin@intel.com>
Content-Type: text/plain
X-BeenThere: test-report@dpdk.org
X-Mailman-Version: 2.1.29
Precedence: list
List-Id: automatic DPDK test reports <test-report.dpdk.org>
List-Unsubscribe: <https://mails.dpdk.org/options/test-report>,
 <mailto:test-report-request@dpdk.org?subject=unsubscribe>
List-Archive: <http://mails.dpdk.org/archives/test-report/>
List-Post: <mailto:test-report@dpdk.org>
List-Help: <mailto:test-report-request@dpdk.org?subject=help>
List-Subscribe: <https://mails.dpdk.org/listinfo/test-report>,
 <mailto:test-report-request@dpdk.org?subject=subscribe>
Errors-To: test-report-bounces@dpdk.org

Test-Label: iol-abi-testing
Test-Status: PENDING
http://dpdk.org/patch/142581

_Testing pending_

Submitter: Medvedkin, Vladimir <vladimir.medvedkin@intel.com>
Date: Monday, July 22 2024 10:59:50 
DPDK git baseline: Repo:dpdk
  Branch: master
  CommitID:fa8d2f7f28524a6c8defa3dcd94f5aa131aae084

142579-142581 --> testing pending

Upstream job id: Generic-DPDK-Compile-ABI#99665

Test environment and result as below:

+-------------------+----------+
|    Environment    | abi_test |
+===================+==========+
| CentOS Stream 8   | PASS     |
+-------------------+----------+
| Fedora 38 (Clang) | PASS     |
+-------------------+----------+
| Fedora 37         | PEND     |
+-------------------+----------+
| Debian 12         | PASS     |
+-------------------+----------+
| CentOS Stream 9   | PEND     |
+-------------------+----------+
| Debian Bullseye   | PEND     |
+-------------------+----------+
| Fedora 39 (Clang) | PEND     |
+-------------------+----------+
| Fedora 39         | PEND     |
+-------------------+----------+
| Fedora 38         | PEND     |
+-------------------+----------+
| Fedora 40         | PASS     |
+-------------------+----------+
| openSUSE Leap 15  | PASS     |
+-------------------+----------+
| Fedora 40 (Clang) | PASS     |
+-------------------+----------+
| RHEL8             | PEND     |
+-------------------+----------+
| Ubuntu 22.04      | PEND     |
+-------------------+----------+
| RHEL9             | PEND     |
+-------------------+----------+
| Ubuntu 24.04      | PEND     |
+-------------------+----------+


CentOS Stream 8
	Kernel: 5.4.0-167-generic
	Compiler: gcc 8.5.0 20210514

Fedora 38 (Clang)
	Kernel: Depends on container host
	Compiler: clang 16.0.6

Fedora 37
	Kernel: Depends on container host system
	Compiler: gcc 12.3.1

Debian 12
	Kernel: Container Host Kernel
	Compiler: gcc 12.2.0

CentOS Stream 9
	Kernel: 5.4.0-167-generic
	Compiler: gcc 11.4.1 20230605

Debian Bullseye
	Kernel: 5.4.0-167-generic
	Compiler: gcc 10.2.1-6

Fedora 39 (Clang)
	Kernel: Depends on container host
	Compiler: clang 17.0.6

Fedora 39
	Kernel: Depends on container host
	Compiler: gcc 13.2.1

Fedora 38
	Kernel: Depends on container host
	Compiler: gcc 13.2.1

Fedora 40
	Kernel: Depends on container host
	Compiler: gcc 14.1.1

openSUSE Leap 15
	Kernel: 5.4.0-167-generic
	Compiler: gcc 7.5.0

Fedora 40 (Clang)
	Kernel: Depends on container host
	Compiler: clang 18.1.6

RHEL8
	Kernel: 5.4.0-167-generic
	Compiler: gcc 8.5.0 20210514 (Red Hat 8.5.0-20)

Ubuntu 22.04
	Kernel: 5.4.0-167-generic
	Compiler: gcc 11.4.0

RHEL9
	Kernel: Depends on container host
	Compiler: gcc 11.4.1

Ubuntu 24.04
	Kernel: 5.4.0-167-generic
	Compiler: gcc 13.2.0

To view detailed results, visit:
https://lab.dpdk.org/results/dashboard/patchsets/30574/

UNH-IOL DPDK Community Lab

To manage your email subscriptions, visit: 
https://lab.dpdk.org/results/dashboard/preferences/subscriptions/