From mboxrd@z Thu Jan  1 00:00:00 1970
Return-Path: <test-report-bounces@dpdk.org>
Received: from mails.dpdk.org (mails.dpdk.org [217.70.189.124])
	by inbox.dpdk.org (Postfix) with ESMTP id 08EF845681
	for <public@inbox.dpdk.org>; Mon, 22 Jul 2024 14:12:26 +0200 (CEST)
Received: from mails.dpdk.org (localhost [127.0.0.1])
	by mails.dpdk.org (Postfix) with ESMTP id B4FE440285;
	Mon, 22 Jul 2024 14:12:25 +0200 (CEST)
Received: from mail-oo1-f98.google.com (mail-oo1-f98.google.com
 [209.85.161.98]) by mails.dpdk.org (Postfix) with ESMTP id 63D3D400D7
 for <test-report@dpdk.org>; Mon, 22 Jul 2024 14:09:57 +0200 (CEST)
Received: by mail-oo1-f98.google.com with SMTP id
 006d021491bc7-5c74f6e5432so1696333eaf.3
 for <test-report@dpdk.org>; Mon, 22 Jul 2024 05:09:57 -0700 (PDT)
DKIM-Signature: v=1; a=rsa-sha256; c=relaxed/relaxed;
 d=iol.unh.edu; s=unh-iol; t=1721650196; x=1722254996; darn=dpdk.org;
 h=references:in-reply-to:cc:to:from:subject:message-id:date:from:to
 :cc:subject:date:message-id:reply-to;
 bh=fA/eI2GL+mxEaonaxVB1C6coPASOslhHPHETiyYsjWA=;
 b=e9fzZd0risbaNAAVauGvAeQEpURRhvQ7IjSyv2hlymNuVhEUu3D8C8VS4Ry1OO2GQc
 MYK3YAnRoQcN9sSG3LGO7+cRd7MpicJr+uXQLFz4Cc4PMwPiyVw9SvJrQdPvKz/sIOzg
 xaIrL5Z4PNZJcU811qc2rKzdHGMTHXmuDb/dQ=
X-Google-DKIM-Signature: v=1; a=rsa-sha256; c=relaxed/relaxed;
 d=1e100.net; s=20230601; t=1721650196; x=1722254996;
 h=references:in-reply-to:cc:to:from:subject:message-id:date
 :x-gm-message-state:from:to:cc:subject:date:message-id:reply-to;
 bh=fA/eI2GL+mxEaonaxVB1C6coPASOslhHPHETiyYsjWA=;
 b=cdLpRMghzxvAbu+iyFeYcAk+kIGo5xtc5Uc/1PH0HILCZCevk8hnd97cOJEdnJ228M
 2tzRda/a4RTR0NvkTxt7RAYpkZlVQH/qbY1XhjLOqFZlpoHfbjD3vL6wBKKBX8wMez3h
 NmH2Yv+07Nwrg+r4k2llzv6ECGZ3BbVGScZpCeK+WAzv1wXkBGTIMzRNuF3nUuTM354t
 GrxNsihniaP8TQ0FAg5huosmYzIVuSXj0eRoZPQkYmnh1pY7HJOX9HZTOrIclrNNnJjk
 XDLAN4GfhHcCDCKy/TxMX6JF4dtTpZBB2S4TOSBSocw2wu5QyCIJaWeNjBMUeHO8KHjL
 z4Yw==
X-Gm-Message-State: AOJu0YzZ3wennWUaPS92RHabeGTpo12WidFlZDdYvV4Ny1FbVxxdmjJm
 9CjaoOdlTvKTixzuANBKOif5IMjrbgRIs00bxwUU1y6yGHisDOzZcrEa2i5KqhHIzjQgbbV9OSh
 y5qEFXFHZ/xCtWH/NpZSQbeJLh2u/1LiA3GYjvsC3
X-Google-Smtp-Source: AGHT+IGKn1bUyH0y4B4zHqVj6Fr/ECsXvBkpscXkJ9JZYiKunDE3w95+UiBXl0D253TWXKQrwuBDptIl0UB6
X-Received: by 2002:a05:6358:6f8e:b0:1aa:d1a6:3b78 with SMTP id
 e5c5f4694b2df-1acc592316bmr393936655d.0.1721650196473; 
 Mon, 22 Jul 2024 05:09:56 -0700 (PDT)
Received: from postal.iol.unh.edu (postal.iol.unh.edu. [132.177.123.84])
 by smtp-relay.gmail.com with ESMTPS id
 41be03b00d2f7-7a12fb55061sm159971a12.1.2024.07.22.05.09.56
 (version=TLS1_2 cipher=ECDHE-ECDSA-AES128-GCM-SHA256 bits=128/128);
 Mon, 22 Jul 2024 05:09:56 -0700 (PDT)
X-Relaying-Domain: iol.unh.edu
Date: Mon, 22 Jul 2024 05:09:56 -0700 (PDT)
Message-ID: <669e4c14.630a0220.72f77.8de3SMTPIN_ADDED_MISSING@mx.google.com>
Received: from [172.21.0.8] (unknown [172.18.0.240])
 by postal.iol.unh.edu (Postfix) with ESMTP id B283F6052500;
 Mon, 22 Jul 2024 08:09:55 -0400 (EDT)
Subject: |PENDING| pw142579-142581 [PATCH] [v4,3/3] net/ice: fix return value
From: dpdklab@iol.unh.edu
To: Test Report <test-report@dpdk.org>
Cc: dpdk-test-reports@iol.unh.edu
In-Reply-To: <20240722105950.199804-3-vladimir.medvedkin@intel.com>
References: <20240722105950.199804-3-vladimir.medvedkin@intel.com>
Content-Type: text/plain
X-BeenThere: test-report@dpdk.org
X-Mailman-Version: 2.1.29
Precedence: list
List-Id: automatic DPDK test reports <test-report.dpdk.org>
List-Unsubscribe: <https://mails.dpdk.org/options/test-report>,
 <mailto:test-report-request@dpdk.org?subject=unsubscribe>
List-Archive: <http://mails.dpdk.org/archives/test-report/>
List-Post: <mailto:test-report@dpdk.org>
List-Help: <mailto:test-report-request@dpdk.org?subject=help>
List-Subscribe: <https://mails.dpdk.org/listinfo/test-report>,
 <mailto:test-report-request@dpdk.org?subject=subscribe>
Errors-To: test-report-bounces@dpdk.org

Test-Label: iol-compile-arm64-testing
Test-Status: PENDING
http://dpdk.org/patch/142581

_Testing pending_

Submitter: Medvedkin, Vladimir <vladimir.medvedkin@intel.com>
Date: Monday, July 22 2024 10:59:50 
DPDK git baseline: Repo:dpdk
  Branch: master
  CommitID:fa8d2f7f28524a6c8defa3dcd94f5aa131aae084

142579-142581 --> testing pending

Upstream job id: Generic-DPDK-Compile-Meson#277556

Test environment and result as below:

+----------------------------------------+--------------------+
|              Environment               | dpdk_meson_compile |
+========================================+====================+
| Ubuntu 20.04 ARM GCC Cross Compile     | PEND               |
+----------------------------------------+--------------------+
| Ubuntu 20.04 ARM SVE                   | PASS               |
+----------------------------------------+--------------------+
| Debian 12 with MUSDK                   | PASS               |
+----------------------------------------+--------------------+
| Fedora 37 (ARM)                        | PASS               |
+----------------------------------------+--------------------+
| Fedora 39 (ARM Clang)                  | PEND               |
+----------------------------------------+--------------------+
| Fedora 40 (ARM)                        | PASS               |
+----------------------------------------+--------------------+
| Fedora 39 (ARM)                        | PASS               |
+----------------------------------------+--------------------+
| Fedora 38 (ARM)                        | PASS               |
+----------------------------------------+--------------------+
| Fedora 38 (ARM Clang)                  | PEND               |
+----------------------------------------+--------------------+
| Ubuntu 20.04 (ARM)                     | PASS               |
+----------------------------------------+--------------------+
| Ubuntu 24.04 (ARM)                     | PASS               |
+----------------------------------------+--------------------+
| Ubuntu 22.04 (ARM)                     | PASS               |
+----------------------------------------+--------------------+
| Fedora 40 (ARM Clang)                  | PEND               |
+----------------------------------------+--------------------+
| Debian 11 (Buster) (ARM)               | PASS               |
+----------------------------------------+--------------------+
| CentOS Stream 9 (ARM)                  | PEND               |
+----------------------------------------+--------------------+
| Ubuntu 20.04 ARM Clang Cross Compile   | PEND               |
+----------------------------------------+--------------------+
| Debian 12 (arm)                        | PEND               |
+----------------------------------------+--------------------+
| Ubuntu 20.04 aarch32 GCC Cross Compile | PEND               |
+----------------------------------------+--------------------+


Ubuntu 20.04 ARM GCC Cross Compile
	Kernel: 5.4.0-167-generic
	Compiler: aarch64-linux-gnu-gcc (Ubuntu 9.4.0-1ubuntu1~20.04.2) 9.4.0

Ubuntu 20.04 ARM SVE
	Kernel: 5.4.0-167-generic
	Compiler: gcc (Ubuntu 10.5.0-1ubuntu1~20.04) 10.5.0

Debian 12 with MUSDK
	Kernel: Container Host Kernel
	Compiler: gcc 12.2.0

Fedora 37 (ARM)
	Kernel: Depends on container host
	Compiler: gcc 12.3.1

Fedora 39 (ARM Clang)
	Kernel: Depends on container host
	Compiler: clang 17.0.6

Fedora 40 (ARM)
	Kernel: Depends on container host
	Compiler: gcc 14.1.1

Fedora 39 (ARM)
	Kernel: Depends on container host
	Compiler: gcc 13.2.1

Fedora 38 (ARM)
	Kernel: Depends on container host
	Compiler: gcc 13.2.1

Fedora 38 (ARM Clang)
	Kernel: Depends on container host
	Compiler: clang 16.0.6

Ubuntu 20.04 (ARM)
	Kernel: Container Host Kernel
	Compiler: gcc 9.4.0

Ubuntu 24.04 (ARM)
	Kernel: 5.4.0-167-generic
	Compiler: gcc 13.2.0

Ubuntu 22.04 (ARM)
	Kernel: Container Host Kernel
	Compiler: gcc 11.4.0

Fedora 40 (ARM Clang)
	Kernel: Depends on container host
	Compiler: clang 18.1.6

Debian 11 (Buster) (ARM)
	Kernel: Container Host Kernel
	Compiler: gcc 10.2.1

CentOS Stream 9 (ARM)
	Kernel: Container Host Kernel
	Compiler: gcc 11.4.1

Ubuntu 20.04 ARM Clang Cross Compile
	Kernel: 5.4.0-72-generic
	Compiler: clang 10.0.0-4ubuntu1

Debian 12 (arm)
	Kernel: Container Host Kernel
	Compiler: gcc 12.2.0

Ubuntu 20.04 aarch32 GCC Cross Compile
	Kernel: 5.4.0-167-generic
	Compiler: gcc 9.4.0

To view detailed results, visit:
https://lab.dpdk.org/results/dashboard/patchsets/30574/

UNH-IOL DPDK Community Lab

To manage your email subscriptions, visit: 
https://lab.dpdk.org/results/dashboard/preferences/subscriptions/